BEGIN:VCALENDAR
VERSION:2.0
PRODID:-//Buddha-Haus München - ECPv6.15.20//NONSGML v1.0//EN
CALSCALE:GREGORIAN
METHOD:PUBLISH
X-WR-CALNAME:Buddha-Haus München
X-ORIGINAL-URL:https://buddhahaus-muenchen.de
X-WR-CALDESC:Veranstaltungen für Buddha-Haus München
REFRESH-INTERVAL;VALUE=DURATION:PT1H
X-Robots-Tag:noindex
X-PUBLISHED-TTL:PT1H
BEGIN:VTIMEZONE
TZID:Europe/Berlin
BEGIN:DAYLIGHT
TZOFFSETFROM:+0100
TZOFFSETTO:+0200
TZNAME:CEST
DTSTART:20230326T010000
END:DAYLIGHT
BEGIN:STANDARD
TZOFFSETFROM:+0200
TZOFFSETTO:+0100
TZNAME:CET
DTSTART:20231029T010000
END:STANDARD
BEGIN:DAYLIGHT
TZOFFSETFROM:+0100
TZOFFSETTO:+0200
TZNAME:CEST
DTSTART:20240331T010000
END:DAYLIGHT
BEGIN:STANDARD
TZOFFSETFROM:+0200
TZOFFSETTO:+0100
TZNAME:CET
DTSTART:20241027T010000
END:STANDARD
BEGIN:DAYLIGHT
TZOFFSETFROM:+0100
TZOFFSETTO:+0200
TZNAME:CEST
DTSTART:20250330T010000
END:DAYLIGHT
BEGIN:STANDARD
TZOFFSETFROM:+0200
TZOFFSETTO:+0100
TZNAME:CET
DTSTART:20251026T010000
END:STANDARD
END:VTIMEZONE
BEGIN:VEVENT
DTSTART;TZID=Europe/Berlin:20240707T093000
DTEND;TZID=Europe/Berlin:20240707T120000
DTSTAMP:20260424T205253
CREATED:20230915T084834Z
LAST-MODIFIED:20240104T205429Z
UID:36242-1720344600-1720353600@buddhahaus-muenchen.de
SUMMARY:Monika Grett: „Zeit für dich Selbst“ Yoga und Meditation
DESCRIPTION:„Zeit für dich SELBST“ Workshops mit Yoga und Meditation Asana – Karana – Pranayama – Mantra- Mudra- Entspannung- Meditation \nSamstag\, Hl. Dreikönig 06. Januar 2024 – Online\nBewusst das neue Jahr beginnen | „Ganesha“ öffnet Türen\, schenkt Glück\, Erfolg… \nSonntag\, 25. Februar 2024 – Online\nHatha und Kundalini Yoga & YIN „Reise durch alle Chakren“ \nSonntag\, 07. Juli 2024\nSommer – Genießen/Fülle | Element Erde: Aktivität\, Freude\, Leichtigkeit (Muladara/Manipura Chakra) \nSamstag\, 16. November 2024\nEinstimmung Winter –Zeit der Ruhe und Besinnung | Element Wasser: Einkehr\, Konzentration\, Meditation (Muladhara/ Svadisthana Chakra) „YIN-YANG Yoga“ \nKosten: 30 €\nOrgagebühr: 5 €\nDana: freiwillige Spende für LehrerIn und das Buddha-Haus München \n 
URL:https://buddhahaus-muenchen.de/event/monika-grett-zeit-fuer-dich-selbst-yoga-und-meditation-2024-07-07-2024-07-07/
LOCATION:Buddha-Haus München
CATEGORIES:Online,Yoga
ATTACH;FMTTYPE=image/jpeg:https://buddhahaus-muenchen.de/wp-content/uploads/2022/09/Monika_klein-6-scaled.jpg
END:VEVENT
END:VCALENDAR