BEGIN:VCALENDAR
VERSION:2.0
PRODID:-//Buddha-Haus München - ECPv6.15.16.1//NONSGML v1.0//EN
CALSCALE:GREGORIAN
METHOD:PUBLISH
X-WR-CALNAME:Buddha-Haus München
X-ORIGINAL-URL:https://buddhahaus-muenchen.de
X-WR-CALDESC:Veranstaltungen für Buddha-Haus München
REFRESH-INTERVAL;VALUE=DURATION:PT1H
X-Robots-Tag:noindex
X-PUBLISHED-TTL:PT1H
BEGIN:VTIMEZONE
TZID:Europe/Berlin
BEGIN:DAYLIGHT
TZOFFSETFROM:+0100
TZOFFSETTO:+0200
TZNAME:CEST
DTSTART:20230326T010000
END:DAYLIGHT
BEGIN:STANDARD
TZOFFSETFROM:+0200
TZOFFSETTO:+0100
TZNAME:CET
DTSTART:20231029T010000
END:STANDARD
BEGIN:DAYLIGHT
TZOFFSETFROM:+0100
TZOFFSETTO:+0200
TZNAME:CEST
DTSTART:20240331T010000
END:DAYLIGHT
BEGIN:STANDARD
TZOFFSETFROM:+0200
TZOFFSETTO:+0100
TZNAME:CET
DTSTART:20241027T010000
END:STANDARD
BEGIN:DAYLIGHT
TZOFFSETFROM:+0100
TZOFFSETTO:+0200
TZNAME:CEST
DTSTART:20250330T010000
END:DAYLIGHT
BEGIN:STANDARD
TZOFFSETFROM:+0200
TZOFFSETTO:+0100
TZNAME:CET
DTSTART:20251026T010000
END:STANDARD
END:VTIMEZONE
BEGIN:VEVENT
DTSTART;TZID=Europe/Berlin:20240914T093000
DTEND;TZID=Europe/Berlin:20240915T123000
DTSTAMP:20260424T125422
CREATED:20231205T094503Z
LAST-MODIFIED:20231205T094503Z
UID:35785-1726306200-1726403400@buddhahaus-muenchen.de
SUMMARY:Heinz Roiger: Das Geschenk der Meditation – unsere innere Quelle und Heim | Kurs 26
DESCRIPTION:Die meditativen Vertiefungsstufen (Jhanas) werden uns begleiten und zum Erkennen unserer individuellen / inneren Heims\, sowie der universellen Existenz führen. Das wird uns zu einem liebevollen und weisen Umgang mit Emotionen und Ängsten führen und unseren Lebensfluss ins Gleichgewicht bringen. Ruhe und Einsicht werden uns in einem freudvollen Sein mit den Dingen unterstützen. \nEs wird die Möglichkeit zu Einzel- und Gruppengesprächen geben. \nKursgebühr: 60 €\nOrga-Gebühr: 25 €\nDana für den Lehrer und das Buddha-Haus München
URL:https://buddhahaus-muenchen.de/event/heinz-roiger-das-geschenk-der-meditation-unsere-innere-quelle-und-heim-kurs-26/
LOCATION:Buddha-Haus München
CATEGORIES:Besonders geeignete Wochenendkurse,Wochenendseminare
ATTACH;FMTTYPE=image/jpeg:https://buddhahaus-muenchen.de/wp-content/uploads/2021/11/heinz_web.jpg
END:VEVENT
END:VCALENDAR