BEGIN:VCALENDAR
VERSION:2.0
PRODID:-//Buddha-Haus München - ECPv6.15.20//NONSGML v1.0//EN
CALSCALE:GREGORIAN
METHOD:PUBLISH
X-WR-CALNAME:Buddha-Haus München
X-ORIGINAL-URL:https://buddhahaus-muenchen.de
X-WR-CALDESC:Veranstaltungen für Buddha-Haus München
REFRESH-INTERVAL;VALUE=DURATION:PT1H
X-Robots-Tag:noindex
X-PUBLISHED-TTL:PT1H
BEGIN:VTIMEZONE
TZID:Europe/Berlin
BEGIN:DAYLIGHT
TZOFFSETFROM:+0100
TZOFFSETTO:+0200
TZNAME:CEST
DTSTART:20230326T010000
END:DAYLIGHT
BEGIN:STANDARD
TZOFFSETFROM:+0200
TZOFFSETTO:+0100
TZNAME:CET
DTSTART:20231029T010000
END:STANDARD
BEGIN:DAYLIGHT
TZOFFSETFROM:+0100
TZOFFSETTO:+0200
TZNAME:CEST
DTSTART:20240331T010000
END:DAYLIGHT
BEGIN:STANDARD
TZOFFSETFROM:+0200
TZOFFSETTO:+0100
TZNAME:CET
DTSTART:20241027T010000
END:STANDARD
BEGIN:DAYLIGHT
TZOFFSETFROM:+0100
TZOFFSETTO:+0200
TZNAME:CEST
DTSTART:20250330T010000
END:DAYLIGHT
BEGIN:STANDARD
TZOFFSETFROM:+0200
TZOFFSETTO:+0100
TZNAME:CET
DTSTART:20251026T010000
END:STANDARD
END:VTIMEZONE
BEGIN:VEVENT
DTSTART;TZID=Europe/Berlin:20241012T090000
DTEND;TZID=Europe/Berlin:20241013T130000
DTSTAMP:20260424T153519
CREATED:20230818T125037Z
LAST-MODIFIED:20230818T125108Z
UID:33154-1728723600-1728824400@buddhahaus-muenchen.de
SUMMARY:Charlie Pils: Karma - Im Rad von Geburt und Tod | Kurs 40
DESCRIPTION:Der Bedeutung von Karma liegt das tiefgründige\, vielschichtige\, schwer zu durchschauende Gesetz von Ursache und Wirkung zugrunde. Wir untersuchen die Fragen: \nWoher komme ich – wohin gehe ich – wer bin ich \nWas ist die Bedeutung von Wiedergeburt? \nWir untersuchen die bedingte Entstehungskette\, die im „Rad von Geburt und Tod“ illustriert ist. \nAchtsamkeit und Wissensklarheit haben die Macht\, unheilsame karmische Kräfte zu überwinden und heilsame karmische Kräfte zu erwecken. Nur du selbst kannst das Ende der Wiedergeburten in den Welten der Unwissenheit\, der Ängste der Freud- und Lieblosigkeit\, verwirklichen – immer Jetzt. \nKursgebühr: 60 €\nOrgagebühr: 25 €\nDana für den Lehrer und das Buddha-Haus München
URL:https://buddhahaus-muenchen.de/event/charlie-pils-karma-im-rad-von-geburt-und-tod-kurs-40/
LOCATION:Buddha-Haus München
CATEGORIES:Wochenendseminare
ATTACH;FMTTYPE=image/jpeg:https://buddhahaus-muenchen.de/wp-content/uploads/2021/11/charlie_Kachel01.jpg
END:VEVENT
BEGIN:VEVENT
DTSTART;TZID=Europe/Berlin:20241013T180000
DTEND;TZID=Europe/Berlin:20241013T193000
DTSTAMP:20260424T153519
CREATED:20230915T094404Z
LAST-MODIFIED:20241014T112051Z
UID:34167-1728842400-1728847800@buddhahaus-muenchen.de
SUMMARY:Fariba Peykan: Frieden finden in einer lauten Welt | Kurs 46
DESCRIPTION:Wir leben in einer Zeit großer Veränderungen. Täglich erreichen uns neue Nachrichten von zwischenmenschlichen Konflikten und Naturkatastrophen. Wie können wir mit dieser Unsicherheit umgehen? In diesem Kurs schauen wir uns an\, wie wir durch die Meditation basierend auf den Lehren des Buddha immer wieder in unsere Präsenz finden können. Bei uns selbst angekommen können wir Ruhe und Frieden finden und damit hilfreich für uns selbst und andere sein. \n  \nKursgebühr: 90 € für 10 Abende\nDana für die Lehrerin und das Buddha-Haus München
URL:https://buddhahaus-muenchen.de/event/fariba-peykan-frieden-finden-in-einer-lauten-welt-kurs-46/2024-10-13/
LOCATION:Buddha-Haus München
CATEGORIES:Besonders geeignete Wochenendkurse,Meditationskurse unter der Woche
ATTACH;FMTTYPE=image/jpeg:https://buddhahaus-muenchen.de/wp-content/uploads/2023/08/Fariba-1-scaled.jpg
END:VEVENT
END:VCALENDAR