BEGIN:VCALENDAR
VERSION:2.0
PRODID:-//Buddha-Haus München - ECPv6.15.20//NONSGML v1.0//EN
CALSCALE:GREGORIAN
METHOD:PUBLISH
X-WR-CALNAME:Buddha-Haus München
X-ORIGINAL-URL:https://buddhahaus-muenchen.de
X-WR-CALDESC:Veranstaltungen für Buddha-Haus München
REFRESH-INTERVAL;VALUE=DURATION:PT1H
X-Robots-Tag:noindex
X-PUBLISHED-TTL:PT1H
BEGIN:VTIMEZONE
TZID:Europe/Berlin
BEGIN:DAYLIGHT
TZOFFSETFROM:+0100
TZOFFSETTO:+0200
TZNAME:CEST
DTSTART:20230326T010000
END:DAYLIGHT
BEGIN:STANDARD
TZOFFSETFROM:+0200
TZOFFSETTO:+0100
TZNAME:CET
DTSTART:20231029T010000
END:STANDARD
BEGIN:DAYLIGHT
TZOFFSETFROM:+0100
TZOFFSETTO:+0200
TZNAME:CEST
DTSTART:20240331T010000
END:DAYLIGHT
BEGIN:STANDARD
TZOFFSETFROM:+0200
TZOFFSETTO:+0100
TZNAME:CET
DTSTART:20241027T010000
END:STANDARD
BEGIN:DAYLIGHT
TZOFFSETFROM:+0100
TZOFFSETTO:+0200
TZNAME:CEST
DTSTART:20250330T010000
END:DAYLIGHT
BEGIN:STANDARD
TZOFFSETFROM:+0200
TZOFFSETTO:+0100
TZNAME:CET
DTSTART:20251026T010000
END:STANDARD
END:VTIMEZONE
BEGIN:VEVENT
DTSTART;TZID=Europe/Berlin:20241104T190000
DTEND;TZID=Europe/Berlin:20241104T210000
DTSTAMP:20260424T170831
CREATED:20231204T161141Z
LAST-MODIFIED:20241105T164147Z
UID:35759-1730746800-1730754000@buddhahaus-muenchen.de
SUMMARY:Heinz Roiger: Vom Kopf zum Herz
DESCRIPTION:Die Abende laden ein zu authentischer Begegnung mit sich\, zu Freude an unserer Lebendigkeit\, zu Stille im einfachen da – sein\, zu Anregungen für Vertiefung oder Neuorientierung in unserem Leben. Zeit für innehalten\, alltagsnahe Rückbesinnung und Schaffen von Raum für die Ausrichtung auf das Wesentliche\, sowie intensive Begegnung mit sich selbst und Austausch mit anderen Menschen. \nEs wird die Möglichkeit zu Einzel- und Gruppengesprächen geben. \n7 Abende / Termine und Themen:\n1) 04.11. – Die Ebenen des Glücks – der stressfreie Weg\n2) 11.11. – Das Leben darf auch leicht sein\n3) 18.11. – Was macht es uns schwierig?\n4) 25.11. – Ruhe – durch Meditation\n5) 02.12. – Ruhe – durch Einsicht\n6) 09.12. – Emotionen heilen (Die emotionale Infektion)\n7) 16.12. – Vertrauen – Liebe – Licht – Hingabe \nKursgebühr: 70€\nDana: freiwillige Spende für LehrerIn und das Buddha-Haus München
URL:https://buddhahaus-muenchen.de/event/heinz-roiger-vom-kopf-zum-herz/2024-11-04/
LOCATION:Buddha-Haus München
CATEGORIES:Meditationskurse unter der Woche,Offene Meditationsabende
ATTACH;FMTTYPE=image/jpeg:https://buddhahaus-muenchen.de/wp-content/uploads/2021/11/heinz_web.jpg
END:VEVENT
END:VCALENDAR