BEGIN:VCALENDAR
VERSION:2.0
PRODID:-//Buddha-Haus München - ECPv6.15.20//NONSGML v1.0//EN
CALSCALE:GREGORIAN
METHOD:PUBLISH
X-WR-CALNAME:Buddha-Haus München
X-ORIGINAL-URL:https://buddhahaus-muenchen.de
X-WR-CALDESC:Veranstaltungen für Buddha-Haus München
REFRESH-INTERVAL;VALUE=DURATION:PT1H
X-Robots-Tag:noindex
X-PUBLISHED-TTL:PT1H
BEGIN:VTIMEZONE
TZID:Europe/Berlin
BEGIN:DAYLIGHT
TZOFFSETFROM:+0100
TZOFFSETTO:+0200
TZNAME:CEST
DTSTART:20240331T010000
END:DAYLIGHT
BEGIN:STANDARD
TZOFFSETFROM:+0200
TZOFFSETTO:+0100
TZNAME:CET
DTSTART:20241027T010000
END:STANDARD
BEGIN:DAYLIGHT
TZOFFSETFROM:+0100
TZOFFSETTO:+0200
TZNAME:CEST
DTSTART:20250330T010000
END:DAYLIGHT
BEGIN:STANDARD
TZOFFSETFROM:+0200
TZOFFSETTO:+0100
TZNAME:CET
DTSTART:20251026T010000
END:STANDARD
BEGIN:DAYLIGHT
TZOFFSETFROM:+0100
TZOFFSETTO:+0200
TZNAME:CEST
DTSTART:20260329T010000
END:DAYLIGHT
BEGIN:STANDARD
TZOFFSETFROM:+0200
TZOFFSETTO:+0100
TZNAME:CET
DTSTART:20261025T010000
END:STANDARD
END:VTIMEZONE
BEGIN:VEVENT
DTSTART;TZID=Europe/Berlin:20250106T080000
DTEND;TZID=Europe/Berlin:20250106T084500
DTSTAMP:20260426T013224
CREATED:20241014T102339Z
LAST-MODIFIED:20250723T064158Z
UID:40512-1736150400-1736153100@buddhahaus-muenchen.de
SUMMARY:Online Morgenmeditation
DESCRIPTION:Wo auch immer ihr eure Morgen verbringt: wir laden euch zur Online-Morgenmeditation mit einer Hineinführung in die Stille Meditation via Zoom ein. Bitte nutze die Anmeldefunktion. Den Zugang zur Online-Meditation erhältst Du direkt im Anschluss per Email. \n\nAnleiter:\nMontag – Heinz Roiger\nDienstag – Rita Paulus\nMittwoch – Angelika Reintzsch\nDonnerstag – Romy Schlichting\nFreitag – David Schoch \nAnmeldung: Bitte nutze die Anmeldung. Den Zugang zur Online Meditation bekommst du im Anschluss direkt per Email!\nKosten: Dana: freiwillige Spende für LehrerIn und für das Meditationszentrum München
URL:https://buddhahaus-muenchen.de/event/morgenmeditation-online-5/2025-01-06/
LOCATION:Buddha-Haus München
CATEGORIES:Online
ATTACH;FMTTYPE=image/png:https://buddhahaus-muenchen.de/wp-content/uploads/2024/10/Muenchen-Web-Kursseite3.png
END:VEVENT
BEGIN:VEVENT
DTSTART;TZID=Europe/Berlin:20250106T093000
DTEND;TZID=Europe/Berlin:20250106T120000
DTSTAMP:20260426T013224
CREATED:20241003T101827Z
LAST-MODIFIED:20250103T174312Z
UID:40266-1736155800-1736164800@buddhahaus-muenchen.de
SUMMARY:Monika Grett: „Zeit für dich Selbst“ Yoga und Meditation
DESCRIPTION:„Zeit für dich SELBST“ Workshops mit Yoga und Meditation Asana – Karana – Pranayama – Mantra- Mudra- Entspannung- Meditation \n06.01.2025 Hl. Dreikönig\, Montag \nBewusst das neue Jahr beginnen / „Ganesha“ öffnet Türen\, überwindet Hindernisse\, schenkt Glück und Erfolg \nKursgebühr: 35 € (30\,00 € + 5\,00 € Orgagebühr)\nDana für die Lehrerin und das Buddha-Haus München
URL:https://buddhahaus-muenchen.de/event/monika-grett-zeit-fuer-dich-selbst-yoga-und-meditation-6/
LOCATION:Buddha-Haus München
CATEGORIES:Online,Yoga
ATTACH;FMTTYPE=image/jpeg:https://buddhahaus-muenchen.de/wp-content/uploads/2022/09/Monika_klein-6-scaled.jpg
END:VEVENT
END:VCALENDAR