BEGIN:VCALENDAR
VERSION:2.0
PRODID:-//Buddha-Haus München - ECPv6.15.20//NONSGML v1.0//EN
CALSCALE:GREGORIAN
METHOD:PUBLISH
X-WR-CALNAME:Buddha-Haus München
X-ORIGINAL-URL:https://buddhahaus-muenchen.de
X-WR-CALDESC:Veranstaltungen für Buddha-Haus München
REFRESH-INTERVAL;VALUE=DURATION:PT1H
X-Robots-Tag:noindex
X-PUBLISHED-TTL:PT1H
BEGIN:VTIMEZONE
TZID:Europe/Berlin
BEGIN:DAYLIGHT
TZOFFSETFROM:+0100
TZOFFSETTO:+0200
TZNAME:CEST
DTSTART:20240331T010000
END:DAYLIGHT
BEGIN:STANDARD
TZOFFSETFROM:+0200
TZOFFSETTO:+0100
TZNAME:CET
DTSTART:20241027T010000
END:STANDARD
BEGIN:DAYLIGHT
TZOFFSETFROM:+0100
TZOFFSETTO:+0200
TZNAME:CEST
DTSTART:20250330T010000
END:DAYLIGHT
BEGIN:STANDARD
TZOFFSETFROM:+0200
TZOFFSETTO:+0100
TZNAME:CET
DTSTART:20251026T010000
END:STANDARD
BEGIN:DAYLIGHT
TZOFFSETFROM:+0100
TZOFFSETTO:+0200
TZNAME:CEST
DTSTART:20260329T010000
END:DAYLIGHT
BEGIN:STANDARD
TZOFFSETFROM:+0200
TZOFFSETTO:+0100
TZNAME:CET
DTSTART:20261025T010000
END:STANDARD
END:VTIMEZONE
BEGIN:VEVENT
DTSTART;TZID=Europe/Berlin:20250221T153000
DTEND;TZID=Europe/Berlin:20250221T181500
DTSTAMP:20260424T180002
CREATED:20241111T133740Z
LAST-MODIFIED:20241112T133034Z
UID:41711-1740151800-1740161700@buddhahaus-muenchen.de
SUMMARY:Dr. Olga Bulinova: yogische Philosophie
DESCRIPTION:Ein Nachmittag mit Yoga Sutra von Patanjali abwechselnd mit dazu passenden yogischen Übungen und Meditation. Der Kurs bietet einen kurzen Einblick in das uralte yogische Werk\, das philosophische und psychologische Grundlagen des Yoga erklärt\, kombiniert mit körperlicher und meditativer Praxis in gut bemessenen Einheiten.\n \nTermine: \nFreitag 21.02. 15:30 – 18:15 Uhr – Schwerpunkt „Nadis\, Chakras und Pranayama in der Theorie und Praxis“ \nFreitag 11.07. 15:30-18:15 Uhr \nFreitag 28.11. 15:30 – 18:15 Uhr \nKursgebühr: 30 € / Termin\nOrga-Gebühr:  5 €\nDana: freie Spende für den Lehrer und für das Meditationszentrum München
URL:https://buddhahaus-muenchen.de/event/dr-olga-bulinova-yogische-philosophie-2/2025-02-21/
LOCATION:Buddha-Haus München
CATEGORIES:Yoga
ATTACH;FMTTYPE=image/jpeg:https://buddhahaus-muenchen.de/wp-content/uploads/2022/12/Olga-1-scaled.jpg
END:VEVENT
END:VCALENDAR