BEGIN:VCALENDAR
VERSION:2.0
PRODID:-//Buddha-Haus München - ECPv6.15.16.1//NONSGML v1.0//EN
CALSCALE:GREGORIAN
METHOD:PUBLISH
X-WR-CALNAME:Buddha-Haus München
X-ORIGINAL-URL:https://buddhahaus-muenchen.de
X-WR-CALDESC:Veranstaltungen für Buddha-Haus München
REFRESH-INTERVAL;VALUE=DURATION:PT1H
X-Robots-Tag:noindex
X-PUBLISHED-TTL:PT1H
BEGIN:VTIMEZONE
TZID:Europe/Berlin
BEGIN:DAYLIGHT
TZOFFSETFROM:+0100
TZOFFSETTO:+0200
TZNAME:CEST
DTSTART:20240331T010000
END:DAYLIGHT
BEGIN:STANDARD
TZOFFSETFROM:+0200
TZOFFSETTO:+0100
TZNAME:CET
DTSTART:20241027T010000
END:STANDARD
BEGIN:DAYLIGHT
TZOFFSETFROM:+0100
TZOFFSETTO:+0200
TZNAME:CEST
DTSTART:20250330T010000
END:DAYLIGHT
BEGIN:STANDARD
TZOFFSETFROM:+0200
TZOFFSETTO:+0100
TZNAME:CET
DTSTART:20251026T010000
END:STANDARD
BEGIN:DAYLIGHT
TZOFFSETFROM:+0100
TZOFFSETTO:+0200
TZNAME:CEST
DTSTART:20260329T010000
END:DAYLIGHT
BEGIN:STANDARD
TZOFFSETFROM:+0200
TZOFFSETTO:+0100
TZNAME:CET
DTSTART:20261025T010000
END:STANDARD
END:VTIMEZONE
BEGIN:VEVENT
DTSTART;TZID=Europe/Berlin:20250312T190000
DTEND;TZID=Europe/Berlin:20250312T210000
DTSTAMP:20260424T105900
CREATED:20240929T163734Z
LAST-MODIFIED:20241014T140628Z
UID:40166-1741806000-1741813200@buddhahaus-muenchen.de
SUMMARY:Charlie Pils: Anatta - Wer bin ich? - Wege der Selbsterforschung | Kurs K-2
DESCRIPTION:Der Weg der Selbsterforschung beginnt\, wenn du bereit bist\, dich für all deine Konditionierungen\, Gedanken und Gefühle zu öffnen. Damit beginnst du auch\, dein wunderbares geistiges Potenzial zu entdecken. Du beginnst\, deine veränderlichen Bewusstseins-zustände und Gemütsverfassungen zusammen mit einer ständig sich verändernden Selbstwahrnehmung und Wirklichkeit bewusst zu erleben. \nIn der Tiefe der Meditation ändert sich dein Standpunkt\, dein Erleben und Verstehen. Du beginnst\, dein „wahres Wesen“\, deinen „Herz-Geist“ zu entdecken. Wenn du lernst\, still zu Sein\, wirst du in reinem Da-Sein von einer natürlichen Gegenwärtigkeit\, Klarheit und Liebe durchdrungen sein. \nSo bist im Weg in ein Aufwachen in DAS\, was du zeitlos immer warst\, bist und sein wirst. \nStille und geleitete Meditationen – Mantrachanting – Vermittlung der Lehren\, Meditation und Praxis im Leben. Satsang: Fragen und Antworten aus dem Herzen. \nKursgebühr: 90 € für 10 Abende\nDana für den Lehrer und das Buddha-Haus München
URL:https://buddhahaus-muenchen.de/event/charlie-pils-anatta-wer-bin-ich-wege-der-selbsterforschung-kurs-k-2/2025-03-12/
LOCATION:Buddha-Haus München
CATEGORIES:Meditationskurse unter der Woche,Online
ATTACH;FMTTYPE=image/jpeg:https://buddhahaus-muenchen.de/wp-content/uploads/2021/11/charlie_Kachel01.jpg
END:VEVENT
END:VCALENDAR