BEGIN:VCALENDAR
VERSION:2.0
PRODID:-//Buddha-Haus München - ECPv6.15.16.1//NONSGML v1.0//EN
CALSCALE:GREGORIAN
METHOD:PUBLISH
X-WR-CALNAME:Buddha-Haus München
X-ORIGINAL-URL:https://buddhahaus-muenchen.de
X-WR-CALDESC:Veranstaltungen für Buddha-Haus München
REFRESH-INTERVAL;VALUE=DURATION:PT1H
X-Robots-Tag:noindex
X-PUBLISHED-TTL:PT1H
BEGIN:VTIMEZONE
TZID:Europe/Berlin
BEGIN:DAYLIGHT
TZOFFSETFROM:+0100
TZOFFSETTO:+0200
TZNAME:CEST
DTSTART:20240331T010000
END:DAYLIGHT
BEGIN:STANDARD
TZOFFSETFROM:+0200
TZOFFSETTO:+0100
TZNAME:CET
DTSTART:20241027T010000
END:STANDARD
BEGIN:DAYLIGHT
TZOFFSETFROM:+0100
TZOFFSETTO:+0200
TZNAME:CEST
DTSTART:20250330T010000
END:DAYLIGHT
BEGIN:STANDARD
TZOFFSETFROM:+0200
TZOFFSETTO:+0100
TZNAME:CET
DTSTART:20251026T010000
END:STANDARD
BEGIN:DAYLIGHT
TZOFFSETFROM:+0100
TZOFFSETTO:+0200
TZNAME:CEST
DTSTART:20260329T010000
END:DAYLIGHT
BEGIN:STANDARD
TZOFFSETFROM:+0200
TZOFFSETTO:+0100
TZNAME:CET
DTSTART:20261025T010000
END:STANDARD
END:VTIMEZONE
BEGIN:VEVENT
DTSTART;TZID=Europe/Berlin:20250324T184500
DTEND;TZID=Europe/Berlin:20250324T211500
DTSTAMP:20260424T035955
CREATED:20241003T141322Z
LAST-MODIFIED:20241014T141340Z
UID:40381-1742841900-1742850900@buddhahaus-muenchen.de
SUMMARY:Regina Erbach:  Stressreduktion durch Achtsamkeit (MBSR) | Kurs K-7
DESCRIPTION:Stress\, Ängste und Sorgen verschiedenster Art scheinen oft unsere ständigen Begleiter zu sein. Wir sind jedoch nicht machtlos dagegen! \nIn diesem Kurs lernen wir\, mit Hilfe von Meditation\, Körperübungen und Erkenntnissen aus der Stressforschung wieder den Zugang zu uns selbst zu finden – zu der inneren Ruhe\, Kraft und Lebensfreude\, die in uns schon immer natürlich vorhanden sind. Der Kurs wird von den gesetzlichen Krankenkassen bezuschusst; melden Sie sich gerne für ein unverbindliches persönliches Vorgespräch unter regina.erbach(at)posteo.de. \nMontags 24.03. – 19.05.25 jeweils um 18.45 – 21.15 Uhr             \nTag der Stille Samstag 10.05.25 \n(Kurspause am Ostermontag 21.04.) \nKursgebühr: 260 € (incl. Arbeitsbuch und Meditationsanleitungen auf CD/mp3)\nOrgagebühr: 50 €\nDana für die Lehrerin und das Buddha-Haus München
URL:https://buddhahaus-muenchen.de/event/regina-erbach-stressreduktion-durch-achtsamkeit-mbsr-kurs-k-7/2025-03-24/
LOCATION:Buddha-Haus München
CATEGORIES:MBSR
ATTACH;FMTTYPE=image/jpeg:https://buddhahaus-muenchen.de/wp-content/uploads/2019/11/Regina-Erbach.jpg
END:VEVENT
END:VCALENDAR