BEGIN:VCALENDAR
VERSION:2.0
PRODID:-//Buddha-Haus München - ECPv6.15.20//NONSGML v1.0//EN
CALSCALE:GREGORIAN
METHOD:PUBLISH
X-WR-CALNAME:Buddha-Haus München
X-ORIGINAL-URL:https://buddhahaus-muenchen.de
X-WR-CALDESC:Veranstaltungen für Buddha-Haus München
REFRESH-INTERVAL;VALUE=DURATION:PT1H
X-Robots-Tag:noindex
X-PUBLISHED-TTL:PT1H
BEGIN:VTIMEZONE
TZID:Europe/Berlin
BEGIN:DAYLIGHT
TZOFFSETFROM:+0100
TZOFFSETTO:+0200
TZNAME:CEST
DTSTART:20240331T010000
END:DAYLIGHT
BEGIN:STANDARD
TZOFFSETFROM:+0200
TZOFFSETTO:+0100
TZNAME:CET
DTSTART:20241027T010000
END:STANDARD
BEGIN:DAYLIGHT
TZOFFSETFROM:+0100
TZOFFSETTO:+0200
TZNAME:CEST
DTSTART:20250330T010000
END:DAYLIGHT
BEGIN:STANDARD
TZOFFSETFROM:+0200
TZOFFSETTO:+0100
TZNAME:CET
DTSTART:20251026T010000
END:STANDARD
BEGIN:DAYLIGHT
TZOFFSETFROM:+0100
TZOFFSETTO:+0200
TZNAME:CEST
DTSTART:20260329T010000
END:DAYLIGHT
BEGIN:STANDARD
TZOFFSETFROM:+0200
TZOFFSETTO:+0100
TZNAME:CET
DTSTART:20261025T010000
END:STANDARD
END:VTIMEZONE
BEGIN:VEVENT
DTSTART;TZID=Europe/Berlin:20250426T090000
DTEND;TZID=Europe/Berlin:20250427T130000
DTSTAMP:20260425T142104
CREATED:20240913T082306Z
LAST-MODIFIED:20240913T082306Z
UID:40006-1745658000-1745758800@buddhahaus-muenchen.de
SUMMARY:Norbert Wildgruber: Einfacher meditieren | Kurs W - 9
DESCRIPTION:Meditieren kann wieder einfacher und freudvoller werden! Anhand von aktuellen Erkenntnissen aus der genauen Beschäftigung mit wichtigen Original-Lehrreden des Buddha werden an diesem Wochenende die grundlegenden Meditationsmethoden („Atembetrachtung- Anapana Sati“\, „Stück für Stück“\, „ Body-Scan“\, „Gehmeditation“\, „ Metta-Liebende Güte“) ausführlich erklärt\, angeleitet und vor allem praktiziert. \n  \nKursgebühr: keine\, Lehrer unterrichtet gemäß Dana-Prinzip. Spendenempfehlung (20-25 €/Tag)\nOrga-Gebühr: 30 €\nDana für den Lehrer und für das Buddha-Haus München
URL:https://buddhahaus-muenchen.de/event/norbert-wildgruber-einfacher-meditieren-kurs-w-9/
LOCATION:Buddha-Haus München
CATEGORIES:Besonders geeignete Wochenendkurse,Wochenendseminare
ATTACH;FMTTYPE=image/jpeg:https://buddhahaus-muenchen.de/wp-content/uploads/2021/11/norbert_web.jpg
END:VEVENT
BEGIN:VEVENT
DTSTART;TZID=Europe/Berlin:20250426T180000
DTEND;TZID=Europe/Berlin:20250426T210000
DTSTAMP:20260425T142104
CREATED:20241220T080521Z
LAST-MODIFIED:20250401T202902Z
UID:42363-1745690400-1745701200@buddhahaus-muenchen.de
SUMMARY:9D Breathwork mit Teresa - “Die Kunst des Loslassens” | Kurs B1
DESCRIPTION:Was kannst du erwarten? \n„Die Kunst des Loslassens“ ist für alle geeignet\, die mit der Herausforderung des Loslassens zu kämpfen haben\, sei es aufgrund von schwierigen Ereignissen in der Vergangenheit\, Gefühlen des Unmuts oder Vorwürfen gegenüber sich selbst oder anderen. Durch Vergebung\, Selbstliebe\, Akzeptanz und Widerstandsfähigkeit werden wichtige Themen miteinander verknüpft und die persönliche Transformation vorangetrieben. Es schafft einen nährenden Raum für emotionale Stabilität\, Ruhe und ein erneutes inneres Gleichgewicht und bietet die Möglichkeit\, das eigene authentische Selbst wiederzuentdecken und sich mit sich selbst zu verbinden. \nHier sind ein paar Dinge\, die du bei der Vorbereitung auf die Sitzung beachten solltest: \n\nBring Wasser und dein Journal/Tagebuch mit\, wenn du eins besitzt\nTrage bequeme Kleidung tragen (Yoga-/Sportkleidung)\nEsse bitte nichts Schweres 1-2 Stunden vor der Sitzung\nNimm dir 2 Stunden nach der Sitzung nichts Anstrengendes vor (geistig oder körperlich)\nKonsumiere keinen Alkohol oder übermäßiger Zucker 24 Stunden vor der Sitzung\nBringe gerne deine eigene Yogamatte\, Decke und Kissen mit\, wenn du es dir lieber in deinen eigenen Sachen gemütlich machen willst\n\n\n\n\nKontraindikationen (Bei Fragen zu den Kontraindikationen kannst du mich gerne unter teresa.trieb@shebreath.com kontaktieren) \n\nHerz-Kreislauf-Erkrankungen\nChronische Atemwegserkrankungen\nPsychische Erkrankungen (z. B. Schizophrenie\, bipolare Störung -> PTBS und Depressionen sind keine Kontraindikation!!)\nSchwangerschaft\n\nKursgebühr: 35 €\nOrgagebühr: 5 €\nDana für die Lehrerinnen und das Buddha-Haus München \nNähere Infos: https://www.shebreath.com/
URL:https://buddhahaus-muenchen.de/event/9d-breathwork-mit-teresa-die-kunst-des-loslassens/
LOCATION:Buddha-Haus München
CATEGORIES:Spezielle Methoden
ATTACH;FMTTYPE=image/png:https://buddhahaus-muenchen.de/wp-content/uploads/2024/12/7.png
END:VEVENT
END:VCALENDAR