BEGIN:VCALENDAR
VERSION:2.0
PRODID:-//Buddha-Haus München - ECPv6.15.16.1//NONSGML v1.0//EN
CALSCALE:GREGORIAN
METHOD:PUBLISH
X-WR-CALNAME:Buddha-Haus München
X-ORIGINAL-URL:https://buddhahaus-muenchen.de
X-WR-CALDESC:Veranstaltungen für Buddha-Haus München
REFRESH-INTERVAL;VALUE=DURATION:PT1H
X-Robots-Tag:noindex
X-PUBLISHED-TTL:PT1H
BEGIN:VTIMEZONE
TZID:Europe/Berlin
BEGIN:DAYLIGHT
TZOFFSETFROM:+0100
TZOFFSETTO:+0200
TZNAME:CEST
DTSTART:20240331T010000
END:DAYLIGHT
BEGIN:STANDARD
TZOFFSETFROM:+0200
TZOFFSETTO:+0100
TZNAME:CET
DTSTART:20241027T010000
END:STANDARD
BEGIN:DAYLIGHT
TZOFFSETFROM:+0100
TZOFFSETTO:+0200
TZNAME:CEST
DTSTART:20250330T010000
END:DAYLIGHT
BEGIN:STANDARD
TZOFFSETFROM:+0200
TZOFFSETTO:+0100
TZNAME:CET
DTSTART:20251026T010000
END:STANDARD
BEGIN:DAYLIGHT
TZOFFSETFROM:+0100
TZOFFSETTO:+0200
TZNAME:CEST
DTSTART:20260329T010000
END:DAYLIGHT
BEGIN:STANDARD
TZOFFSETFROM:+0200
TZOFFSETTO:+0100
TZNAME:CET
DTSTART:20261025T010000
END:STANDARD
END:VTIMEZONE
BEGIN:VEVENT
DTSTART;TZID=Europe/Berlin:20250516T190000
DTEND;TZID=Europe/Berlin:20250518T190000
DTSTAMP:20260421T074951
CREATED:20240927T090308Z
LAST-MODIFIED:20240927T090308Z
UID:40148-1747422000-1747594800@buddhahaus-muenchen.de
SUMMARY:Christian Hackbarth-Johnson: Zen-Meditation und Yoga - Wochenende für Anfänger und Geübte | Kurs W-11
DESCRIPTION:„Stelle dich allem\, lass los und erlange Festigkeit.“ Mit diesen Worten beschreibt der Meister Hongzhi Zhengjue (1091-1157) in seinen „Praxisanweisungen“\, worum es in der Zen-Meditation geht: das Ergründen des Selbst\, das Ergründen der Wirklichkeit im stillen Sitzen (Zazen). Das WE führt ein in diese Praxis der „Wirklichkeitsergründung“ im stillen Sitzens. Einfache Yogaübungen entspannen Körper und Geist und unterstützen so das Sitzen. \nNach dem Einführungsabend am Freitag wechseln sich stilles Sitzen\, Gehmeditation\, Yoga und Vorträge (mit Gespräch) ab. \nKursgebühr: 80 €\nOrgagebühr: 45 €\nDana für den Lehrer und das Buddha-Haus München
URL:https://buddhahaus-muenchen.de/event/christian-hackbarth-johnson-zen-meditation-und-yoga-wochenende-fuer-anfaenger-und-geuebte-kurs-w-11/
LOCATION:Buddha-Haus München
CATEGORIES:Wochenendseminare
ATTACH;FMTTYPE=image/jpeg:https://buddhahaus-muenchen.de/wp-content/uploads/2019/06/christian_web.jpg
END:VEVENT
END:VCALENDAR