BEGIN:VCALENDAR
VERSION:2.0
PRODID:-//Buddha-Haus München - ECPv6.15.16.1//NONSGML v1.0//EN
CALSCALE:GREGORIAN
METHOD:PUBLISH
X-WR-CALNAME:Buddha-Haus München
X-ORIGINAL-URL:https://buddhahaus-muenchen.de
X-WR-CALDESC:Veranstaltungen für Buddha-Haus München
REFRESH-INTERVAL;VALUE=DURATION:PT1H
X-Robots-Tag:noindex
X-PUBLISHED-TTL:PT1H
BEGIN:VTIMEZONE
TZID:Europe/Berlin
BEGIN:DAYLIGHT
TZOFFSETFROM:+0100
TZOFFSETTO:+0200
TZNAME:CEST
DTSTART:20240331T010000
END:DAYLIGHT
BEGIN:STANDARD
TZOFFSETFROM:+0200
TZOFFSETTO:+0100
TZNAME:CET
DTSTART:20241027T010000
END:STANDARD
BEGIN:DAYLIGHT
TZOFFSETFROM:+0100
TZOFFSETTO:+0200
TZNAME:CEST
DTSTART:20250330T010000
END:DAYLIGHT
BEGIN:STANDARD
TZOFFSETFROM:+0200
TZOFFSETTO:+0100
TZNAME:CET
DTSTART:20251026T010000
END:STANDARD
BEGIN:DAYLIGHT
TZOFFSETFROM:+0100
TZOFFSETTO:+0200
TZNAME:CEST
DTSTART:20260329T010000
END:DAYLIGHT
BEGIN:STANDARD
TZOFFSETFROM:+0200
TZOFFSETTO:+0100
TZNAME:CET
DTSTART:20261025T010000
END:STANDARD
END:VTIMEZONE
BEGIN:VEVENT
DTSTART;TZID=Europe/Berlin:20250526T190000
DTEND;TZID=Europe/Berlin:20250526T203000
DTSTAMP:20260421T091352
CREATED:20250515T115929Z
LAST-MODIFIED:20250515T145831Z
UID:43600-1748286000-1748291400@buddhahaus-muenchen.de
SUMMARY:David Schoch: Yoga\, Mantra\, Meditation
DESCRIPTION:Der Zugang zur Meditation gelingt oft leichter\, wenn der Körper frei von Spannungen ist. Denn Stress\, emotionale Belastungen und alltägliche Gedanken spiegeln sich nicht nur im Geist\, sondern auch im Körper wider. Erfahrungen und Reaktionen hinterlassen Spuren – sie zeigen sich in Form von Verspannungen\, Unruhe oder Blockaden. \nUm den Körper zu lösen und einen Zustand von Ausgeglichenheit zu fördern\, beginnen wir mit sanften Yogaflows. Diese leichten\, achtsamen Bewegungen helfen\, Spannungen abzubauen\, die Atmung zu vertiefen und das Nervensystem zu beruhigen. Du kommst wieder in Kontakt mit deinem Körper – und beginnst\, dich in ihm wirklich wohlzufühlen.  \nDas anschließende gemeinsame Singen von Mantras unterstützt diesen Prozess. Das Singen hilft dabei\, sich vom Denken zu lösen und öffnet den Raum für stille\, klare Empfindungen. Hingabe und Vertrauen können sich entfalten. \nAus dieser Vorbereitung heraus wird stille und geleitete Meditation praktiziert. Der Körper ist entspannt\, der Geist gesammelt\, das Herz offen – gute Voraussetzungen\, um in die Stille zu finden und die Kraft der Meditation zu erfahren. Vorträge geben Impulse und Inspiration für deine Praxis im Alltag. \n  \nKursgebühr: 14 € pro Abend\nDana für den Lehrer und das Buddha-Haus München \n 
URL:https://buddhahaus-muenchen.de/event/david-schoch-yoga-mantra-meditation/2025-05-26/
LOCATION:Buddha-Haus München
CATEGORIES:Meditationskurse unter der Woche,Offene Meditationsabende,Yoga
ATTACH;FMTTYPE=image/jpeg:https://buddhahaus-muenchen.de/wp-content/uploads/2020/11/david-schoch-2020-scaled.jpg
END:VEVENT
END:VCALENDAR