BEGIN:VCALENDAR
VERSION:2.0
PRODID:-//Buddha-Haus München - ECPv6.15.16.1//NONSGML v1.0//EN
CALSCALE:GREGORIAN
METHOD:PUBLISH
X-WR-CALNAME:Buddha-Haus München
X-ORIGINAL-URL:https://buddhahaus-muenchen.de
X-WR-CALDESC:Veranstaltungen für Buddha-Haus München
REFRESH-INTERVAL;VALUE=DURATION:PT1H
X-Robots-Tag:noindex
X-PUBLISHED-TTL:PT1H
BEGIN:VTIMEZONE
TZID:Europe/Berlin
BEGIN:DAYLIGHT
TZOFFSETFROM:+0100
TZOFFSETTO:+0200
TZNAME:CEST
DTSTART:20240331T010000
END:DAYLIGHT
BEGIN:STANDARD
TZOFFSETFROM:+0200
TZOFFSETTO:+0100
TZNAME:CET
DTSTART:20241027T010000
END:STANDARD
BEGIN:DAYLIGHT
TZOFFSETFROM:+0100
TZOFFSETTO:+0200
TZNAME:CEST
DTSTART:20250330T010000
END:DAYLIGHT
BEGIN:STANDARD
TZOFFSETFROM:+0200
TZOFFSETTO:+0100
TZNAME:CET
DTSTART:20251026T010000
END:STANDARD
BEGIN:DAYLIGHT
TZOFFSETFROM:+0100
TZOFFSETTO:+0200
TZNAME:CEST
DTSTART:20260329T010000
END:DAYLIGHT
BEGIN:STANDARD
TZOFFSETFROM:+0200
TZOFFSETTO:+0100
TZNAME:CET
DTSTART:20261025T010000
END:STANDARD
END:VTIMEZONE
BEGIN:VEVENT
DTSTART;TZID=Europe/Berlin:20250607T084500
DTEND;TZID=Europe/Berlin:20250607T170000
DTSTAMP:20260421T073322
CREATED:20250601T113926Z
LAST-MODIFIED:20250601T115047Z
UID:43688-1749285900-1749315600@buddhahaus-muenchen.de
SUMMARY:Metta-Vihara Wandertag
DESCRIPTION:Ein Sangha-Ausflug \n\nAbfahrt für Fahrgemeinschaften vom Buddha-Haus München (Fahrzeit ca. 1:45 Stunden) 8:45\nBegrüßung und Meditation im Meditationsraum der Metta Vihara 11:00\nWanderung Von der Metta-Vihara zum Schwarzen Grat (Picknick bitte mitbringen) 11:45- ca 13:13\nKaffee/Tee & Mantrasingen in der Metta-Vihara 15:00\nRückfahrt ca. 17.30\n\nBei Fragen und Anmeldung zu Fahrgemeinschaften: info@buddhahaus-muenchen.de \nWEGBESCHREIBUNG
URL:https://buddhahaus-muenchen.de/event/metta-vihara-wandertag/
LOCATION:Metta Vihara
ATTACH;FMTTYPE=image/jpeg:https://buddhahaus-muenchen.de/wp-content/uploads/2025/06/Muenchen-Web-Kursseite-3.jpg
END:VEVENT
END:VCALENDAR