BEGIN:VCALENDAR
VERSION:2.0
PRODID:-//Buddha-Haus München - ECPv6.15.16.1//NONSGML v1.0//EN
CALSCALE:GREGORIAN
METHOD:PUBLISH
X-WR-CALNAME:Buddha-Haus München
X-ORIGINAL-URL:https://buddhahaus-muenchen.de
X-WR-CALDESC:Veranstaltungen für Buddha-Haus München
REFRESH-INTERVAL;VALUE=DURATION:PT1H
X-Robots-Tag:noindex
X-PUBLISHED-TTL:PT1H
BEGIN:VTIMEZONE
TZID:Europe/Berlin
BEGIN:DAYLIGHT
TZOFFSETFROM:+0100
TZOFFSETTO:+0200
TZNAME:CEST
DTSTART:20240331T010000
END:DAYLIGHT
BEGIN:STANDARD
TZOFFSETFROM:+0200
TZOFFSETTO:+0100
TZNAME:CET
DTSTART:20241027T010000
END:STANDARD
BEGIN:DAYLIGHT
TZOFFSETFROM:+0100
TZOFFSETTO:+0200
TZNAME:CEST
DTSTART:20250330T010000
END:DAYLIGHT
BEGIN:STANDARD
TZOFFSETFROM:+0200
TZOFFSETTO:+0100
TZNAME:CET
DTSTART:20251026T010000
END:STANDARD
BEGIN:DAYLIGHT
TZOFFSETFROM:+0100
TZOFFSETTO:+0200
TZNAME:CEST
DTSTART:20260329T010000
END:DAYLIGHT
BEGIN:STANDARD
TZOFFSETFROM:+0200
TZOFFSETTO:+0100
TZNAME:CET
DTSTART:20261025T010000
END:STANDARD
END:VTIMEZONE
BEGIN:VEVENT
DTSTART;TZID=Europe/Berlin:20250725T190000
DTEND;TZID=Europe/Berlin:20250726T190000
DTSTAMP:20260423T220149
CREATED:20241003T082013Z
LAST-MODIFIED:20250725T062215Z
UID:40244-1753470000-1753556400@buddhahaus-muenchen.de
SUMMARY:Bhante Pasanna: Der Sonnenaufgang heilsamer Zustände | Kurs W-14
DESCRIPTION:Was ist rechte\, befreiende Ansicht? Was sind eigentlich heilsame Zustände? Was haben diese beiden Themen miteinander zu tun? \nWir nähern uns gemeinsam Antworten auf diese Fragen und einem  Verständnis der “Vorzeichen-Sutta” AN10.121 in Theorie und Praxis an… \nKursgebühr: der Lehrer unterrichtet gemäß Dana-Prinzip\nOrgagebühr: 30€\nDana: freiwillige Spende für Lehrer und das Meditationszentrum
URL:https://buddhahaus-muenchen.de/event/bhante-pasanna-der-sonnenaufgang-heilsamer-zustaende-kurs-w-14/
LOCATION:Buddha-Haus München
CATEGORIES:Besonders geeignete Wochenendkurse,Online,Wochenendseminare
ATTACH;FMTTYPE=image/jpeg:https://buddhahaus-muenchen.de/wp-content/uploads/2024/10/1000090947-scaled.jpg
END:VEVENT
END:VCALENDAR