BEGIN:VCALENDAR
VERSION:2.0
PRODID:-//Buddha-Haus München - ECPv6.15.16.1//NONSGML v1.0//EN
CALSCALE:GREGORIAN
METHOD:PUBLISH
X-WR-CALNAME:Buddha-Haus München
X-ORIGINAL-URL:https://buddhahaus-muenchen.de
X-WR-CALDESC:Veranstaltungen für Buddha-Haus München
REFRESH-INTERVAL;VALUE=DURATION:PT1H
X-Robots-Tag:noindex
X-PUBLISHED-TTL:PT1H
BEGIN:VTIMEZONE
TZID:Europe/Berlin
BEGIN:DAYLIGHT
TZOFFSETFROM:+0100
TZOFFSETTO:+0200
TZNAME:CEST
DTSTART:20250330T010000
END:DAYLIGHT
BEGIN:STANDARD
TZOFFSETFROM:+0200
TZOFFSETTO:+0100
TZNAME:CET
DTSTART:20251026T010000
END:STANDARD
BEGIN:DAYLIGHT
TZOFFSETFROM:+0100
TZOFFSETTO:+0200
TZNAME:CEST
DTSTART:20260329T010000
END:DAYLIGHT
BEGIN:STANDARD
TZOFFSETFROM:+0200
TZOFFSETTO:+0100
TZNAME:CET
DTSTART:20261025T010000
END:STANDARD
BEGIN:DAYLIGHT
TZOFFSETFROM:+0100
TZOFFSETTO:+0200
TZNAME:CEST
DTSTART:20270328T010000
END:DAYLIGHT
BEGIN:STANDARD
TZOFFSETFROM:+0200
TZOFFSETTO:+0100
TZNAME:CET
DTSTART:20271031T010000
END:STANDARD
END:VTIMEZONE
BEGIN:VEVENT
DTSTART;TZID=Europe/Berlin:20261031T100000
DTEND;TZID=Europe/Berlin:20261101T130000
DTSTAMP:20260421T155732
CREATED:20250822T131805Z
LAST-MODIFIED:20250822T131805Z
UID:44295-1793440800-1793538000@buddhahaus-muenchen.de
SUMMARY:Romy Schlichting: Wandel als Weg - Buddhistische Perspektiven auf Unbeständigkeit und Tod | Kurs 19 2026
DESCRIPTION:Gibt es irgendetwas in deinem Leben\, das dauerhaft und unvergänglich ist?\nAnstatt damit zu hadern\, kann eine Beschäftigung mit dieser Frage dazu anregen\, das Leben intensiver zu leben und jeden Moment zu schätzen.\nWir setzen uns daher an diesem Wochenende mit dem Thema des Sterbens und Werdens aus buddhistischer Sicht auseinander. Dabei unterstützen uns u.a. Fragen wie: „Wer bin ich wirklich?“ und „Wie kann ich besser leben\, in dem ich mich auf das Sterben vorbereiten?“ „Gibt es etwas\, das weiter existiert nach dem Tod?“ \nKursgebühr: keine\, Lehrerin unterrichtet gemäß Dana-Prinzip (Spenden-Empfehlung 90 €)\nOrgagebühr: 30 €\nDana für die Lehrerin und das Buddha-Haus München
URL:https://buddhahaus-muenchen.de/event/romy-schlichting-wandel-als-weg-buddhistische-perspektiven-auf-unbestaendigkeit-und-tod-kurs-19-2026/
LOCATION:Buddha-Haus München
CATEGORIES:Besonders geeignete Wochenendkurse,Wochenendseminare
ATTACH;FMTTYPE=image/jpeg:https://buddhahaus-muenchen.de/wp-content/uploads/2023/01/romy_neu__kachel.jpg
END:VEVENT
END:VCALENDAR