BEGIN:VCALENDAR
VERSION:2.0
PRODID:-//Buddha-Haus München - ECPv6.15.16.1//NONSGML v1.0//EN
CALSCALE:GREGORIAN
METHOD:PUBLISH
X-WR-CALNAME:Buddha-Haus München
X-ORIGINAL-URL:https://buddhahaus-muenchen.de
X-WR-CALDESC:Veranstaltungen für Buddha-Haus München
REFRESH-INTERVAL;VALUE=DURATION:PT1H
X-Robots-Tag:noindex
X-PUBLISHED-TTL:PT1H
BEGIN:VTIMEZONE
TZID:Europe/Berlin
BEGIN:DAYLIGHT
TZOFFSETFROM:+0100
TZOFFSETTO:+0200
TZNAME:CEST
DTSTART:20250330T010000
END:DAYLIGHT
BEGIN:STANDARD
TZOFFSETFROM:+0200
TZOFFSETTO:+0100
TZNAME:CET
DTSTART:20251026T010000
END:STANDARD
BEGIN:DAYLIGHT
TZOFFSETFROM:+0100
TZOFFSETTO:+0200
TZNAME:CEST
DTSTART:20260329T010000
END:DAYLIGHT
BEGIN:STANDARD
TZOFFSETFROM:+0200
TZOFFSETTO:+0100
TZNAME:CET
DTSTART:20261025T010000
END:STANDARD
BEGIN:DAYLIGHT
TZOFFSETFROM:+0100
TZOFFSETTO:+0200
TZNAME:CEST
DTSTART:20270328T010000
END:DAYLIGHT
BEGIN:STANDARD
TZOFFSETFROM:+0200
TZOFFSETTO:+0100
TZNAME:CET
DTSTART:20271031T010000
END:STANDARD
BEGIN:DAYLIGHT
TZOFFSETFROM:+0100
TZOFFSETTO:+0200
TZNAME:CEST
DTSTART:20280326T010000
END:DAYLIGHT
BEGIN:STANDARD
TZOFFSETFROM:+0200
TZOFFSETTO:+0100
TZNAME:CET
DTSTART:20281029T010000
END:STANDARD
END:VTIMEZONE
BEGIN:VEVENT
DTSTART;TZID=Europe/Berlin:20261211T150000
DTEND;TZID=Europe/Berlin:20261211T180000
DTSTAMP:20260424T005834
CREATED:20251127T063855Z
LAST-MODIFIED:20260120T074742Z
UID:46005-1797001200-1797012000@buddhahaus-muenchen.de
SUMMARY:Romy Schlichting: Jahreskurs - Schritt für Schritt zu Freude und Resilienz | Kurs K 20 2026
DESCRIPTION:Dieser Kurs bietet die Chance\, über einen langen Zeitraum persönlich von einer erfahrenen Lehrerin begleitet zu werden\, eine kontinuierliche Meditationspraxis aufzubauen und unterstützende Weggemeinschaften zu bilden. \nWir treffen uns einmal monatlich\, immer Freitags von 15 – 18 Uhr und du erhältst Anleitungen für deine Meditation und Kontemplationen für die Zeit dazwischen. Der Kurs ermöglicht es: \n– Innere Ruhe\, Wohlbefinden und freudvolles Sein zu kultivieren\n– Mehr Resilienz in herausfordernden Zeiten zu entwickeln\n– Das Wesentliche im eigenen Leben zu erkennen und sich darauf auszurichten\n– die eigene Meditationspraxis systematisch zu entwickeln und zu stabilisieren\n– das Verständnis von Buddhas Lehre zu vertiefen\n– Verbundenheit und Ermutigung in einer Gruppe Gleichgesinnter zu erleben \nDer Kurs orientiert sich am Programm „Awakening Joy: 10 Steps to Happiness.“ von James Baraz\, der mich autorisiert hat\, dieses Programm in Deutschland zu lehren. Die Schritte basieren auf Grundlagen der buddhistischen Praxis\, Ansätzen aus der positiven Psychologie und neurowissenschaftlichen Erkenntnissen. \nTermine: \nFreitags jeweils von 15 – 18 Uhr an folgenden Daten \n16.1./13.2./13.3./17.4./15.5./12.6./17.7./4.9./9.10./13.11./11.12.2026 \nDie Teilnehmerzahl ist begrenzt. \nKursgebühr: 240 Euro incl. Audioanleitung und Kursmaterialien (Ermäßigung nach Absprache) \nOrgagebühr Buddha-Haus München: 60 Euro
URL:https://buddhahaus-muenchen.de/event/romy-schlichting-jahreskurs-schritt-fuer-schritt-zu-freude-und-resilienz-kurs-k-20-2026/2026-12-11/
LOCATION:Buddha-Haus München
CATEGORIES:Meditationskurse unter der Woche,Specials
ATTACH;FMTTYPE=image/jpeg:https://buddhahaus-muenchen.de/wp-content/uploads/2023/01/romy_neu__kachel.jpg
END:VEVENT
BEGIN:VEVENT
DTSTART;TZID=Europe/Berlin:20261211T190000
DTEND;TZID=Europe/Berlin:20261213T130000
DTSTAMP:20260424T005834
CREATED:20250822T142058Z
LAST-MODIFIED:20250822T142058Z
UID:44360-1797015600-1797166800@buddhahaus-muenchen.de
SUMMARY:Christian Hackbarth-Johnson: Zen-Meditation und Yoga. Wochenende für Anfänger und Geübte | Kurs 22 2026
DESCRIPTION:„Nimm dich selber wahr. Und wo du dich findest\, da lass dich!“ Der mittelalterliche Mystiker Meister Eckhart beschreibt mit dieser kurzen Anleitung den Kern der Zen-Meditation\, gerade so wie wie sein älterer Zeitgenosse Dogen Zenji (1200-1253)\, der Gründer der Soto-Schule in Japan: „Den Buddhaweg ergründen heißt\, sich selbst ergründen. Sich selbst ergründen heißt\, sich selbst vergessen. Sich selbst vergessen heißt\, eins sein mit den 10.000 Dingen.“ Das WE führt ein in die Praxis des stillen Sitzens im Stil des Zen. Einfache Yogaübungen entspannen Körper und Geist und unterstützen so das Sitzen. Die Vorträgen zeigen Bezüge zwischen der christlichen Mystik und der buddhistischen Weisheit auf. \nNach dem Einführungsabend am Freitag wechseln sich stilles Sitzen\, Gehmeditation\, Yoga und Vorträge (mit Gespräch) ab. \nKursgebühr: 80 €\nOrgagebühr: 35 €\nDana für den Lehrer und das Buddha-Haus München
URL:https://buddhahaus-muenchen.de/event/christian-hackbarth-johnson-zen-meditation-und-yoga-wochenende-fuer-anfaenger-und-geuebte-kurs-22-2026/
LOCATION:Buddha-Haus München
CATEGORIES:Wochenendseminare
ATTACH;FMTTYPE=image/jpeg:https://buddhahaus-muenchen.de/wp-content/uploads/2025/08/Muenchen-Web-Kursseite3.jpg
END:VEVENT
BEGIN:VEVENT
DTSTART;TZID=Europe/Berlin:20261218T190000
DTEND;TZID=Europe/Berlin:20261218T210000
DTSTAMP:20260424T005834
CREATED:20250822T132859Z
LAST-MODIFIED:20260322T213041Z
UID:44339-1797620400-1797627600@buddhahaus-muenchen.de
SUMMARY:Ayya Khema Abend: Freitagsmeditation mit Norbert / Alexander
DESCRIPTION:Gemeinsames Praktizieren von Anfängern und Fortgeschrittenen mit angeleiteten und stillen Einsichts- und Mitgefühlsmeditationen (Vipassana\, Metta)\,  Gehmeditation\, Videovorträgen von Ayya Khema sowie die Möglichkeit\, Fragen zur Lehre und zur eigenen Meditationspraxis zu stellen. \nDer Abend entfällt wenn ein öffentlicher Vortrag zum Wochenend-Kurs stattfindet. \nNorbert Wildgruber und Alexander Weicker leiten die Abende an. \nAyya Khema Abend 2026 Besetzung \n  \nKosten: Dana: freiwillige Spende für LehrerIn und für das Meditationszentrum München (Empfehlung 10-20 €)\nAnmeldung: Eine Anmeldung für diesen Abend ist nicht nötig
URL:https://buddhahaus-muenchen.de/event/ayya-khema-abend-freitagsmeditation-mit-norbert-alexander-4/2026-12-18/
LOCATION:Buddha-Haus München
CATEGORIES:Offene Meditationsabende
ATTACH;FMTTYPE=image/png:https://buddhahaus-muenchen.de/wp-content/uploads/2021/11/2.png
END:VEVENT
BEGIN:VEVENT
DTSTART;TZID=Europe/Berlin:20261219T090000
DTEND;TZID=Europe/Berlin:20261219T154500
DTSTAMP:20260424T005834
CREATED:20250827T122944Z
LAST-MODIFIED:20260324T083459Z
UID:44764-1797670800-1797695100@buddhahaus-muenchen.de
SUMMARY:Offene Meditation – Stiller Geist\, Klarer Geist
DESCRIPTION:Stille Meditation dient im Fundament dem Erlernen der „Kunst des Reinen Gewahr-Seins“. Im Erleben der Atembewegung (prana) kommt der denkende Geist zur Ruhe. Verdichtungen\, die den natürlichen Körper-Geistfluss behindern\, beginnen sich aufzulösen\, ein fließendes Lebensgefühl ist die Folge. Wird die Praxis des stillen Sitzens – Gehens – Sitzens über einen längeren Zeitraum aufrechterhalten entsteht Konzentration (samadhi). Das Erleben des „inneren Körpers“ (jhana) führt dich in die Tiefe deines Seins. Das ist beglückend. \nEin Stiller Geist ist auch ein Klarer Geist. Dein „Weisheitsgeist“(Herz-Geist) SIEHT die universellen Lebensgesetze (dharma)\, Du erkennst die Ursachen und Wirkungen menschlicher Problematik und erkennst die Wege die zur Befreiung führen. Samatha – Vipassana ist der Weg in dein inneres Glück\, in ein inneres Frei-sein durch eigenes Erleben und Erkennen. \n  \nKosten: Dana – freiwillige Spende für den Lehrer und das Meditationszentrum München \n 
URL:https://buddhahaus-muenchen.de/event/offene-meditation-stiller-geist-klarer-geist-2/2026-12-19/
LOCATION:Buddha-Haus München
CATEGORIES:Stille Meditation
ATTACH;FMTTYPE=image/jpeg:https://buddhahaus-muenchen.de/wp-content/uploads/2020/06/d75e6a59-f2ea-416b-afd2-095608f6f213.jpg
END:VEVENT
BEGIN:VEVENT
DTSTART;TZID=Europe/Berlin:20270201T080000
DTEND;TZID=Europe/Berlin:20270201T170000
DTSTAMP:20260424T005834
CREATED:20251021T151320Z
LAST-MODIFIED:20251117T123858Z
UID:45259-1801468800-1801501200@buddhahaus-muenchen.de
SUMMARY:David Test
DESCRIPTION:Test event
URL:https://buddhahaus-muenchen.de/event/david-test/
LOCATION:Buddha-Haus München
ATTACH;FMTTYPE=image/jpeg:https://buddhahaus-muenchen.de/wp-content/uploads/2025/07/landscape-5332028_1280.jpg
ORGANIZER;CN="Tomas":MAILTO:tomas.rihak@hyperdigital.de
END:VEVENT
BEGIN:VEVENT
DTSTART;TZID=Europe/Berlin:20270202T080000
DTEND;TZID=Europe/Berlin:20270202T170000
DTSTAMP:20260424T005834
CREATED:20251117T152631Z
LAST-MODIFIED:20251120T090605Z
UID:45922-1801555200-1801587600@buddhahaus-muenchen.de
SUMMARY:Test David 2
DESCRIPTION:test test 2
URL:https://buddhahaus-muenchen.de/event/test-david-2/
ATTACH;FMTTYPE=image/png:https://buddhahaus-muenchen.de/wp-content/uploads/2024/03/MUeNCHEN-Webseite-Slider-60.png
END:VEVENT
END:VCALENDAR