BEGIN:VCALENDAR
VERSION:2.0
PRODID:-//Buddha-Haus München - ECPv6.15.16.1//NONSGML v1.0//EN
CALSCALE:GREGORIAN
METHOD:PUBLISH
X-WR-CALNAME:Buddha-Haus München
X-ORIGINAL-URL:https://buddhahaus-muenchen.de
X-WR-CALDESC:Veranstaltungen für Buddha-Haus München
REFRESH-INTERVAL;VALUE=DURATION:PT1H
X-Robots-Tag:noindex
X-PUBLISHED-TTL:PT1H
BEGIN:VTIMEZONE
TZID:Europe/Berlin
BEGIN:DAYLIGHT
TZOFFSETFROM:+0100
TZOFFSETTO:+0200
TZNAME:CEST
DTSTART:20230326T010000
END:DAYLIGHT
BEGIN:STANDARD
TZOFFSETFROM:+0200
TZOFFSETTO:+0100
TZNAME:CET
DTSTART:20231029T010000
END:STANDARD
BEGIN:DAYLIGHT
TZOFFSETFROM:+0100
TZOFFSETTO:+0200
TZNAME:CEST
DTSTART:20240331T010000
END:DAYLIGHT
BEGIN:STANDARD
TZOFFSETFROM:+0200
TZOFFSETTO:+0100
TZNAME:CET
DTSTART:20241027T010000
END:STANDARD
BEGIN:DAYLIGHT
TZOFFSETFROM:+0100
TZOFFSETTO:+0200
TZNAME:CEST
DTSTART:20250330T010000
END:DAYLIGHT
BEGIN:STANDARD
TZOFFSETFROM:+0200
TZOFFSETTO:+0100
TZNAME:CET
DTSTART:20251026T010000
END:STANDARD
END:VTIMEZONE
BEGIN:VEVENT
DTSTART;TZID=Europe/Berlin:20240803T090000
DTEND;TZID=Europe/Berlin:20240803T160000
DTSTAMP:20260422T031005
CREATED:20230927T120957Z
LAST-MODIFIED:20241215T170410Z
UID:35009-1722675600-1722700800@buddhahaus-muenchen.de
SUMMARY:Offene Meditation – Stiller Geist\, Klarer Geist
DESCRIPTION:Stille Meditation dient im Fundament dem Erlernen der „Kunst des Reinen Gewahr-Seins“\, Im Erleben der Atembewegung (prana) kommt der denkende Geist zur Ruhe. Verdichtungen\, die den natürlichen Körper-Geistfluss behindern\, beginnen sich aufzulösen\, ein fließendes Lebensgefühl ist die Folge. Wird die Praxis des stillen Sitzens – Gehens – Sitzens über einen längeren Zeitraum aufrechterhalten entsteht Konzentration (samadhi). Das Erleben des „inneren Körpers“ (jhana) führt dich in die Tiefe deines Seins. Das ist beglückend \nEin Stiller Geist ist auch ein Klarer Geist. Dein „Weisheitsgeist“(Herz-Geist) SIEHT die universellen Lebensgesetze (dharma)\, Du erkennst die Ursachen und Wirkungen menschlicher Problematik und erkennst die Wege die zur Befreiung führen. Samatha – Vipassana ist der Weg in dein inneres Glück\, in ein inneres Frei-sein durch eigenes Erleben und Erkennen. \nSila: Tugendpraxis mitten im Alltag \nDie Praxis von Samatha – Vipassana  führt zur Praxis des Verständnisses und Mitgefühls für dich selbst und andere Mitmenschen mitten in deinem Alltag – immer JETZT. Die Grundlage dafür ist deine geistige Absicht der Begierdelosigkeit\, Hasslosigkeit\, Gewaltlosigkeit\, deiner Friedfertigkeit und Liebesfähigkeit. \nKosten: Dana
URL:https://buddhahaus-muenchen.de/event/offene-meditation-stiller-geist-klarer-geist/2024-08-03/
LOCATION:Buddha-Haus München
CATEGORIES:Offene Meditationsabende,Stille Meditation
ATTACH;FMTTYPE=image/jpeg:https://buddhahaus-muenchen.de/wp-content/uploads/2020/06/d75e6a59-f2ea-416b-afd2-095608f6f213.jpg
END:VEVENT
BEGIN:VEVENT
DTSTART;TZID=Europe/Berlin:20240807T100000
DTEND;TZID=Europe/Berlin:20240807T130000
DTSTAMP:20260422T031005
CREATED:20230915T082052Z
LAST-MODIFIED:20230915T082052Z
UID:34613-1723024800-1723035600@buddhahaus-muenchen.de
SUMMARY:Offene Meditation am Mittwoch
DESCRIPTION:Gemeinsam in die stille Meditation. Einfach sein – ohne Anleitung. \nAchtung: Nicht an Feiertagen! \nAnmeldung: Nicht nötig\nKosten: Dana: freiwillige Spende für LehrerIn und für das Meditationszentrum München
URL:https://buddhahaus-muenchen.de/event/offene-meditation-am-mittwoch/2024-08-07/
LOCATION:Buddha-Haus München
CATEGORIES:Stille Meditation
ATTACH;FMTTYPE=image/jpeg:https://buddhahaus-muenchen.de/wp-content/uploads/2020/06/d75e6a59-f2ea-416b-afd2-095608f6f213.jpg
END:VEVENT
BEGIN:VEVENT
DTSTART;TZID=Europe/Berlin:20240810T090000
DTEND;TZID=Europe/Berlin:20240810T160000
DTSTAMP:20260422T031005
CREATED:20230927T120957Z
LAST-MODIFIED:20241215T170410Z
UID:35010-1723280400-1723305600@buddhahaus-muenchen.de
SUMMARY:Offene Meditation – Stiller Geist\, Klarer Geist
DESCRIPTION:Stille Meditation dient im Fundament dem Erlernen der „Kunst des Reinen Gewahr-Seins“\, Im Erleben der Atembewegung (prana) kommt der denkende Geist zur Ruhe. Verdichtungen\, die den natürlichen Körper-Geistfluss behindern\, beginnen sich aufzulösen\, ein fließendes Lebensgefühl ist die Folge. Wird die Praxis des stillen Sitzens – Gehens – Sitzens über einen längeren Zeitraum aufrechterhalten entsteht Konzentration (samadhi). Das Erleben des „inneren Körpers“ (jhana) führt dich in die Tiefe deines Seins. Das ist beglückend \nEin Stiller Geist ist auch ein Klarer Geist. Dein „Weisheitsgeist“(Herz-Geist) SIEHT die universellen Lebensgesetze (dharma)\, Du erkennst die Ursachen und Wirkungen menschlicher Problematik und erkennst die Wege die zur Befreiung führen. Samatha – Vipassana ist der Weg in dein inneres Glück\, in ein inneres Frei-sein durch eigenes Erleben und Erkennen. \nSila: Tugendpraxis mitten im Alltag \nDie Praxis von Samatha – Vipassana  führt zur Praxis des Verständnisses und Mitgefühls für dich selbst und andere Mitmenschen mitten in deinem Alltag – immer JETZT. Die Grundlage dafür ist deine geistige Absicht der Begierdelosigkeit\, Hasslosigkeit\, Gewaltlosigkeit\, deiner Friedfertigkeit und Liebesfähigkeit. \nKosten: Dana
URL:https://buddhahaus-muenchen.de/event/offene-meditation-stiller-geist-klarer-geist/2024-08-10/
LOCATION:Buddha-Haus München
CATEGORIES:Offene Meditationsabende,Stille Meditation
ATTACH;FMTTYPE=image/jpeg:https://buddhahaus-muenchen.de/wp-content/uploads/2020/06/d75e6a59-f2ea-416b-afd2-095608f6f213.jpg
END:VEVENT
BEGIN:VEVENT
DTSTART;TZID=Europe/Berlin:20240814T100000
DTEND;TZID=Europe/Berlin:20240814T130000
DTSTAMP:20260422T031005
CREATED:20230915T082052Z
LAST-MODIFIED:20230915T082052Z
UID:34614-1723629600-1723640400@buddhahaus-muenchen.de
SUMMARY:Offene Meditation am Mittwoch
DESCRIPTION:Gemeinsam in die stille Meditation. Einfach sein – ohne Anleitung. \nAchtung: Nicht an Feiertagen! \nAnmeldung: Nicht nötig\nKosten: Dana: freiwillige Spende für LehrerIn und für das Meditationszentrum München
URL:https://buddhahaus-muenchen.de/event/offene-meditation-am-mittwoch/2024-08-14/
LOCATION:Buddha-Haus München
CATEGORIES:Stille Meditation
ATTACH;FMTTYPE=image/jpeg:https://buddhahaus-muenchen.de/wp-content/uploads/2020/06/d75e6a59-f2ea-416b-afd2-095608f6f213.jpg
END:VEVENT
BEGIN:VEVENT
DTSTART;TZID=Europe/Berlin:20240821T100000
DTEND;TZID=Europe/Berlin:20240821T130000
DTSTAMP:20260422T031005
CREATED:20230915T082052Z
LAST-MODIFIED:20230915T082052Z
UID:34615-1724234400-1724245200@buddhahaus-muenchen.de
SUMMARY:Offene Meditation am Mittwoch
DESCRIPTION:Gemeinsam in die stille Meditation. Einfach sein – ohne Anleitung. \nAchtung: Nicht an Feiertagen! \nAnmeldung: Nicht nötig\nKosten: Dana: freiwillige Spende für LehrerIn und für das Meditationszentrum München
URL:https://buddhahaus-muenchen.de/event/offene-meditation-am-mittwoch/2024-08-21/
LOCATION:Buddha-Haus München
CATEGORIES:Stille Meditation
ATTACH;FMTTYPE=image/jpeg:https://buddhahaus-muenchen.de/wp-content/uploads/2020/06/d75e6a59-f2ea-416b-afd2-095608f6f213.jpg
END:VEVENT
BEGIN:VEVENT
DTSTART;TZID=Europe/Berlin:20240828T100000
DTEND;TZID=Europe/Berlin:20240828T130000
DTSTAMP:20260422T031005
CREATED:20230915T082052Z
LAST-MODIFIED:20230915T082052Z
UID:34616-1724839200-1724850000@buddhahaus-muenchen.de
SUMMARY:Offene Meditation am Mittwoch
DESCRIPTION:Gemeinsam in die stille Meditation. Einfach sein – ohne Anleitung. \nAchtung: Nicht an Feiertagen! \nAnmeldung: Nicht nötig\nKosten: Dana: freiwillige Spende für LehrerIn und für das Meditationszentrum München
URL:https://buddhahaus-muenchen.de/event/offene-meditation-am-mittwoch/2024-08-28/
LOCATION:Buddha-Haus München
CATEGORIES:Stille Meditation
ATTACH;FMTTYPE=image/jpeg:https://buddhahaus-muenchen.de/wp-content/uploads/2020/06/d75e6a59-f2ea-416b-afd2-095608f6f213.jpg
END:VEVENT
BEGIN:VEVENT
DTSTART;TZID=Europe/Berlin:20240831T090000
DTEND;TZID=Europe/Berlin:20240831T160000
DTSTAMP:20260422T031005
CREATED:20230927T120957Z
LAST-MODIFIED:20241215T170411Z
UID:35013-1725094800-1725120000@buddhahaus-muenchen.de
SUMMARY:Offene Meditation – Stiller Geist\, Klarer Geist
DESCRIPTION:Stille Meditation dient im Fundament dem Erlernen der „Kunst des Reinen Gewahr-Seins“\, Im Erleben der Atembewegung (prana) kommt der denkende Geist zur Ruhe. Verdichtungen\, die den natürlichen Körper-Geistfluss behindern\, beginnen sich aufzulösen\, ein fließendes Lebensgefühl ist die Folge. Wird die Praxis des stillen Sitzens – Gehens – Sitzens über einen längeren Zeitraum aufrechterhalten entsteht Konzentration (samadhi). Das Erleben des „inneren Körpers“ (jhana) führt dich in die Tiefe deines Seins. Das ist beglückend \nEin Stiller Geist ist auch ein Klarer Geist. Dein „Weisheitsgeist“(Herz-Geist) SIEHT die universellen Lebensgesetze (dharma)\, Du erkennst die Ursachen und Wirkungen menschlicher Problematik und erkennst die Wege die zur Befreiung führen. Samatha – Vipassana ist der Weg in dein inneres Glück\, in ein inneres Frei-sein durch eigenes Erleben und Erkennen. \nSila: Tugendpraxis mitten im Alltag \nDie Praxis von Samatha – Vipassana  führt zur Praxis des Verständnisses und Mitgefühls für dich selbst und andere Mitmenschen mitten in deinem Alltag – immer JETZT. Die Grundlage dafür ist deine geistige Absicht der Begierdelosigkeit\, Hasslosigkeit\, Gewaltlosigkeit\, deiner Friedfertigkeit und Liebesfähigkeit. \nKosten: Dana
URL:https://buddhahaus-muenchen.de/event/offene-meditation-stiller-geist-klarer-geist/2024-08-31/
LOCATION:Buddha-Haus München
CATEGORIES:Offene Meditationsabende,Stille Meditation
ATTACH;FMTTYPE=image/jpeg:https://buddhahaus-muenchen.de/wp-content/uploads/2020/06/d75e6a59-f2ea-416b-afd2-095608f6f213.jpg
END:VEVENT
END:VCALENDAR