BEGIN:VCALENDAR
VERSION:2.0
PRODID:-//Buddha-Haus München - ECPv6.15.16.1//NONSGML v1.0//EN
CALSCALE:GREGORIAN
METHOD:PUBLISH
X-WR-CALNAME:Buddha-Haus München
X-ORIGINAL-URL:https://buddhahaus-muenchen.de
X-WR-CALDESC:Veranstaltungen für Buddha-Haus München
REFRESH-INTERVAL;VALUE=DURATION:PT1H
X-Robots-Tag:noindex
X-PUBLISHED-TTL:PT1H
BEGIN:VTIMEZONE
TZID:Europe/Berlin
BEGIN:DAYLIGHT
TZOFFSETFROM:+0100
TZOFFSETTO:+0200
TZNAME:CEST
DTSTART:20220327T010000
END:DAYLIGHT
BEGIN:STANDARD
TZOFFSETFROM:+0200
TZOFFSETTO:+0100
TZNAME:CET
DTSTART:20221030T010000
END:STANDARD
BEGIN:DAYLIGHT
TZOFFSETFROM:+0100
TZOFFSETTO:+0200
TZNAME:CEST
DTSTART:20230326T010000
END:DAYLIGHT
BEGIN:STANDARD
TZOFFSETFROM:+0200
TZOFFSETTO:+0100
TZNAME:CET
DTSTART:20231029T010000
END:STANDARD
BEGIN:DAYLIGHT
TZOFFSETFROM:+0100
TZOFFSETTO:+0200
TZNAME:CEST
DTSTART:20240331T010000
END:DAYLIGHT
BEGIN:STANDARD
TZOFFSETFROM:+0200
TZOFFSETTO:+0100
TZNAME:CET
DTSTART:20241027T010000
END:STANDARD
END:VTIMEZONE
BEGIN:VEVENT
DTSTART;TZID=Europe/Berlin:20231027T190000
DTEND;TZID=Europe/Berlin:20231029T130000
DTSTAMP:20260420T225227
CREATED:20220926T190712Z
LAST-MODIFIED:20231027T113753Z
UID:27776-1698433200-1698584400@buddhahaus-muenchen.de
SUMMARY:Christian Hackbarth-Johnson: Zen-Meditation und Yoga Wochenende für Anfänger und Geübte | Kurs 30
DESCRIPTION:„Was ist der Sinn der höchsten heiligen Wahrheit?“ – „Offene Weite. Nichts von heilig.“ Die Antwort des Bodhidharma\, des legendären Übermittlers des Zen nach China\, auf die Frage des chinesischen Kaisers\, weist weg von der religiösen Verpackung des Buddhismus und hin zur spirituellen Erfahrung. Es ist eine Erfahrung der offenen Weite\, das Erwachen zum Wesen des Menschen und der Wirklichkeit als ganzer\, die „offene Weite“ ist. \nNach dem Einführungsabend am Freitag wechseln sich stilles Sitzen im Stil des Zen\, Gehmeditation\, Yoga und Vorträge (mit Gespräch) ab. \n  \nKursgebühr: 80 €\nOrga-Gebühr: 30 €\nDana für den Lehrer und das Buddha-Haus München \n 
URL:https://buddhahaus-muenchen.de/event/christian-hackbarth-johnson-zen-meditation-und-yoga-wochenende-fuer-anfaenger-und-geuebte-kurs-30/
LOCATION:Buddha-Haus München
CATEGORIES:Wochenendseminare
ATTACH;FMTTYPE=image/jpeg:https://buddhahaus-muenchen.de/wp-content/uploads/2019/06/christian_web.jpg
END:VEVENT
BEGIN:VEVENT
DTSTART;TZID=Europe/Berlin:20230120T190000
DTEND;TZID=Europe/Berlin:20230122T130000
DTSTAMP:20260420T225227
CREATED:20221115T111841Z
LAST-MODIFIED:20221209T115118Z
UID:28388-1674241200-1674392400@buddhahaus-muenchen.de
SUMMARY:Christian Hackbarth-Johnson: Zen-Meditation und Yoga Wochenende für Anfänger und Geübte | Kurs 35
DESCRIPTION:„Zazen ist das Dharma-Tor der großen Ruhe und Freude!“ So bestimmt der Zen-Meister Dogen (1200-1253) die Eigenart der Übung der Bewusstseinsvertiefung im stillen Sitzen (Zazen). Das Seminar führt vertiefend in diese Praxis ein. Yoga-Übungen helfen\, Spannungen in Körper und Psyche zu lösen\, was das Sitzen erleichtert\, und sie führen auf einfache Weise zu einer gelösten Sammlung.\nNach dem Einführungsabend am Freitag wechseln sich stilles Sitzen im Stil des Zen\, Gehmeditation\, Yoga und Vorträge (mit Gespräch) ab. \nKursgebühr: 80 €\nOrga-Gebühr: 30 €\nDana für den Lehrer und das Buddha-Haus München \n 
URL:https://buddhahaus-muenchen.de/event/christian-hackbarth-johnson-zen-meditation-und-yoga-wochenende-fuer-anfaenger-und-geuebte-kurs-35/
LOCATION:Buddha-Haus München
CATEGORIES:Wochenendseminare,Yoga
ATTACH;FMTTYPE=image/jpeg:https://buddhahaus-muenchen.de/wp-content/uploads/2019/06/christian_web.jpg
END:VEVENT
END:VCALENDAR