BEGIN:VCALENDAR
VERSION:2.0
PRODID:-//Buddha-Haus München - ECPv6.15.16.1//NONSGML v1.0//EN
CALSCALE:GREGORIAN
METHOD:PUBLISH
X-WR-CALNAME:Buddha-Haus München
X-ORIGINAL-URL:https://buddhahaus-muenchen.de
X-WR-CALDESC:Veranstaltungen für Buddha-Haus München
REFRESH-INTERVAL;VALUE=DURATION:PT1H
X-Robots-Tag:noindex
X-PUBLISHED-TTL:PT1H
BEGIN:VTIMEZONE
TZID:Europe/Berlin
BEGIN:DAYLIGHT
TZOFFSETFROM:+0100
TZOFFSETTO:+0200
TZNAME:CEST
DTSTART:20220327T010000
END:DAYLIGHT
BEGIN:STANDARD
TZOFFSETFROM:+0200
TZOFFSETTO:+0100
TZNAME:CET
DTSTART:20221030T010000
END:STANDARD
BEGIN:DAYLIGHT
TZOFFSETFROM:+0100
TZOFFSETTO:+0200
TZNAME:CEST
DTSTART:20230326T010000
END:DAYLIGHT
BEGIN:STANDARD
TZOFFSETFROM:+0200
TZOFFSETTO:+0100
TZNAME:CET
DTSTART:20231029T010000
END:STANDARD
BEGIN:DAYLIGHT
TZOFFSETFROM:+0100
TZOFFSETTO:+0200
TZNAME:CEST
DTSTART:20240331T010000
END:DAYLIGHT
BEGIN:STANDARD
TZOFFSETFROM:+0200
TZOFFSETTO:+0100
TZNAME:CET
DTSTART:20241027T010000
END:STANDARD
END:VTIMEZONE
BEGIN:VEVENT
DTSTART;TZID=Europe/Berlin:20230923T093000
DTEND;TZID=Europe/Berlin:20230924T130000
DTSTAMP:20260421T172653
CREATED:20220925T182447Z
LAST-MODIFIED:20230921T190432Z
UID:27671-1695461400-1695560400@buddhahaus-muenchen.de
SUMMARY:Lilo Lenz: Meditation - gelassen wie die Erde | Kurs 24
DESCRIPTION:Entwickle Meditation\, die gelassen wie die Erde ist (MN 62) – Buddha spricht damit eine Sehnsucht an\, die auch für uns heute aktuell ist: in innerer Gelassenheit sein zu können\, einer Gelassenheit\, die uns auch durch einen oft überfordernden Alltag trägt. \nWie kann ich diese Gelassenheit entwickeln und pflegen? Die technisch einfachen Übungen des tibetischen Heilyoga Kum Nye bieten einen Weg\, diese Qualität zu verkörpern. Wir fokussieren uns auf Übungen\, die unsere unteren Körperbereiche (Füße\, Beine\, Bauchbereich) aktivieren und für uns erlebbar machen. Wir bekommen (wieder) Anschluss an die Fühl-Erfahrung und erleben eine wohlige Erdung. \nEin zentrales Anliegen des Heilyoga ist es\, die Erfahrung des Momentes unmittelbar wahrzunehmen. Erst durch das Verweilen in der Direktheit der Erfahrung entsteht ein Verstehen\, das uns die Wahrheit des Momentes – wo bin ich gerade wirklich – näher bringt. \nIn unseren Reflexionen betrachten wir auch die Balance von Bauch\, Herz und Kopf. Wenn alle drei menschlichen Körperzentren am Leben teilhaben\, fühlen wir uns ausgeglichen und vollständig. \nElemente des Wochenendes:\nVortrag * Kum Nye Heilyoga * Meditation mit Musik * kurzes Erkunden im Dialog * Reflexion in der Gruppe * Stilles Sitzen \n  \nKursgebühr: 60 €\nOrga-Gebühr:  25 €\nDana für die Lehrerin und das Buddha-Haus München \n 
URL:https://buddhahaus-muenchen.de/event/lilo-lenz-meditation-gelassen-wie-die-erde-kurs-24/
LOCATION:Buddha-Haus München
CATEGORIES:Kum Nye,Wochenendseminare
ATTACH;FMTTYPE=image/jpeg:https://buddhahaus-muenchen.de/wp-content/uploads/2021/11/lilo_web.jpg
END:VEVENT
END:VCALENDAR