BEGIN:VCALENDAR
VERSION:2.0
PRODID:-//Buddha-Haus München - ECPv6.15.16.1//NONSGML v1.0//EN
CALSCALE:GREGORIAN
METHOD:PUBLISH
X-WR-CALNAME:Buddha-Haus München
X-ORIGINAL-URL:https://buddhahaus-muenchen.de
X-WR-CALDESC:Veranstaltungen für Buddha-Haus München
REFRESH-INTERVAL;VALUE=DURATION:PT1H
X-Robots-Tag:noindex
X-PUBLISHED-TTL:PT1H
BEGIN:VTIMEZONE
TZID:Europe/Berlin
BEGIN:DAYLIGHT
TZOFFSETFROM:+0100
TZOFFSETTO:+0200
TZNAME:CEST
DTSTART:20210328T010000
END:DAYLIGHT
BEGIN:STANDARD
TZOFFSETFROM:+0200
TZOFFSETTO:+0100
TZNAME:CET
DTSTART:20211031T010000
END:STANDARD
BEGIN:DAYLIGHT
TZOFFSETFROM:+0100
TZOFFSETTO:+0200
TZNAME:CEST
DTSTART:20220327T010000
END:DAYLIGHT
BEGIN:STANDARD
TZOFFSETFROM:+0200
TZOFFSETTO:+0100
TZNAME:CET
DTSTART:20221030T010000
END:STANDARD
BEGIN:DAYLIGHT
TZOFFSETFROM:+0100
TZOFFSETTO:+0200
TZNAME:CEST
DTSTART:20230326T010000
END:DAYLIGHT
BEGIN:STANDARD
TZOFFSETFROM:+0200
TZOFFSETTO:+0100
TZNAME:CET
DTSTART:20231029T010000
END:STANDARD
BEGIN:DAYLIGHT
TZOFFSETFROM:+0100
TZOFFSETTO:+0200
TZNAME:CEST
DTSTART:20240331T010000
END:DAYLIGHT
BEGIN:STANDARD
TZOFFSETFROM:+0200
TZOFFSETTO:+0100
TZNAME:CET
DTSTART:20241027T010000
END:STANDARD
BEGIN:DAYLIGHT
TZOFFSETFROM:+0100
TZOFFSETTO:+0200
TZNAME:CEST
DTSTART:20250330T010000
END:DAYLIGHT
BEGIN:STANDARD
TZOFFSETFROM:+0200
TZOFFSETTO:+0100
TZNAME:CET
DTSTART:20251026T010000
END:STANDARD
BEGIN:DAYLIGHT
TZOFFSETFROM:+0100
TZOFFSETTO:+0200
TZNAME:CEST
DTSTART:20260329T010000
END:DAYLIGHT
BEGIN:STANDARD
TZOFFSETFROM:+0200
TZOFFSETTO:+0100
TZNAME:CET
DTSTART:20261025T010000
END:STANDARD
BEGIN:DAYLIGHT
TZOFFSETFROM:+0100
TZOFFSETTO:+0200
TZNAME:CEST
DTSTART:20270328T010000
END:DAYLIGHT
BEGIN:STANDARD
TZOFFSETFROM:+0200
TZOFFSETTO:+0100
TZNAME:CET
DTSTART:20271031T010000
END:STANDARD
END:VTIMEZONE
BEGIN:VEVENT
DTSTART;TZID=Europe/Berlin:20251229T100000
DTEND;TZID=Europe/Berlin:20260101T130000
DTSTAMP:20260423T185241
CREATED:20250729T154231Z
LAST-MODIFIED:20251220T192055Z
UID:44017-1767002400-1767272400@buddhahaus-muenchen.de
SUMMARY:Heinz Roiger: „Der Weg des Herzens “ – Neujahrs-Retreat
DESCRIPTION:Zeit für Innehalten\, alltagsnahe Rückbesinnung. Raum schaffen für eine Ausrichtung auf das Wesentliche – auf die Ziele im kommenden Jahr – im Einklang mit Deinem spirituellen Wachstum. Die Tage werden getragen von Stille-Meditation und führen über Bewusstseins- und Körperarbeit in Deinen Herzensraum zur Entfaltung der Liebe und Lebensfreude. \nEine intensive Begegnung mit Dir selbst und Gleichgesinnten. Die Fragen unseres „Lebens“ begleiten uns an diesen Tagen. Wir werden noch einmal bewusst das Alte Jahr an uns vorbeiziehen lassen\, um es in Liebe und Dankbarkeit zu verabschieden\, und das Neue Jahr offen\, voll Vertrauen und von Herzen willkommen heißen. \nAußer Meditation werden wir schöne Rituale und verschiedene Energieübungen machen\, die uns im Loslassen und Einladen unterstützen. \n  \nKursgebühr: 120\,- € und freiwillige Spende\nOrga-Gebühr: 40 €\nDana: freiwillige Spende für das Buddha-Haus München \nHinweis: Bitte eigene Verpflegung und Getränke mitbringen. Matten\, Stühle und Bänke sind vorhanden. Kissen\, Decken\, etc. Bitte selbst mitbringen.
URL:https://buddhahaus-muenchen.de/event/heinz-roiger-der-weg-des-herzens-neujahrs-retreat-2/
LOCATION:Buddha-Haus München
CATEGORIES:Online,Retreats,Wochenendseminare
ATTACH;FMTTYPE=image/jpeg:https://buddhahaus-muenchen.de/wp-content/uploads/2021/11/heinz_web.jpg
END:VEVENT
BEGIN:VEVENT
DTSTART;TZID=Europe/Berlin:20250922T190000
DTEND;TZID=Europe/Berlin:20250922T210000
DTSTAMP:20260423T185241
CREATED:20250703T180746Z
LAST-MODIFIED:20250901T150945Z
UID:43867-1758567600-1758574800@buddhahaus-muenchen.de
SUMMARY:Heinz Roiger: Der Weg ist die Freiheit NUR ONLINE
DESCRIPTION:Zeit für innehalten\, alltagsnahe Rückbesinnung und Schaffen von Raum für die Ausrichtung auf das Wesentliche\, sowie intensive Begegnung mit sich selbst und Austausch mit anderen Menschen. \nDie Abende laden ein:\n– zu authentischer Begegnung mit sich\n– zu Freude an unserer Lebendigkeit\n– zu Stille im einfachen da – sein\n– zu Anregungen für Vertiefung oder Neuorientierung in unserem Leben. \n9 Abende / Termine und Themen: \n1) 07.07. Der Weg des Herzens\n2) 14.07. Die Kraft der Emotionen\n3) 21.07.Vorstellungen und Erwartungen\n4) 28.07. Die Kraft unseres Geistes\n5) 04.08. Das Potential der Ruhe\n6) 01.09. Das Potential des Erkennens\n7) 08.09. Alles was wir benötigen ist da\n8) 15.09. Der Umgang mit den Gedanken\n9) 22.09. Die Fallen und Verhinderungen \nEs wird die Möglichkeit zu Einzel- und Gruppengesprächen geben. \nDu erhältst den Zugang zum Zoom Meeting in einer separaten Email nach deiner Anmeldung. \n  \nKursgebühr: Je Abend 10\,- € / alle 9 Abende 80\,- €\nDana: freiwillige Spende für LehrerIn und das Buddha-Haus München
URL:https://buddhahaus-muenchen.de/event/heinz-roiger-der-weg-ist-die-freiheit-nur-online/2025-09-22/
LOCATION:Buddha-Haus München
CATEGORIES:Online
ATTACH;FMTTYPE=image/jpeg:https://buddhahaus-muenchen.de/wp-content/uploads/2021/11/heinz_web.jpg
END:VEVENT
BEGIN:VEVENT
DTSTART;TZID=Europe/Berlin:20250630T190000
DTEND;TZID=Europe/Berlin:20250630T210000
DTSTAMP:20260423T185241
CREATED:20250406T200545Z
LAST-MODIFIED:20250425T144818Z
UID:43333-1751310000-1751317200@buddhahaus-muenchen.de
SUMMARY:Heinz Roiger: Die Freude am Fluss des Lebens NUR ONLINE
DESCRIPTION:Zeit für innehalten\, alltagsnahe Rückbesinnung und Schaffen von Raum für die Ausrichtung auf das Wesentliche\, sowie intensive Begegnung mit sich selbst und Austausch mit anderen Menschen. \nDie Abende laden ein:\n– zu authentischer Begegnung mit sich\n– zu Freude an unserer Lebendigkeit\n– zu Stille im einfachen da – sein\n– zu Anregungen für Vertiefung oder Neuorientierung in unserem Leben. \n10 Abende / Termine und Themen: \n1) 07.04 – Die Freude der Geistesentfaltung\n2) 14.04. – Was möchte ich leben?\n3) 28.04. – Projektion und Realität\n4) 05.05. – Die Natur unseres Geistes\n5) 12.05. – Die Kraftquelle Ruhe\n6) 19.05. – Die Tiefe des Geistes erfahren\n7) 26.05. – Das Potential des Erkennens\n8) 02.06. – Die Fokussierung der Gedanken\n9) 23.06. – Die Fallen und Verhinderungen\n10) 30.06. – Der Weg des Herzens \nEs wird die Möglichkeit zu Einzel- und Gruppengesprächen geben. \n10 Abende\nDu erhältst den Zugang zum Zoom Meeting in einer separaten Email nach deiner Anmeldung. \nKursgebühr: 100€\nDana: freiwillige Spende für LehrerIn und das Buddha-Haus München
URL:https://buddhahaus-muenchen.de/event/heinz-roiger-die-freude-am-fluss-des-lebens-nur-online/2025-06-30/
LOCATION:Online-Kurs / Livestream
CATEGORIES:Online
ATTACH;FMTTYPE=image/jpeg:https://buddhahaus-muenchen.de/wp-content/uploads/2021/11/heinz_web.jpg
END:VEVENT
BEGIN:VEVENT
DTSTART;TZID=Europe/Berlin:20250317T190000
DTEND;TZID=Europe/Berlin:20250317T210000
DTSTAMP:20260423T185241
CREATED:20241206T093939Z
LAST-MODIFIED:20250101T122230Z
UID:42098-1742238000-1742245200@buddhahaus-muenchen.de
SUMMARY:Heinz Roiger: Die Leichtigkeit des Seins
DESCRIPTION:Zeit für innehalten\, alltagsnahe Rückbesinnung und Schaffen von Raum für die Ausrichtung auf das Wesentliche\, sowie intensive Begegnung mit sich selbst und Austausch mit anderen Menschen. \nDie Abende laden ein:\n– zu authentischer Begegnung mit sich\n– zu Freude an unserer Lebendigkeit\n– zu Stille im einfachen da – sein\n– zu Anregungen für Vertiefung oder Neuorientierung in unserem Leben. \n10 Abende / Termine und Themen: \n1) 13.01. – Vipassana – das Potential Einsicht\n2) 20.01. – Samatha – das Potential Ruhe\n3) 27.01. – Leben hier und jetzt\n4) 03.02. – Die Freude am spirituellen Weg\n5) 10.02. – Vom Kopf zum Herz\n6) 17.02. – Vertrauen in sich selbst\n7) 24.02. – Klarheit und Wahrheit\n8) 03.03. – Es ist wie es ist\n9) 10.03.- Der Weg der Freundschaft\n10) 17.03. – Die Fallen des Weges im Alltag erkennen \nEs wird die Möglichkeit zu Einzel- und Gruppengesprächen geben. \n10 Abende \nKursgebühr: 100€\nDana: freiwillige Spende für LehrerIn und das Buddha-Haus München
URL:https://buddhahaus-muenchen.de/event/heinz-roiger-die-leichtigkeit-des-seins-4/2025-03-17/
LOCATION:Buddha-Haus München
CATEGORIES:Meditationskurse unter der Woche
ATTACH;FMTTYPE=image/jpeg:https://buddhahaus-muenchen.de/wp-content/uploads/2021/11/heinz_web.jpg
END:VEVENT
BEGIN:VEVENT
DTSTART;TZID=Europe/Berlin:20241229T100000
DTEND;TZID=Europe/Berlin:20250101T130000
DTSTAMP:20260423T185241
CREATED:20231205T095538Z
LAST-MODIFIED:20241228T151424Z
UID:35790-1735466400-1735736400@buddhahaus-muenchen.de
SUMMARY:Heinz Roiger: Der Weg des Herzens – Neujahrs-Retreat | Kurs 50
DESCRIPTION:Zeit für Innehalten\, alltagsnahe Rückbesinnung. Raum schaffen für eine Ausrichtung auf das Wesentliche – auf die Ziele im kommenden Jahr – im Einklang mit Deinem spirituellen Wachstum. Die Tage werden getragen von Stille-Meditation und führen über Bewusstseins-\nund Körperarbeit in Deinen Herzensraum zur Entfaltung der Liebe und Lebensfreude.\nEine intensive Begegnung mit Dir selbst und Gleichgesinnten. Die Fragen unseres „Lebens“ begleiten uns an diesen Tagen. Wir werden noch einmal bewusst das Alte Jahr an uns vorbeiziehen lassen\, um es in Liebe und Dankbarkeit zu verabschieden\, und das Neue Jahr offen\, voll Vertrauen und von Herzen willkommen heißen. Außer Meditation werden wir schöne Rituale und verschiedene Energieübungen machen\, die uns im Loslassen und Einladen unterstützen. \n  \nKursgebühr: 120\,- € und freiwillige Spende\nOrga-Gebühr: 40 €\nDana: freiwillige Spende für das Buddha-Haus München\n\nHinweis: Bitte eigene Verpflegung und Getränke mitbringen. Matten\, Stühle und Bänke sind vorhanden. Kissen\, Decken\, etc. Bitte selbst mitbringen.
URL:https://buddhahaus-muenchen.de/event/heinz-roiger-der-weg-des-herzens-neujahrs-retreat-kurs-50/
LOCATION:Buddha-Haus München
CATEGORIES:Besonders geeignete Wochenendkurse,Online,Wochenendseminare
ATTACH;FMTTYPE=image/jpeg:https://buddhahaus-muenchen.de/wp-content/uploads/2021/11/heinz_web.jpg
END:VEVENT
BEGIN:VEVENT
DTSTART;TZID=Europe/Berlin:20241216T190000
DTEND;TZID=Europe/Berlin:20241216T210000
DTSTAMP:20260423T185241
CREATED:20231204T161141Z
LAST-MODIFIED:20241105T164149Z
UID:35766-1734375600-1734382800@buddhahaus-muenchen.de
SUMMARY:Heinz Roiger: Vom Kopf zum Herz
DESCRIPTION:Die Abende laden ein zu authentischer Begegnung mit sich\, zu Freude an unserer Lebendigkeit\, zu Stille im einfachen da – sein\, zu Anregungen für Vertiefung oder Neuorientierung in unserem Leben. Zeit für innehalten\, alltagsnahe Rückbesinnung und Schaffen von Raum für die Ausrichtung auf das Wesentliche\, sowie intensive Begegnung mit sich selbst und Austausch mit anderen Menschen. \nEs wird die Möglichkeit zu Einzel- und Gruppengesprächen geben. \n7 Abende / Termine und Themen:\n1) 04.11. – Die Ebenen des Glücks – der stressfreie Weg\n2) 11.11. – Das Leben darf auch leicht sein\n3) 18.11. – Was macht es uns schwierig?\n4) 25.11. – Ruhe – durch Meditation\n5) 02.12. – Ruhe – durch Einsicht\n6) 09.12. – Emotionen heilen (Die emotionale Infektion)\n7) 16.12. – Vertrauen – Liebe – Licht – Hingabe \nKursgebühr: 70€\nDana: freiwillige Spende für LehrerIn und das Buddha-Haus München
URL:https://buddhahaus-muenchen.de/event/heinz-roiger-vom-kopf-zum-herz/2024-12-16/
LOCATION:Buddha-Haus München
CATEGORIES:Meditationskurse unter der Woche,Offene Meditationsabende
ATTACH;FMTTYPE=image/jpeg:https://buddhahaus-muenchen.de/wp-content/uploads/2021/11/heinz_web.jpg
END:VEVENT
BEGIN:VEVENT
DTSTART;TZID=Europe/Berlin:20241021T190000
DTEND;TZID=Europe/Berlin:20241021T210000
DTSTAMP:20260423T185241
CREATED:20231204T160647Z
LAST-MODIFIED:20241015T122651Z
UID:35757-1729537200-1729544400@buddhahaus-muenchen.de
SUMMARY:Heinz Roiger: Der Weg ist die Freiheit
DESCRIPTION:Zeit für innehalten\, alltagsnahe Rückbesinnung und Schaffen von Raum für die Ausrichtung auf das Wesentliche\, sowie intensive Begegnung mit sich selbst und Austausch mit anderen Menschen. Die Abende laden ein:\n– zu authentischer Begegnung mit sich\n– zu Freude an unserer Lebendigkeit\n– zu Stille im einfachen da – sein\n– zu Anregungen für Vertiefung oder Neuorientierung in unserem Leben \nEs wird die Möglichkeit zu Einzel- und Gruppengesprächen geben. \n7 Abende / Termine und Themen:\n1) 09.09. – Der Weg des Herzens\n2) 16.09. – Vorstellungen und Erwartungen\n3) 23.09. – Die Kerne aller Existenz\n4) 30.09. – Alles was wir benötigen ist da\n5) 07.10. – Die Kraft unseres Geistes\n6) 14.10. – Die Kraft der Emotionen\n7) 21.10. – Die Kraft der Bewusstseinsentfaltung \nKursgebühr: 70€\nDana: freiwillige Spende für LehrerIn und das Buddha-Haus München
URL:https://buddhahaus-muenchen.de/event/heinz-roiger-der-weg-ist-die-freiheit-3/2024-10-21/
LOCATION:Buddha-Haus München
CATEGORIES:Meditationskurse unter der Woche,Online
ATTACH;FMTTYPE=image/jpeg:https://buddhahaus-muenchen.de/wp-content/uploads/2021/11/heinz_web.jpg
END:VEVENT
BEGIN:VEVENT
DTSTART;TZID=Europe/Berlin:20240914T093000
DTEND;TZID=Europe/Berlin:20240915T123000
DTSTAMP:20260423T185241
CREATED:20231205T094503Z
LAST-MODIFIED:20231205T094503Z
UID:35785-1726306200-1726403400@buddhahaus-muenchen.de
SUMMARY:Heinz Roiger: Das Geschenk der Meditation – unsere innere Quelle und Heim | Kurs 26
DESCRIPTION:Die meditativen Vertiefungsstufen (Jhanas) werden uns begleiten und zum Erkennen unserer individuellen / inneren Heims\, sowie der universellen Existenz führen. Das wird uns zu einem liebevollen und weisen Umgang mit Emotionen und Ängsten führen und unseren Lebensfluss ins Gleichgewicht bringen. Ruhe und Einsicht werden uns in einem freudvollen Sein mit den Dingen unterstützen. \nEs wird die Möglichkeit zu Einzel- und Gruppengesprächen geben. \nKursgebühr: 60 €\nOrga-Gebühr: 25 €\nDana für den Lehrer und das Buddha-Haus München
URL:https://buddhahaus-muenchen.de/event/heinz-roiger-das-geschenk-der-meditation-unsere-innere-quelle-und-heim-kurs-26/
LOCATION:Buddha-Haus München
CATEGORIES:Besonders geeignete Wochenendkurse,Wochenendseminare
ATTACH;FMTTYPE=image/jpeg:https://buddhahaus-muenchen.de/wp-content/uploads/2021/11/heinz_web.jpg
END:VEVENT
BEGIN:VEVENT
DTSTART;TZID=Europe/Berlin:20240624T190000
DTEND;TZID=Europe/Berlin:20240624T210000
DTSTAMP:20260423T185241
CREATED:20231204T155809Z
LAST-MODIFIED:20240702T142520Z
UID:35738-1719255600-1719262800@buddhahaus-muenchen.de
SUMMARY:Heinz Roiger: Die Freude am Fluss des Lebens
DESCRIPTION:Die Abende laden ein zu authentischer Begegnung mit sich\, zu Freude an unserer Lebendigkeit\, zu Stille im einfachen da – sein\, zu Anregungen für Vertiefung oder Neuorientierung in unserem Leben. Zeit für innehalten\, alltagsnahe Rückbesinnung und Schaffen von Raum für die Ausrichtung auf das Wesentliche\, sowie intensive Begegnung mit sich selbst und Austausch mit anderen Menschen. \nEs wird die Möglichkeit zu Einzel- und Gruppengesprächen geben. \n10 Abende / Termine und Themen:\n1) 08.04. – Die Freude der Geistesentfaltung 2) 15.04. – Was möchte ich leben?\n3) 22.04. – Projektion und Realität 4) 29.04. – Die Natur unseres Geistes\n5) 06.05. – Die Kraftquelle Ruhe 6) 13.05. – Die Tiefe des Geistes erfahren\n7) 03.06. – Das Potential des Erkennens 8) 10.06. – Die Fokussierung der Gedanken\n9) 17.06. – Die Fallen und Verhinderungen 10) 24.06. – Der Weg des Herzens \nKursgebühr: 100€\nDana: freiwillige Spende für LehrerIn und das Buddha-Haus München
URL:https://buddhahaus-muenchen.de/event/heinz-roiger-die-freude-am-fluss-des-lebens-2/2024-06-24/
LOCATION:Buddha-Haus München
CATEGORIES:Meditationskurse unter der Woche,Offene Meditationsabende
ATTACH;FMTTYPE=image/jpeg:https://buddhahaus-muenchen.de/wp-content/uploads/2021/11/heinz_web.jpg
END:VEVENT
BEGIN:VEVENT
DTSTART;TZID=Europe/Berlin:20240427T093000
DTEND;TZID=Europe/Berlin:20240428T123000
DTSTAMP:20260423T185241
CREATED:20231205T093723Z
LAST-MODIFIED:20231205T093723Z
UID:35779-1714210200-1714307400@buddhahaus-muenchen.de
SUMMARY:Heinz Roiger: Dieser eine Moment – unser Leben jetzt leben | Kurs 15
DESCRIPTION:Das Leben ist einzigartig und findet nur im jetzigen Moment statt. Wir befinden uns stattdessen oft mit unseren Wünschen in der Zukunft oder halten an der Vergangenheit fest. So fließen wir oft nicht „im Leben“ mit. Und fühlen uns abgetrennt. Dies ist eine der großen Quellen für Unzufriedenheit.\n„Die Dinge sehen wie sie wirklich sind“\, ein bekannter Ausspruch des Buddha\, führt uns zum Kern – Thema dieses Seminars und\nzurück in diesen Moment unseres Lebens. Wir wollen untersuchen\, was uns daran hindert\, diese Realität in seiner tiefen Wirklichkeit zu leben und Verhinderungen aufzulösen. \nEs wird die Möglichkeit zu Einzel- und Gruppengesprächen geben. \nKursgebühr: 60 €\nOrga-Gebühr: 25 €\nDana für den Lehrer und das Buddha-Haus München
URL:https://buddhahaus-muenchen.de/event/heinz-roiger-dieser-eine-moment-unser-leben-jetzt-leben-kurs-15/
LOCATION:Buddha-Haus München
CATEGORIES:Besonders geeignete Wochenendkurse,Wochenendseminare
ATTACH;FMTTYPE=image/jpeg:https://buddhahaus-muenchen.de/wp-content/uploads/2021/11/heinz_web.jpg
END:VEVENT
BEGIN:VEVENT
DTSTART;TZID=Europe/Berlin:20240108T190000
DTEND;TZID=Europe/Berlin:20240108T210000
DTSTAMP:20260423T185241
CREATED:20231204T154444Z
LAST-MODIFIED:20240208T200102Z
UID:35695-1704740400-1704747600@buddhahaus-muenchen.de
SUMMARY:Heinz Roiger: Die Leichtigkeit des Seins
DESCRIPTION:Zeit für innehalten\, alltagsnahe Rückbesinnung und Schaffen von Raum für die Ausrichtung auf das Wesentliche\, sowie intensive Begegnung mit sich selbst und Austausch mit anderen Menschen. \nDie Abende laden ein:\n– zu authentischer Begegnung mit sich\n– zu Freude an unserer Lebendigkeit\n– zu Stille im einfachen da – sein\n– zu Anregungen für Vertiefung oder Neuorientierung in unserem Leben. \nEs wird die Möglichkeit zu Einzel- und Gruppengesprächen geben. \n10 Abende / Termine und Themen:\n1) 08.01. – Vipassana – das Potential Einsicht 2) 15.01. – Samatha – das Potential Ruhe\n3) 22.01. – Leben hier und jetzt 4) 29.01. – Die Freude am spirituellen Weg\n5) 05.02. – Vom Kopf zum Herz 6) 19.02. – Vertrauen in sich selbst\n7) 26.02. – Klarheit und Wahrheit 8) 04.03. – Es ist wie es ist\n9) 11.03.- Der Weg der Freundschaft (Pause 18.03.)\n10) 25.03. – Die Fallen des Weges im Alltag erkennen \n  \nKursgebühr: 100€\nDana: freiwillige Spende für LehrerIn und das Buddha-Haus München
URL:https://buddhahaus-muenchen.de/event/heinz-roiger-die-leichtigkeit-des-seins/2024-01-08/
LOCATION:Buddha-Haus München
CATEGORIES:Meditationskurse unter der Woche,Offene Meditationsabende,Online
ATTACH;FMTTYPE=image/jpeg:https://buddhahaus-muenchen.de/wp-content/uploads/2021/11/heinz_web.jpg
END:VEVENT
BEGIN:VEVENT
DTSTART;TZID=Europe/Berlin:20231229T190000
DTEND;TZID=Europe/Berlin:20240101T130000
DTSTAMP:20260423T185241
CREATED:20230629T190656Z
LAST-MODIFIED:20231228T201744Z
UID:32782-1703876400-1704114000@buddhahaus-muenchen.de
SUMMARY:Heinz Roiger: Der Weg des Herzens – Neujahrs-Retreat
DESCRIPTION:Zeit für Innehalten\, alltagsnahe Rückbesinnung. Raum schaffen für eine Ausrichtung auf das Wesentliche – auf die Ziele im kommenden Jahr – im Einklang mit Deinem spirituellen Wachstum. Die Tage werden getragen von Stille-Meditation und führen über Bewusstseins- und Körperarbeit in Deinen Herzensraum zur Entfaltung der Liebe und Lebensfreude. \nEine intensive Begegnung mit Dir selbst und Gleichgesinnten. Die Fragen unseres „Lebens“ begleiten uns an diesen Tagen. Wir werden noch einmal bewusst das Alte Jahr an uns vorbeiziehen lassen\, um es in Liebe und Dankbarkeit zu verabschieden\, und das Neue Jahr offen\, voll Vertrauen und von Herzen willkommen heißen. Außer Meditation werden wir schöne Rituale und verschiedene Energieübungen machen\, die uns im Loslassen und Einladen unterstützen.\n\nHier findest du den genauen Tagesplan\n\nKursgebühr: 160\,- € und freiwillige Spende\nDana: freiwillige Spende für das Buddha-Haus München\nDie Anmeldung für eine Teilnahme vor Ort endet am 28.12. um 19:00 Uhr. Für die online Teilnahme am 29.12. um 15:00 Uhr\n\nHinweis: Bitte eigene Verpflegung und Getränke mitbringen. Matten\, Stühle und Bänke sind vorhanden. Kissen\, Decken\, etc. Bitte selbst mitbringen.
URL:https://buddhahaus-muenchen.de/event/heinz-roiger-der-weg-des-herzens-neujahrs-retreat/
LOCATION:Buddha-Haus München
CATEGORIES:Retreats,Wochenendseminare
ATTACH;FMTTYPE=image/jpeg:https://buddhahaus-muenchen.de/wp-content/uploads/2021/11/heinz_web.jpg
END:VEVENT
BEGIN:VEVENT
DTSTART;TZID=Europe/Berlin:20231106T190000
DTEND;TZID=Europe/Berlin:20231106T210000
DTSTAMP:20260423T185241
CREATED:20230629T185005Z
LAST-MODIFIED:20230629T190807Z
UID:32760-1699297200-1699304400@buddhahaus-muenchen.de
SUMMARY:Heinz Roiger: Der Weg ist die Freiheit
DESCRIPTION:Die Abende laden ein zu authentischer Begegnung mit sich\, zu Freude an unserer Lebendigkeit\, zu Stille im einfachen da – sein\, zu Anregungen für Vertiefung oder Neuorientierung in unserem Leben. Zeit für innehalten\, alltagsnahe Rückbesinnung und Schaffen von Raum für die Ausrichtung auf das Wesentliche\, sowie intensive Begegnung mit sich selbst und Austausch mit anderen Menschen. \nEs wird die Möglichkeit zu Einzel- und Gruppengesprächen geben. \n7 Abende / Termine: \n06.11. / 13.11. / 20.11. / 27.11. / 04.12. / 11.12. / 18.12. \n  \nKursgebühr: 70€\nDana: freiwillige Spende für LehrerIn und das Buddha-Haus München
URL:https://buddhahaus-muenchen.de/event/heinz-roiger-der-weg-ist-die-freiheit-2/2023-11-06/
LOCATION:Buddha-Haus München
CATEGORIES:Meditationskurse unter der Woche
ATTACH;FMTTYPE=image/jpeg:https://buddhahaus-muenchen.de/wp-content/uploads/2021/11/heinz_web.jpg
END:VEVENT
BEGIN:VEVENT
DTSTART;TZID=Europe/Berlin:20230904T190000
DTEND;TZID=Europe/Berlin:20230904T210000
DTSTAMP:20260423T185241
CREATED:20230629T184534Z
LAST-MODIFIED:20230929T183259Z
UID:32748-1693854000-1693861200@buddhahaus-muenchen.de
SUMMARY:Heinz Roiger: Der Weg ist die Freiheit
DESCRIPTION:Die Abende laden ein zu authentischer Begegnung mit sich\, zu Freude an unserer Lebendigkeit\, zu Stille im einfachen da – sein\, zu Anregungen für Vertiefung oder Neuorientierung in unserem Leben. Zeit für innehalten\, alltagsnahe Rückbesinnung und Schaffen von Raum für die Ausrichtung auf das Wesentliche\, sowie intensive Begegnung mit sich selbst und Austausch mit anderen Menschen. \nEs wird die Möglichkeit zu Einzel- und Gruppengesprächen geben. \n7 Abende / Termine: \n04.09. / 11.09. / 18.09. / 25.09. / 09.10. / 16.10. / 23.10. \n  \nKursgebühr: 70€\nDana: freiwillige Spende für LehrerIn und das Buddha-Haus München
URL:https://buddhahaus-muenchen.de/event/heinz-roiger-der-weg-ist-die-freiheit/2023-09-04/
LOCATION:Buddha-Haus München
CATEGORIES:Meditationskurse unter der Woche
ATTACH;FMTTYPE=image/jpeg:https://buddhahaus-muenchen.de/wp-content/uploads/2021/11/heinz_web.jpg
END:VEVENT
BEGIN:VEVENT
DTSTART;TZID=Europe/Berlin:20230417T190000
DTEND;TZID=Europe/Berlin:20230417T210000
DTSTAMP:20260423T185241
CREATED:20230410T185803Z
LAST-MODIFIED:20230412T121426Z
UID:31205-1681758000-1681765200@buddhahaus-muenchen.de
SUMMARY:Heinz Roiger: Die Freude am Fluss des Lebens
DESCRIPTION:Die Abende laden ein zu authentischer Begegnung mit sich\, zu Freude an unserer Lebendigkeit\, zu Stille im einfachen da – sein\, zu Anregungen für Vertiefung oder Neuorientierung in unserem Leben. Zeit für innehalten\, alltagsnahe Rückbesinnung und Schaffen von Raum für die Ausrichtung auf das Wesentliche\, sowie intensive Begegnung mit sich selbst und Austausch mit anderen Menschen. \nEs wird die Möglichkeit zu Einzel- und Gruppengesprächen geben. \n9 Abende / Termine und Themen:\n1) 17.04. – Die Freude der Geistesentfaltung\n2) 24.04. – Was möchte ich leben?\n3) 01.05. – Projektion und Realität\n4) 08.05. – Die Natur unseres Geistes\n5) 15.05. – Die Kraftquelle Ruhe\n6) 22.05. – Die Tiefe des Geistes erfahren\n7) 12.06. – Das Potential des Erkennens\n8) 19.06. – Die Fokussierung der Gedanken\n9) 26.06. – Die Fallen und Verhinderungen\nPause 29.05. und 05.06. \n  \n  \nKursgebühr: 100€\nDana: freiwillige Spende für LehrerIn und das Buddha-Haus München
URL:https://buddhahaus-muenchen.de/event/heinz-roiger-die-freude-am-fluss-des-lebens/2023-04-17/
LOCATION:Buddha-Haus München
CATEGORIES:Meditationskurse unter der Woche
ATTACH;FMTTYPE=image/jpeg:https://buddhahaus-muenchen.de/wp-content/uploads/2021/11/heinz_web.jpg
END:VEVENT
BEGIN:VEVENT
DTSTART;TZID=Europe/Berlin:20221014T190000
DTEND;TZID=Europe/Berlin:20221016T130000
DTSTAMP:20260423T185241
CREATED:20211111T142440Z
LAST-MODIFIED:20211216T204033Z
UID:21795-1665774000-1665925200@buddhahaus-muenchen.de
SUMMARY:Heinz Roiger: Die Leichtigkeit des Seins – Da - Sein "Im reinen Beobachten" | Kurs 30
DESCRIPTION:Viele Wahrnehmungsprozesse laufen unbewusst ab\, so dass wir oft nicht bemerken\, dass wir eine durch unsere Konditionierung gefilterte Welt erleben.\nDoch unter all den Konditionierungen liegt eine bedingungslose\, wache Präsenz und die Natur des menschlichen Herzens – liebevoll und interessiert. \nErfahre die heilsame Kraft der meditativen Vertiefungen\, die die inneren Fenster zur Weite der Bewusstheit öffnen.\nWir lernen vertiefende Übungen für unseren Alltag. \nEs wird die Möglichkeit zu Einzel- und Gruppengesprächen geben. \nKursgebühr: 80 €\nOrgagebühr:  25 €\nDana: freie Spende für den Lehrer und für das Meditationszentrum München
URL:https://buddhahaus-muenchen.de/event/heinz-roiger-die-leichtigkeit-des-seins-da-sein-im-reinen-beobachten-kurs-30/
LOCATION:Buddha-Haus München
CATEGORIES:Wochenendseminare
ATTACH;FMTTYPE=image/jpeg:https://buddhahaus-muenchen.de/wp-content/uploads/2021/11/heinz_web.jpg
END:VEVENT
BEGIN:VEVENT
DTSTART;TZID=Europe/Berlin:20220225T190000
DTEND;TZID=Europe/Berlin:20220227T123000
DTSTAMP:20260423T185241
CREATED:20211111T071700Z
LAST-MODIFIED:20220225T160800Z
UID:21782-1645815600-1645965000@buddhahaus-muenchen.de
SUMMARY:Heinz Roiger: Dieser eine Moment – unser Leben jetzt leben | Kurs 31
DESCRIPTION:Das Leben ist einzigartig und findet nur im jetzigen Moment statt. Wir befinden uns stattdessen oft mit unseren Wünschen in der Zukunft oder halten an der Vergangenheit fest. So fließen wir oft nicht „im Leben“ mit. Und fühlen uns abgetrennt. \nDies ist eine der großen Quellen für Unzufriedenheit. „Die Dinge sehen wie sie wirklich sind“\, ein bekannter Ausspruch des Buddha\, führt uns zum Kern – Thema dieses Seminars und zurück in diesen Moment unseres Lebens. \nWir wollen untersuchen\, was uns daran hindert\, diese Realität in seiner tiefen Wirklichkeit zu leben und Verhinderungen aufzulösen. Es wird die Möglichkeit zu Einzel- und Gruppengesprächen geben. \nKursgebühr: 80 €\nOrgagebühr:  30 €\nDana: freie Spende für den Lehrer und für das Meditationszentrum München
URL:https://buddhahaus-muenchen.de/event/heinz-roiger-dieser-eine-moment-unser-leben-jetzt-leben-kurs-31/
LOCATION:Buddha-Haus München
CATEGORIES:Wochenendseminare
ATTACH;FMTTYPE=image/jpeg:https://buddhahaus-muenchen.de/wp-content/uploads/2021/11/heinz_web.jpg
END:VEVENT
END:VCALENDAR