BEGIN:VCALENDAR
VERSION:2.0
PRODID:-//Buddha-Haus München - ECPv6.15.16.1//NONSGML v1.0//EN
CALSCALE:GREGORIAN
METHOD:PUBLISH
X-WR-CALNAME:Buddha-Haus München
X-ORIGINAL-URL:https://buddhahaus-muenchen.de
X-WR-CALDESC:Veranstaltungen für Buddha-Haus München
REFRESH-INTERVAL;VALUE=DURATION:PT1H
X-Robots-Tag:noindex
X-PUBLISHED-TTL:PT1H
BEGIN:VTIMEZONE
TZID:Europe/Berlin
BEGIN:DAYLIGHT
TZOFFSETFROM:+0100
TZOFFSETTO:+0200
TZNAME:CEST
DTSTART:20220327T010000
END:DAYLIGHT
BEGIN:STANDARD
TZOFFSETFROM:+0200
TZOFFSETTO:+0100
TZNAME:CET
DTSTART:20221030T010000
END:STANDARD
BEGIN:DAYLIGHT
TZOFFSETFROM:+0100
TZOFFSETTO:+0200
TZNAME:CEST
DTSTART:20230326T010000
END:DAYLIGHT
BEGIN:STANDARD
TZOFFSETFROM:+0200
TZOFFSETTO:+0100
TZNAME:CET
DTSTART:20231029T010000
END:STANDARD
BEGIN:DAYLIGHT
TZOFFSETFROM:+0100
TZOFFSETTO:+0200
TZNAME:CEST
DTSTART:20240331T010000
END:DAYLIGHT
BEGIN:STANDARD
TZOFFSETFROM:+0200
TZOFFSETTO:+0100
TZNAME:CET
DTSTART:20241027T010000
END:STANDARD
BEGIN:DAYLIGHT
TZOFFSETFROM:+0100
TZOFFSETTO:+0200
TZNAME:CEST
DTSTART:20250330T010000
END:DAYLIGHT
BEGIN:STANDARD
TZOFFSETFROM:+0200
TZOFFSETTO:+0100
TZNAME:CET
DTSTART:20251026T010000
END:STANDARD
BEGIN:DAYLIGHT
TZOFFSETFROM:+0100
TZOFFSETTO:+0200
TZNAME:CEST
DTSTART:20260329T010000
END:DAYLIGHT
BEGIN:STANDARD
TZOFFSETFROM:+0200
TZOFFSETTO:+0100
TZNAME:CET
DTSTART:20261025T010000
END:STANDARD
BEGIN:DAYLIGHT
TZOFFSETFROM:+0100
TZOFFSETTO:+0200
TZNAME:CEST
DTSTART:20270328T010000
END:DAYLIGHT
BEGIN:STANDARD
TZOFFSETFROM:+0200
TZOFFSETTO:+0100
TZNAME:CET
DTSTART:20271031T010000
END:STANDARD
END:VTIMEZONE
BEGIN:VEVENT
DTSTART;TZID=Europe/Berlin:20260305T183000
DTEND;TZID=Europe/Berlin:20260305T210000
DTSTAMP:20260421T201942
CREATED:20250820T064552Z
LAST-MODIFIED:20260119T112526Z
UID:44283-1772735400-1772744400@buddhahaus-muenchen.de
SUMMARY:AUSGEBUCHT: Regina Erbach: Stressreduktion durch Achtsamkeit (MBSR) | Kurs K 1 2026
DESCRIPTION:Stress\, Ängste und Sorgen verschiedenster Art scheinen manchmal unsere ständigen Begleiter zu sein. Wir sind jedoch nicht machtlos dagegen! \nIn diesem Kurs lernen wir\, mit Hilfe von Meditation\, Körperübungen und Erkenntnissen aus der Stressforschung wieder den Zugang zu uns selbst zu finden – zu der inneren Ruhe\, Kraft und Lebensfreude\, die in uns schon immer natürlich vorhanden sind. Der Kurs wird von den gesetzlichen Krankenkassen bezuschusst; melden Sie sich gerne für ein unverbindliches persönliches Vorgespräch unter regina.erbach@posteo.de. \nDonnerstags 15.01. – 05.03.2026            18.30 – 21 Uhr\nTag der Stille Samstag 28.02.2026 \nKursgebühr: 260 € (incl. Arbeitsbuch und Meditationsanleitungen auf CD/mp3)\nOrgagebühr: 50 €\nDana:  freie Spende für LehrerIn und Buddhahaus München
URL:https://buddhahaus-muenchen.de/event/regina-erbach-stressreduktion-durch-achtsamkeit-mbsr-kurs-k1-2026/2026-03-05/
LOCATION:Buddha-Haus München
CATEGORIES:MBSR
ATTACH;FMTTYPE=image/jpeg:https://buddhahaus-muenchen.de/wp-content/uploads/2019/11/Regina-Erbach.jpg
END:VEVENT
BEGIN:VEVENT
DTSTART;TZID=Europe/Berlin:20251204T090000
DTEND;TZID=Europe/Berlin:20251204T160000
DTSTAMP:20260421T201942
CREATED:20241003T140354Z
LAST-MODIFIED:20250915T140518Z
UID:43445-1764838800-1764864000@buddhahaus-muenchen.de
SUMMARY:AUSGEBUCHT / WARTELISTE - Regina Erbach:  Stressreduktion durch Achtsamkeit (MBSR) | Kurs K-6
DESCRIPTION:Stress\, Ängste und Sorgen verschiedenster Art scheinen manchmal unsere ständigen Begleiter zu sein. Wir sind jedoch nicht machtlos dagegen!\nIn diesem Kurs lernen wir\, mit Hilfe von Meditation\, Körperübungen und Erkenntnissen aus der Stressforschung wieder den Zugang zu uns selbst zu finden – zu der inneren Ruhe\, Kraft und Lebensfreude\, die in uns schon immer natürlich vorhanden sind. Der Kurs wird von den gesetzlichen Krankenkassen bezuschusst; melden Sie sich gerne für ein unverbindliches persönliches Vorgespräch unter regina.erbach@posteo.de. \nDonnerstags 09.10. – 04.12.25             18.30 – 21 Uhr\nTag der Stille Samstag 15.11.25 \nKursgebühr: 260 € (incl. Arbeitsbuch und Meditationsanleitungen auf CD/mp3)\nOrgagebühr: 50 €\nDana für die Lehrerin und das Buddha-Haus München
URL:https://buddhahaus-muenchen.de/event/regina-erbach-stressreduktion-durch-achtsamkeit-mbsr-kurs-k-6/2025-12-04/
LOCATION:Buddha-Haus München
CATEGORIES:MBSR
ATTACH;FMTTYPE=image/jpeg:https://buddhahaus-muenchen.de/wp-content/uploads/2019/11/Regina-Erbach.jpg
END:VEVENT
BEGIN:VEVENT
DTSTART;TZID=Europe/Berlin:20250519T184500
DTEND;TZID=Europe/Berlin:20250519T211500
DTSTAMP:20260421T201942
CREATED:20241003T141322Z
LAST-MODIFIED:20241014T141346Z
UID:40399-1747680300-1747689300@buddhahaus-muenchen.de
SUMMARY:Regina Erbach:  Stressreduktion durch Achtsamkeit (MBSR) | Kurs K-7
DESCRIPTION:Stress\, Ängste und Sorgen verschiedenster Art scheinen oft unsere ständigen Begleiter zu sein. Wir sind jedoch nicht machtlos dagegen! \nIn diesem Kurs lernen wir\, mit Hilfe von Meditation\, Körperübungen und Erkenntnissen aus der Stressforschung wieder den Zugang zu uns selbst zu finden – zu der inneren Ruhe\, Kraft und Lebensfreude\, die in uns schon immer natürlich vorhanden sind. Der Kurs wird von den gesetzlichen Krankenkassen bezuschusst; melden Sie sich gerne für ein unverbindliches persönliches Vorgespräch unter regina.erbach(at)posteo.de. \nMontags 24.03. – 19.05.25 jeweils um 18.45 – 21.15 Uhr             \nTag der Stille Samstag 10.05.25 \n(Kurspause am Ostermontag 21.04.) \nKursgebühr: 260 € (incl. Arbeitsbuch und Meditationsanleitungen auf CD/mp3)\nOrgagebühr: 50 €\nDana für die Lehrerin und das Buddha-Haus München
URL:https://buddhahaus-muenchen.de/event/regina-erbach-stressreduktion-durch-achtsamkeit-mbsr-kurs-k-7/2025-05-19/
LOCATION:Buddha-Haus München
CATEGORIES:MBSR
ATTACH;FMTTYPE=image/jpeg:https://buddhahaus-muenchen.de/wp-content/uploads/2019/11/Regina-Erbach.jpg
END:VEVENT
BEGIN:VEVENT
DTSTART;TZID=Europe/Berlin:20250410T190000
DTEND;TZID=Europe/Berlin:20250410T210000
DTSTAMP:20260421T201942
CREATED:20241003T134352Z
LAST-MODIFIED:20250201T082012Z
UID:40322-1744311600-1744318800@buddhahaus-muenchen.de
SUMMARY:AUSGEBUCHT Regina Erbach: MBSR und mehr – Komm in deine Kraft | Kurs K-3
DESCRIPTION:5 Abende mit angeleiteten Meditationen und Körperübungen sowie Zeit für Austausch und Empfehlungen für die Praxis im Alltag.  \nDie Praxis der Achtsamkeit hilft uns dabei\, unsere inneren Kraftquellen zu erschließen und wieder „zum Sprudeln zu bringen“\, so dass sie uns in schwierigen Zeiten zur Verfügung stehen. \nMit Hilfe der „Vier Grundlagen der Achtsamkeit“ entwickeln wir ein tieferes Verständnis unseres Mensch-Seins und mehr Mitgefühl für uns selbst und andere. Daraus erwachsen innere Stärke\, innerer Frieden und Lebensfreude. Der Kurs orientiert sich an dem MBSR-Konzept nach Jon Kabat-Zinn und ist sowohl für Anfänger als auch zur Vertiefung der Achtsamkeitspraxis geeignet. \nKursgebühr: 70 € für 5 Abende\nDana für die Lehrerin und das Buddha-Haus München
URL:https://buddhahaus-muenchen.de/event/regina-erbach-mbsr-und-mehr-komm-in-deine-kraft-kurs-k-3/2025-04-10/
LOCATION:Buddha-Haus München
CATEGORIES:MBSR
ATTACH;FMTTYPE=image/jpeg:https://buddhahaus-muenchen.de/wp-content/uploads/2019/11/Regina-Erbach.jpg
END:VEVENT
BEGIN:VEVENT
DTSTART;TZID=Europe/Berlin:20230706T190000
DTEND;TZID=Europe/Berlin:20230706T210000
DTSTAMP:20260421T201942
CREATED:20230326T140040Z
LAST-MODIFIED:20230526T070231Z
UID:31023-1688670000-1688677200@buddhahaus-muenchen.de
SUMMARY:AUSGEBUCHT: Regina Erbach: MBSR und mehr – Erkenntnis\, Liebe und Mitgefühl
DESCRIPTION:Die Praxis der Achtsamkeit erneuern\, erweitern\, das Verständnis vertiefen – dieses Angebot richtet sich vor allem an Menschen\, die schon an einem MBSR-Kurs teilgenommen haben. \n4 Abende mit angeleiteten Meditationen und Körperübungen sowie Zeit für Austausch und Empfehlungen für die Praxis im Alltag. \nDurch die gemeinsame Praxis nähren wir heilsame Gefühls- und Geisteszustände in uns\, so dass sie uns in ein Leben mit mehr Verständnis und Mitgefühl für uns selbst und andere führen\, und daraus erwachsen innerer Friede\, Freude und Liebe. \nKursgebühr: 75€\nOrga-Gebühr: 20 €\nDana für die Lehrerin und das Buddha-Haus München
URL:https://buddhahaus-muenchen.de/event/regina-erbach-mbsr-und-mehr-erkenntnis-liebe-und-mitgefuehl/2023-07-06/
LOCATION:Buddha-Haus München
CATEGORIES:MBSR
ATTACH;FMTTYPE=image/jpeg:https://buddhahaus-muenchen.de/wp-content/uploads/2019/11/Regina-Erbach.jpg
END:VEVENT
END:VCALENDAR