BEGIN:VCALENDAR
VERSION:2.0
PRODID:-//Buddha-Haus München - ECPv6.15.16.1//NONSGML v1.0//EN
CALSCALE:GREGORIAN
METHOD:PUBLISH
X-WR-CALNAME:Buddha-Haus München
X-ORIGINAL-URL:https://buddhahaus-muenchen.de
X-WR-CALDESC:Veranstaltungen für Buddha-Haus München
REFRESH-INTERVAL;VALUE=DURATION:PT1H
X-Robots-Tag:noindex
X-PUBLISHED-TTL:PT1H
BEGIN:VTIMEZONE
TZID:Europe/Berlin
BEGIN:DAYLIGHT
TZOFFSETFROM:+0100
TZOFFSETTO:+0200
TZNAME:CEST
DTSTART:20230326T010000
END:DAYLIGHT
BEGIN:STANDARD
TZOFFSETFROM:+0200
TZOFFSETTO:+0100
TZNAME:CET
DTSTART:20231029T010000
END:STANDARD
BEGIN:DAYLIGHT
TZOFFSETFROM:+0100
TZOFFSETTO:+0200
TZNAME:CEST
DTSTART:20240331T010000
END:DAYLIGHT
BEGIN:STANDARD
TZOFFSETFROM:+0200
TZOFFSETTO:+0100
TZNAME:CET
DTSTART:20241027T010000
END:STANDARD
BEGIN:DAYLIGHT
TZOFFSETFROM:+0100
TZOFFSETTO:+0200
TZNAME:CEST
DTSTART:20250330T010000
END:DAYLIGHT
BEGIN:STANDARD
TZOFFSETFROM:+0200
TZOFFSETTO:+0100
TZNAME:CET
DTSTART:20251026T010000
END:STANDARD
END:VTIMEZONE
BEGIN:VEVENT
DTSTART;TZID=Europe/Berlin:20241014T080000
DTEND;TZID=Europe/Berlin:20241014T084500
DTSTAMP:20260422T080522
CREATED:20240401T104752Z
LAST-MODIFIED:20241128T210551Z
UID:37759-1728892800-1728895500@buddhahaus-muenchen.de
SUMMARY:Morgenmeditation täglich Online
DESCRIPTION:Wo auch immer ihr eure Morgen verbringt: wir laden euch zur Online-Morgenmeditation mit einer Hineinführung in die Stille Meditation via Zoom ein. Bitte nutze die Anmeldefunktion. Den Zugang zur Online-Meditation erhältst Du direkt im Anschluss per Email. \n\nAnleiter:\nMontag – Heinz Roiger\nDienstag – Alexander Weicker\nMittwoch – Angelika Reintzsch\nDonnerstag – Romy Schlichting\nFreitag – David Schoch \nAnmeldung: Bitte nutze die Anmeldung. Den Zugang zur Online Meditation bekommst du im Anschluss direkt per Email!\nKosten: Dana: freiwillige Spende für LehrerIn und für das Meditationszentrum München
URL:https://buddhahaus-muenchen.de/event/morgenmeditation-online-4/2024-10-14/
LOCATION:Buddha-Haus München
CATEGORIES:Online
ATTACH;FMTTYPE=image/png:https://buddhahaus-muenchen.de/wp-content/uploads/2024/10/Muenchen-Web-Kursseite3.png
END:VEVENT
BEGIN:VEVENT
DTSTART;TZID=Europe/Berlin:20241014T160000
DTEND;TZID=Europe/Berlin:20241014T170000
DTSTAMP:20260422T080522
CREATED:20231206T210944Z
LAST-MODIFIED:20240713T202655Z
UID:35921-1728921600-1728925200@buddhahaus-muenchen.de
SUMMARY:Dr. Olga Bulinova: Yoga
DESCRIPTION:Yoga wirkt ganzheitlich auf den Geist und den Körper\, auf das Gemüt und den Verstand. Sie erlernen verschiedene Techniken und Möglichkeiten für die Arbeit mit dem Körper und dem Geist\, die Yoga anbietet\, und bekommen Anleitungen für das selbständige Üben zu Hause. \nDer Kurs richtet sich an alle\, die ihren Körper besser kennenlernen und ihren Geist beruhigen möchten. Der Körper wird langsam aufgebaut und die Entspannung geübt. Bei Buchung von 12 Terminen wird der Kurs von den gesetzlichen Krankenkassen bezuschusst. \n  \nKursgebühr: 13 € pro Abend (ohne Anmeldung)\n10 € pro Abend bei Anmeldung für 12 Termine = gesamt 120\,- €  (KK-Zuschuss möglich)\nDana: freiwillige Spende für LehrerIn und für das Meditationszentrum München erbeten
URL:https://buddhahaus-muenchen.de/event/dr-olga-bulinova-yoga-3/2024-10-14/
LOCATION:Buddha-Haus München
CATEGORIES:Yoga
ATTACH;FMTTYPE=image/jpeg:https://buddhahaus-muenchen.de/wp-content/uploads/2022/12/Olga-1-scaled.jpg
END:VEVENT
BEGIN:VEVENT
DTSTART;TZID=Europe/Berlin:20241014T173000
DTEND;TZID=Europe/Berlin:20241014T183000
DTSTAMP:20260422T080522
CREATED:20230915T091553Z
LAST-MODIFIED:20240713T202803Z
UID:34652-1728927000-1728930600@buddhahaus-muenchen.de
SUMMARY:Dr. Olga Bulinova: Yoga
DESCRIPTION:Yoga wirkt ganzheitlich auf den Geist und den Körper\, auf das Gemüt und den Verstand. Sie erlernen verschiedene Techniken und Möglichkeiten für die Arbeit mit dem Körper und dem Geist\, die Yoga anbietet\, und bekommen Anleitungen für das selbständige Üben zu Hause. \nDer Kurs richtet sich an alle\, die ihren Körper besser kennenlernen und ihren Geist beruhigen möchten. Der Körper wird langsam aufgebaut und die Entspannung geübt. Bei Buchung von 12 Terminen wird der Kurs von den gesetzlichen Krankenkassen bezuschusst. \n  \nKursgebühr: 13 € pro Abend (ohne Anmeldung)\n10 € pro Abend bei Anmeldung für 12 Termine = gesamt 120\,- €  (KK-Zuschuss möglich)\nDana: freiwillige Spende für LehrerIn und für das Meditationszentrum München erbeten
URL:https://buddhahaus-muenchen.de/event/dr-olga-bulinova-yoga-2/2024-10-14/
LOCATION:Buddha-Haus München
CATEGORIES:Yoga
ATTACH;FMTTYPE=image/jpeg:https://buddhahaus-muenchen.de/wp-content/uploads/2020/02/Olga4-P.jpg
END:VEVENT
BEGIN:VEVENT
DTSTART;TZID=Europe/Berlin:20241014T190000
DTEND;TZID=Europe/Berlin:20241014T210000
DTSTAMP:20260422T080522
CREATED:20231204T160647Z
LAST-MODIFIED:20241015T122651Z
UID:35756-1728932400-1728939600@buddhahaus-muenchen.de
SUMMARY:Heinz Roiger: Der Weg ist die Freiheit
DESCRIPTION:Zeit für innehalten\, alltagsnahe Rückbesinnung und Schaffen von Raum für die Ausrichtung auf das Wesentliche\, sowie intensive Begegnung mit sich selbst und Austausch mit anderen Menschen. Die Abende laden ein:\n– zu authentischer Begegnung mit sich\n– zu Freude an unserer Lebendigkeit\n– zu Stille im einfachen da – sein\n– zu Anregungen für Vertiefung oder Neuorientierung in unserem Leben \nEs wird die Möglichkeit zu Einzel- und Gruppengesprächen geben. \n7 Abende / Termine und Themen:\n1) 09.09. – Der Weg des Herzens\n2) 16.09. – Vorstellungen und Erwartungen\n3) 23.09. – Die Kerne aller Existenz\n4) 30.09. – Alles was wir benötigen ist da\n5) 07.10. – Die Kraft unseres Geistes\n6) 14.10. – Die Kraft der Emotionen\n7) 21.10. – Die Kraft der Bewusstseinsentfaltung \nKursgebühr: 70€\nDana: freiwillige Spende für LehrerIn und das Buddha-Haus München
URL:https://buddhahaus-muenchen.de/event/heinz-roiger-der-weg-ist-die-freiheit-3/2024-10-14/
LOCATION:Buddha-Haus München
CATEGORIES:Meditationskurse unter der Woche,Online
ATTACH;FMTTYPE=image/jpeg:https://buddhahaus-muenchen.de/wp-content/uploads/2021/11/heinz_web.jpg
END:VEVENT
BEGIN:VEVENT
DTSTART;TZID=Europe/Berlin:20241015T080000
DTEND;TZID=Europe/Berlin:20241015T084500
DTSTAMP:20260422T080522
CREATED:20240401T104752Z
LAST-MODIFIED:20241128T210552Z
UID:37760-1728979200-1728981900@buddhahaus-muenchen.de
SUMMARY:Morgenmeditation täglich Online
DESCRIPTION:Wo auch immer ihr eure Morgen verbringt: wir laden euch zur Online-Morgenmeditation mit einer Hineinführung in die Stille Meditation via Zoom ein. Bitte nutze die Anmeldefunktion. Den Zugang zur Online-Meditation erhältst Du direkt im Anschluss per Email. \n\nAnleiter:\nMontag – Heinz Roiger\nDienstag – Alexander Weicker\nMittwoch – Angelika Reintzsch\nDonnerstag – Romy Schlichting\nFreitag – David Schoch \nAnmeldung: Bitte nutze die Anmeldung. Den Zugang zur Online Meditation bekommst du im Anschluss direkt per Email!\nKosten: Dana: freiwillige Spende für LehrerIn und für das Meditationszentrum München
URL:https://buddhahaus-muenchen.de/event/morgenmeditation-online-4/2024-10-15/
LOCATION:Buddha-Haus München
CATEGORIES:Online
ATTACH;FMTTYPE=image/png:https://buddhahaus-muenchen.de/wp-content/uploads/2024/10/Muenchen-Web-Kursseite3.png
END:VEVENT
BEGIN:VEVENT
DTSTART;TZID=Europe/Berlin:20241015T190000
DTEND;TZID=Europe/Berlin:20241015T210000
DTSTAMP:20260422T080522
CREATED:20230915T092047Z
LAST-MODIFIED:20240902T114435Z
UID:34454-1729018800-1729026000@buddhahaus-muenchen.de
SUMMARY:Kalyāna-mitta Abend
DESCRIPTION:Vom Buddha wird betont\, wie wichtig eine Gemeinschaft\, eine spirituelle Freundin\, ein spiritueller Freund (Kalyāna-mitta) ist. So sagt er zu Ananda\, der findet\, dass edle Freundschaft die Hälfte des spirituellen Lebens ausmache: „Sage das nicht\, Ananda\, sage das nicht: ist es ja doch das ganze spirituelle Leben\, nämlich Freundschaft mit Guten\, Gemeinschaft mit Guten\, Vertrautsein mit Guten.“  \nDer Kalyāna-mitta Abend ist ein wöchentlich stattfindender offener Meditationsabend im Buddha-Haus München\, der ab 21. März 2023 dienstags neu beginnt. Die Idee zu diesem Angebot entstand aus dem Wunsch\, als Gruppe von Kalyāna-mittas einen Abend gemeinsam zu gestalten und abwechselnd zu leiten. \nEs ist ein Abend füreinander und miteinander: Wir kultivieren unter „spirituellen Freunden“ die Praxis der Meditation und den Austausch – zur gegenseitigen Ermutigung und Inspiration. \nSo ist hier jede*r willkommen\, der daran Interesse hat in seinem Lebensalltag Qualitäten wie Klarheit\, Mitgefühl und Gelassenheit in sich zu fördern. \nDas Wort „Kalyāna“ kann auf Deutsch übersetzt werden mit: liebenswert\, schön\, erhebend\, inspirierend\, ethisch.  \nEin Kalyāna-mitta ist also jemand\, der sich bemüht\, der sich kümmert\, der freigebig ist\, der auf das Schöne und Gute achtet\, und der sich z.B. fragt: Was ist heilsam\, was nicht? – und dafür nach Antworten in der buddhistischen Lehre sucht \nFragen zur Reflexion dienen der Wochenbegleitung im Alltag und können in der darauffolgenden Woche in den Austausch einfließen. An jedem 3. Dienstag beschäftigen wir uns mit Texten zu Buddhas Lehre. \nDie Gruppenabende werden begeitet von: Bettina Schaschke\, Romy Schlichting\, Alexander Weicker und anderen \n\nBettina: 3.9.-8.10.2024\nAlexander: 15.10.-5.11.2024\nRomy: 12.11.-17.12.2024\n\nAblauf des Abends: Achtsame Körperübungen – Hineinführung in die Meditation – Austausch über Buddhas Lehre  – Liebende Güte- oder Brahmavihāra-Meditation\n \nThemen Herbst/Winter 2024: Themen_Kalyana-mitta-Abend_Herbst_Winter 2024 \n  \nTeilnahme: Schnuppern ist jederzeit möglich\, einfach kommen\nKosten: Auf Spendenbasis (im Rahmen Deiner Möglichkeiten). Deine Spende für das Buddha-Haus München ist freiwillig . „Dana“ (Gebefreude) ist im Buddhismus Teil der spirituellen Praxis.
URL:https://buddhahaus-muenchen.de/event/kalyana-mitta-abend-3/2024-10-15/
LOCATION:Buddha-Haus München
CATEGORIES:Offene Meditationsabende
ATTACH;FMTTYPE=image/jpeg:https://buddhahaus-muenchen.de/wp-content/uploads/2023/01/Kalyana1-e1674116616663.jpg
END:VEVENT
BEGIN:VEVENT
DTSTART;TZID=Europe/Berlin:20241016T080000
DTEND;TZID=Europe/Berlin:20241016T084500
DTSTAMP:20260422T080522
CREATED:20240401T104752Z
LAST-MODIFIED:20241128T210553Z
UID:37761-1729065600-1729068300@buddhahaus-muenchen.de
SUMMARY:Morgenmeditation täglich Online
DESCRIPTION:Wo auch immer ihr eure Morgen verbringt: wir laden euch zur Online-Morgenmeditation mit einer Hineinführung in die Stille Meditation via Zoom ein. Bitte nutze die Anmeldefunktion. Den Zugang zur Online-Meditation erhältst Du direkt im Anschluss per Email. \n\nAnleiter:\nMontag – Heinz Roiger\nDienstag – Alexander Weicker\nMittwoch – Angelika Reintzsch\nDonnerstag – Romy Schlichting\nFreitag – David Schoch \nAnmeldung: Bitte nutze die Anmeldung. Den Zugang zur Online Meditation bekommst du im Anschluss direkt per Email!\nKosten: Dana: freiwillige Spende für LehrerIn und für das Meditationszentrum München
URL:https://buddhahaus-muenchen.de/event/morgenmeditation-online-4/2024-10-16/
LOCATION:Buddha-Haus München
CATEGORIES:Online
ATTACH;FMTTYPE=image/png:https://buddhahaus-muenchen.de/wp-content/uploads/2024/10/Muenchen-Web-Kursseite3.png
END:VEVENT
BEGIN:VEVENT
DTSTART;TZID=Europe/Berlin:20241016T100000
DTEND;TZID=Europe/Berlin:20241016T130000
DTSTAMP:20260422T080522
CREATED:20230915T082052Z
LAST-MODIFIED:20230915T082052Z
UID:34623-1729072800-1729083600@buddhahaus-muenchen.de
SUMMARY:Offene Meditation am Mittwoch
DESCRIPTION:Gemeinsam in die stille Meditation. Einfach sein – ohne Anleitung. \nAchtung: Nicht an Feiertagen! \nAnmeldung: Nicht nötig\nKosten: Dana: freiwillige Spende für LehrerIn und für das Meditationszentrum München
URL:https://buddhahaus-muenchen.de/event/offene-meditation-am-mittwoch/2024-10-16/
LOCATION:Buddha-Haus München
CATEGORIES:Stille Meditation
ATTACH;FMTTYPE=image/jpeg:https://buddhahaus-muenchen.de/wp-content/uploads/2020/06/d75e6a59-f2ea-416b-afd2-095608f6f213.jpg
END:VEVENT
BEGIN:VEVENT
DTSTART;TZID=Europe/Berlin:20241016T190000
DTEND;TZID=Europe/Berlin:20241016T210000
DTSTAMP:20260422T080522
CREATED:20230915T120648Z
LAST-MODIFIED:20241014T112013Z
UID:34268-1729105200-1729112400@buddhahaus-muenchen.de
SUMMARY:Charlie Pils: Anapanasati - Achtsamkeit auf den Atem | Kurs 29
DESCRIPTION:„Wenn die Achtsamkeit auf den Atem entfaltet und geübt wird\, ist sie von großer Frucht und großem Nutzen. In der Tiefe des Erlebens vervollkommnet sie die vier Grundlagen der Achtsamkeit. Wenn die vier Grundlagen der Achtsamkeit entfaltet und geübt werden\, vervollkommnen sie die sieben Erleuchtungsglieder. \nWenn die sieben Erleuchtungsglieder entfaltet und geübt werden\, vervollkommnen sie wahres Wissen und Befreiung.“ Buddha. Und wie wird die Achtsamkeit auf den Atem entfaltet und geübt\, so dass sie von großer Frucht und großem Nutzen ist?“ \n  \n  \nKursgebühr: 90 € für 10 Abende\nDana für den Lehrer und das Buddha-Haus München
URL:https://buddhahaus-muenchen.de/event/charlie-pils-anapanasati-achtsamkeit-auf-den-atem-kurs-29/2024-10-16/
LOCATION:Buddha-Haus München
CATEGORIES:Meditationskurse unter der Woche,Online
ATTACH;FMTTYPE=image/jpeg:https://buddhahaus-muenchen.de/wp-content/uploads/2021/11/charlie_web.jpg
END:VEVENT
BEGIN:VEVENT
DTSTART;TZID=Europe/Berlin:20241017T080000
DTEND;TZID=Europe/Berlin:20241017T084500
DTSTAMP:20260422T080522
CREATED:20240401T104752Z
LAST-MODIFIED:20241128T210554Z
UID:37762-1729152000-1729154700@buddhahaus-muenchen.de
SUMMARY:Morgenmeditation täglich Online
DESCRIPTION:Wo auch immer ihr eure Morgen verbringt: wir laden euch zur Online-Morgenmeditation mit einer Hineinführung in die Stille Meditation via Zoom ein. Bitte nutze die Anmeldefunktion. Den Zugang zur Online-Meditation erhältst Du direkt im Anschluss per Email. \n\nAnleiter:\nMontag – Heinz Roiger\nDienstag – Alexander Weicker\nMittwoch – Angelika Reintzsch\nDonnerstag – Romy Schlichting\nFreitag – David Schoch \nAnmeldung: Bitte nutze die Anmeldung. Den Zugang zur Online Meditation bekommst du im Anschluss direkt per Email!\nKosten: Dana: freiwillige Spende für LehrerIn und für das Meditationszentrum München
URL:https://buddhahaus-muenchen.de/event/morgenmeditation-online-4/2024-10-17/
LOCATION:Buddha-Haus München
CATEGORIES:Online
ATTACH;FMTTYPE=image/png:https://buddhahaus-muenchen.de/wp-content/uploads/2024/10/Muenchen-Web-Kursseite3.png
END:VEVENT
BEGIN:VEVENT
DTSTART;TZID=Europe/Berlin:20241017T183000
DTEND;TZID=Europe/Berlin:20241017T210000
DTSTAMP:20260422T080522
CREATED:20230922T092945Z
LAST-MODIFIED:20240731T080714Z
UID:34968-1729189800-1729198800@buddhahaus-muenchen.de
SUMMARY:Ausgebucht / Warteliste - Regina Erbach: Stressreduktion durch Achtsamkeit (MBSR) | Kurs 30
DESCRIPTION:Stress\, Ängste und Bedrückungen verschiedenster Art scheinen manchmal unsere ständigen Begleiter zu sein. Wir sind jedoch nicht machtlos dagegen! \nIn diesem Kurs lernen wir\, mit Hilfe von Meditation\, Körperübungen und Erkenntnissen aus der Stressforschung wieder den Zugang zu uns selbst zu finden – zu der inneren Ruhe\, Kraft und Lebensfreude\, die in uns schon immer natürlich vorhanden sind. Der Kurs wird von den gesetzlichen Krankenkassen bezuschusst; melden Sie sich gerne für ein unverbindliches persönliches Vorgespräch unter regina.erbach@posteo.de. \nTag der Stille Samstag 30.11.24 \nKursgebühr: je 260 € (incl. Arbeitsbuch und Meditationsanleitungen auf CD/mp3)\nOrgagebühr: 50 €\nDana freie Spende für den Lehrer und für das Meditationszentrum München
URL:https://buddhahaus-muenchen.de/event/regina-erbach-stressreduktion-durch-achtsamkeit-mbsr-kurs-30/2024-10-17/
LOCATION:Buddha-Haus München
CATEGORIES:MBSR
ATTACH;FMTTYPE=image/jpeg:https://buddhahaus-muenchen.de/wp-content/uploads/2019/11/Regina-Erbach.jpg
END:VEVENT
BEGIN:VEVENT
DTSTART;TZID=Europe/Berlin:20241018T080000
DTEND;TZID=Europe/Berlin:20241018T084500
DTSTAMP:20260422T080522
CREATED:20240401T104752Z
LAST-MODIFIED:20241128T210554Z
UID:37763-1729238400-1729241100@buddhahaus-muenchen.de
SUMMARY:Morgenmeditation täglich Online
DESCRIPTION:Wo auch immer ihr eure Morgen verbringt: wir laden euch zur Online-Morgenmeditation mit einer Hineinführung in die Stille Meditation via Zoom ein. Bitte nutze die Anmeldefunktion. Den Zugang zur Online-Meditation erhältst Du direkt im Anschluss per Email. \n\nAnleiter:\nMontag – Heinz Roiger\nDienstag – Alexander Weicker\nMittwoch – Angelika Reintzsch\nDonnerstag – Romy Schlichting\nFreitag – David Schoch \nAnmeldung: Bitte nutze die Anmeldung. Den Zugang zur Online Meditation bekommst du im Anschluss direkt per Email!\nKosten: Dana: freiwillige Spende für LehrerIn und für das Meditationszentrum München
URL:https://buddhahaus-muenchen.de/event/morgenmeditation-online-4/2024-10-18/
LOCATION:Buddha-Haus München
CATEGORIES:Online
ATTACH;FMTTYPE=image/png:https://buddhahaus-muenchen.de/wp-content/uploads/2024/10/Muenchen-Web-Kursseite3.png
END:VEVENT
BEGIN:VEVENT
DTSTART;TZID=Europe/Berlin:20241018T190000
DTEND;TZID=Europe/Berlin:20241020T160000
DTSTAMP:20260422T080522
CREATED:20230819T100317Z
LAST-MODIFIED:20241014T124823Z
UID:33181-1729278000-1729440000@buddhahaus-muenchen.de
SUMMARY:Wolfgang Seifert: Vipassana-Meditation | Kurs 41
DESCRIPTION:Im Betrachten\, Zulassen und Aushalten aller körperlichen und geistigen Vorgänge\, geschieht die Begegnung mit sich selbst\, ohne Verdrängung\, Vermeidung\, Rechtfertigung oder Beschönigung. Dieser Weg erfordert Mut zur Ehrlichkeit\, Loslösung von Konzepten und Illusionen\, Geduld und Kontinuität in der Übungspraxis. \nDen Tagesablauf jetzt downloaden \n  \nKursgebühr: keine\, Lehrer unterrichtet gemäß Danaprinzip\nOrga-Gebühr: 30 €\nDana für den Lehrer und für das Buddha-Haus München
URL:https://buddhahaus-muenchen.de/event/wolfgang-seifert-vipassana-meditation-kurs-41/
LOCATION:Buddha-Haus München
CATEGORIES:Wochenendseminare
ATTACH;FMTTYPE=image/jpeg:https://buddhahaus-muenchen.de/wp-content/uploads/2019/11/WolfgangSeifert2.jpg
END:VEVENT
BEGIN:VEVENT
DTSTART;TZID=Europe/Berlin:20241020T180000
DTEND;TZID=Europe/Berlin:20241020T193000
DTSTAMP:20260422T080522
CREATED:20230915T094404Z
LAST-MODIFIED:20241014T112051Z
UID:34170-1729447200-1729452600@buddhahaus-muenchen.de
SUMMARY:Fariba Peykan: Frieden finden in einer lauten Welt | Kurs 46
DESCRIPTION:Wir leben in einer Zeit großer Veränderungen. Täglich erreichen uns neue Nachrichten von zwischenmenschlichen Konflikten und Naturkatastrophen. Wie können wir mit dieser Unsicherheit umgehen? In diesem Kurs schauen wir uns an\, wie wir durch die Meditation basierend auf den Lehren des Buddha immer wieder in unsere Präsenz finden können. Bei uns selbst angekommen können wir Ruhe und Frieden finden und damit hilfreich für uns selbst und andere sein. \n  \nKursgebühr: 90 € für 10 Abende\nDana für die Lehrerin und das Buddha-Haus München
URL:https://buddhahaus-muenchen.de/event/fariba-peykan-frieden-finden-in-einer-lauten-welt-kurs-46/2024-10-20/
LOCATION:Buddha-Haus München
CATEGORIES:Besonders geeignete Wochenendkurse,Meditationskurse unter der Woche
ATTACH;FMTTYPE=image/jpeg:https://buddhahaus-muenchen.de/wp-content/uploads/2023/08/Fariba-1-scaled.jpg
END:VEVENT
END:VCALENDAR