BEGIN:VCALENDAR
VERSION:2.0
PRODID:-//Buddha-Haus München - ECPv6.15.16.1//NONSGML v1.0//EN
CALSCALE:GREGORIAN
METHOD:PUBLISH
X-WR-CALNAME:Buddha-Haus München
X-ORIGINAL-URL:https://buddhahaus-muenchen.de
X-WR-CALDESC:Veranstaltungen für Buddha-Haus München
REFRESH-INTERVAL;VALUE=DURATION:PT1H
X-Robots-Tag:noindex
X-PUBLISHED-TTL:PT1H
BEGIN:VTIMEZONE
TZID:Europe/Berlin
BEGIN:DAYLIGHT
TZOFFSETFROM:+0100
TZOFFSETTO:+0200
TZNAME:CEST
DTSTART:20230326T010000
END:DAYLIGHT
BEGIN:STANDARD
TZOFFSETFROM:+0200
TZOFFSETTO:+0100
TZNAME:CET
DTSTART:20231029T010000
END:STANDARD
BEGIN:DAYLIGHT
TZOFFSETFROM:+0100
TZOFFSETTO:+0200
TZNAME:CEST
DTSTART:20240331T010000
END:DAYLIGHT
BEGIN:STANDARD
TZOFFSETFROM:+0200
TZOFFSETTO:+0100
TZNAME:CET
DTSTART:20241027T010000
END:STANDARD
BEGIN:DAYLIGHT
TZOFFSETFROM:+0100
TZOFFSETTO:+0200
TZNAME:CEST
DTSTART:20250330T010000
END:DAYLIGHT
BEGIN:STANDARD
TZOFFSETFROM:+0200
TZOFFSETTO:+0100
TZNAME:CET
DTSTART:20251026T010000
END:STANDARD
END:VTIMEZONE
BEGIN:VEVENT
DTSTART;TZID=Europe/Berlin:20241021T080000
DTEND;TZID=Europe/Berlin:20241021T084500
DTSTAMP:20260422T032759
CREATED:20240401T104752Z
LAST-MODIFIED:20241128T210555Z
UID:37764-1729497600-1729500300@buddhahaus-muenchen.de
SUMMARY:Morgenmeditation täglich Online
DESCRIPTION:Wo auch immer ihr eure Morgen verbringt: wir laden euch zur Online-Morgenmeditation mit einer Hineinführung in die Stille Meditation via Zoom ein. Bitte nutze die Anmeldefunktion. Den Zugang zur Online-Meditation erhältst Du direkt im Anschluss per Email. \n\nAnleiter:\nMontag – Heinz Roiger\nDienstag – Alexander Weicker\nMittwoch – Angelika Reintzsch\nDonnerstag – Romy Schlichting\nFreitag – David Schoch \nAnmeldung: Bitte nutze die Anmeldung. Den Zugang zur Online Meditation bekommst du im Anschluss direkt per Email!\nKosten: Dana: freiwillige Spende für LehrerIn und für das Meditationszentrum München
URL:https://buddhahaus-muenchen.de/event/morgenmeditation-online-4/2024-10-21/
LOCATION:Buddha-Haus München
CATEGORIES:Online
ATTACH;FMTTYPE=image/png:https://buddhahaus-muenchen.de/wp-content/uploads/2024/10/Muenchen-Web-Kursseite3.png
END:VEVENT
BEGIN:VEVENT
DTSTART;TZID=Europe/Berlin:20241021T160000
DTEND;TZID=Europe/Berlin:20241021T170000
DTSTAMP:20260422T032759
CREATED:20231206T210944Z
LAST-MODIFIED:20240713T202656Z
UID:35922-1729526400-1729530000@buddhahaus-muenchen.de
SUMMARY:Dr. Olga Bulinova: Yoga
DESCRIPTION:Yoga wirkt ganzheitlich auf den Geist und den Körper\, auf das Gemüt und den Verstand. Sie erlernen verschiedene Techniken und Möglichkeiten für die Arbeit mit dem Körper und dem Geist\, die Yoga anbietet\, und bekommen Anleitungen für das selbständige Üben zu Hause. \nDer Kurs richtet sich an alle\, die ihren Körper besser kennenlernen und ihren Geist beruhigen möchten. Der Körper wird langsam aufgebaut und die Entspannung geübt. Bei Buchung von 12 Terminen wird der Kurs von den gesetzlichen Krankenkassen bezuschusst. \n  \nKursgebühr: 13 € pro Abend (ohne Anmeldung)\n10 € pro Abend bei Anmeldung für 12 Termine = gesamt 120\,- €  (KK-Zuschuss möglich)\nDana: freiwillige Spende für LehrerIn und für das Meditationszentrum München erbeten
URL:https://buddhahaus-muenchen.de/event/dr-olga-bulinova-yoga-3/2024-10-21/
LOCATION:Buddha-Haus München
CATEGORIES:Yoga
ATTACH;FMTTYPE=image/jpeg:https://buddhahaus-muenchen.de/wp-content/uploads/2022/12/Olga-1-scaled.jpg
END:VEVENT
BEGIN:VEVENT
DTSTART;TZID=Europe/Berlin:20241021T173000
DTEND;TZID=Europe/Berlin:20241021T183000
DTSTAMP:20260422T032759
CREATED:20230915T091553Z
LAST-MODIFIED:20240713T202804Z
UID:34653-1729531800-1729535400@buddhahaus-muenchen.de
SUMMARY:Dr. Olga Bulinova: Yoga
DESCRIPTION:Yoga wirkt ganzheitlich auf den Geist und den Körper\, auf das Gemüt und den Verstand. Sie erlernen verschiedene Techniken und Möglichkeiten für die Arbeit mit dem Körper und dem Geist\, die Yoga anbietet\, und bekommen Anleitungen für das selbständige Üben zu Hause. \nDer Kurs richtet sich an alle\, die ihren Körper besser kennenlernen und ihren Geist beruhigen möchten. Der Körper wird langsam aufgebaut und die Entspannung geübt. Bei Buchung von 12 Terminen wird der Kurs von den gesetzlichen Krankenkassen bezuschusst. \n  \nKursgebühr: 13 € pro Abend (ohne Anmeldung)\n10 € pro Abend bei Anmeldung für 12 Termine = gesamt 120\,- €  (KK-Zuschuss möglich)\nDana: freiwillige Spende für LehrerIn und für das Meditationszentrum München erbeten
URL:https://buddhahaus-muenchen.de/event/dr-olga-bulinova-yoga-2/2024-10-21/
LOCATION:Buddha-Haus München
CATEGORIES:Yoga
ATTACH;FMTTYPE=image/jpeg:https://buddhahaus-muenchen.de/wp-content/uploads/2020/02/Olga4-P.jpg
END:VEVENT
BEGIN:VEVENT
DTSTART;TZID=Europe/Berlin:20241021T190000
DTEND;TZID=Europe/Berlin:20241021T210000
DTSTAMP:20260422T032759
CREATED:20231204T160647Z
LAST-MODIFIED:20241015T122651Z
UID:35757-1729537200-1729544400@buddhahaus-muenchen.de
SUMMARY:Heinz Roiger: Der Weg ist die Freiheit
DESCRIPTION:Zeit für innehalten\, alltagsnahe Rückbesinnung und Schaffen von Raum für die Ausrichtung auf das Wesentliche\, sowie intensive Begegnung mit sich selbst und Austausch mit anderen Menschen. Die Abende laden ein:\n– zu authentischer Begegnung mit sich\n– zu Freude an unserer Lebendigkeit\n– zu Stille im einfachen da – sein\n– zu Anregungen für Vertiefung oder Neuorientierung in unserem Leben \nEs wird die Möglichkeit zu Einzel- und Gruppengesprächen geben. \n7 Abende / Termine und Themen:\n1) 09.09. – Der Weg des Herzens\n2) 16.09. – Vorstellungen und Erwartungen\n3) 23.09. – Die Kerne aller Existenz\n4) 30.09. – Alles was wir benötigen ist da\n5) 07.10. – Die Kraft unseres Geistes\n6) 14.10. – Die Kraft der Emotionen\n7) 21.10. – Die Kraft der Bewusstseinsentfaltung \nKursgebühr: 70€\nDana: freiwillige Spende für LehrerIn und das Buddha-Haus München
URL:https://buddhahaus-muenchen.de/event/heinz-roiger-der-weg-ist-die-freiheit-3/2024-10-21/
LOCATION:Buddha-Haus München
CATEGORIES:Meditationskurse unter der Woche,Online
ATTACH;FMTTYPE=image/jpeg:https://buddhahaus-muenchen.de/wp-content/uploads/2021/11/heinz_web.jpg
END:VEVENT
BEGIN:VEVENT
DTSTART;TZID=Europe/Berlin:20241022T080000
DTEND;TZID=Europe/Berlin:20241022T084500
DTSTAMP:20260422T032759
CREATED:20240401T104752Z
LAST-MODIFIED:20241128T210555Z
UID:37765-1729584000-1729586700@buddhahaus-muenchen.de
SUMMARY:Morgenmeditation täglich Online
DESCRIPTION:Wo auch immer ihr eure Morgen verbringt: wir laden euch zur Online-Morgenmeditation mit einer Hineinführung in die Stille Meditation via Zoom ein. Bitte nutze die Anmeldefunktion. Den Zugang zur Online-Meditation erhältst Du direkt im Anschluss per Email. \n\nAnleiter:\nMontag – Heinz Roiger\nDienstag – Alexander Weicker\nMittwoch – Angelika Reintzsch\nDonnerstag – Romy Schlichting\nFreitag – David Schoch \nAnmeldung: Bitte nutze die Anmeldung. Den Zugang zur Online Meditation bekommst du im Anschluss direkt per Email!\nKosten: Dana: freiwillige Spende für LehrerIn und für das Meditationszentrum München
URL:https://buddhahaus-muenchen.de/event/morgenmeditation-online-4/2024-10-22/
LOCATION:Buddha-Haus München
CATEGORIES:Online
ATTACH;FMTTYPE=image/png:https://buddhahaus-muenchen.de/wp-content/uploads/2024/10/Muenchen-Web-Kursseite3.png
END:VEVENT
BEGIN:VEVENT
DTSTART;TZID=Europe/Berlin:20241022T190000
DTEND;TZID=Europe/Berlin:20241022T210000
DTSTAMP:20260422T032759
CREATED:20230915T092047Z
LAST-MODIFIED:20240902T114435Z
UID:34455-1729623600-1729630800@buddhahaus-muenchen.de
SUMMARY:Kalyāna-mitta Abend
DESCRIPTION:Vom Buddha wird betont\, wie wichtig eine Gemeinschaft\, eine spirituelle Freundin\, ein spiritueller Freund (Kalyāna-mitta) ist. So sagt er zu Ananda\, der findet\, dass edle Freundschaft die Hälfte des spirituellen Lebens ausmache: „Sage das nicht\, Ananda\, sage das nicht: ist es ja doch das ganze spirituelle Leben\, nämlich Freundschaft mit Guten\, Gemeinschaft mit Guten\, Vertrautsein mit Guten.“  \nDer Kalyāna-mitta Abend ist ein wöchentlich stattfindender offener Meditationsabend im Buddha-Haus München\, der ab 21. März 2023 dienstags neu beginnt. Die Idee zu diesem Angebot entstand aus dem Wunsch\, als Gruppe von Kalyāna-mittas einen Abend gemeinsam zu gestalten und abwechselnd zu leiten. \nEs ist ein Abend füreinander und miteinander: Wir kultivieren unter „spirituellen Freunden“ die Praxis der Meditation und den Austausch – zur gegenseitigen Ermutigung und Inspiration. \nSo ist hier jede*r willkommen\, der daran Interesse hat in seinem Lebensalltag Qualitäten wie Klarheit\, Mitgefühl und Gelassenheit in sich zu fördern. \nDas Wort „Kalyāna“ kann auf Deutsch übersetzt werden mit: liebenswert\, schön\, erhebend\, inspirierend\, ethisch.  \nEin Kalyāna-mitta ist also jemand\, der sich bemüht\, der sich kümmert\, der freigebig ist\, der auf das Schöne und Gute achtet\, und der sich z.B. fragt: Was ist heilsam\, was nicht? – und dafür nach Antworten in der buddhistischen Lehre sucht \nFragen zur Reflexion dienen der Wochenbegleitung im Alltag und können in der darauffolgenden Woche in den Austausch einfließen. An jedem 3. Dienstag beschäftigen wir uns mit Texten zu Buddhas Lehre. \nDie Gruppenabende werden begeitet von: Bettina Schaschke\, Romy Schlichting\, Alexander Weicker und anderen \n\nBettina: 3.9.-8.10.2024\nAlexander: 15.10.-5.11.2024\nRomy: 12.11.-17.12.2024\n\nAblauf des Abends: Achtsame Körperübungen – Hineinführung in die Meditation – Austausch über Buddhas Lehre  – Liebende Güte- oder Brahmavihāra-Meditation\n \nThemen Herbst/Winter 2024: Themen_Kalyana-mitta-Abend_Herbst_Winter 2024 \n  \nTeilnahme: Schnuppern ist jederzeit möglich\, einfach kommen\nKosten: Auf Spendenbasis (im Rahmen Deiner Möglichkeiten). Deine Spende für das Buddha-Haus München ist freiwillig . „Dana“ (Gebefreude) ist im Buddhismus Teil der spirituellen Praxis.
URL:https://buddhahaus-muenchen.de/event/kalyana-mitta-abend-3/2024-10-22/
LOCATION:Buddha-Haus München
CATEGORIES:Offene Meditationsabende
ATTACH;FMTTYPE=image/jpeg:https://buddhahaus-muenchen.de/wp-content/uploads/2023/01/Kalyana1-e1674116616663.jpg
END:VEVENT
BEGIN:VEVENT
DTSTART;TZID=Europe/Berlin:20241023T080000
DTEND;TZID=Europe/Berlin:20241023T084500
DTSTAMP:20260422T032759
CREATED:20240401T104752Z
LAST-MODIFIED:20241128T210556Z
UID:37766-1729670400-1729673100@buddhahaus-muenchen.de
SUMMARY:Morgenmeditation täglich Online
DESCRIPTION:Wo auch immer ihr eure Morgen verbringt: wir laden euch zur Online-Morgenmeditation mit einer Hineinführung in die Stille Meditation via Zoom ein. Bitte nutze die Anmeldefunktion. Den Zugang zur Online-Meditation erhältst Du direkt im Anschluss per Email. \n\nAnleiter:\nMontag – Heinz Roiger\nDienstag – Alexander Weicker\nMittwoch – Angelika Reintzsch\nDonnerstag – Romy Schlichting\nFreitag – David Schoch \nAnmeldung: Bitte nutze die Anmeldung. Den Zugang zur Online Meditation bekommst du im Anschluss direkt per Email!\nKosten: Dana: freiwillige Spende für LehrerIn und für das Meditationszentrum München
URL:https://buddhahaus-muenchen.de/event/morgenmeditation-online-4/2024-10-23/
LOCATION:Buddha-Haus München
CATEGORIES:Online
ATTACH;FMTTYPE=image/png:https://buddhahaus-muenchen.de/wp-content/uploads/2024/10/Muenchen-Web-Kursseite3.png
END:VEVENT
BEGIN:VEVENT
DTSTART;TZID=Europe/Berlin:20241023T100000
DTEND;TZID=Europe/Berlin:20241023T130000
DTSTAMP:20260422T032759
CREATED:20230915T082052Z
LAST-MODIFIED:20230915T082052Z
UID:34624-1729677600-1729688400@buddhahaus-muenchen.de
SUMMARY:Offene Meditation am Mittwoch
DESCRIPTION:Gemeinsam in die stille Meditation. Einfach sein – ohne Anleitung. \nAchtung: Nicht an Feiertagen! \nAnmeldung: Nicht nötig\nKosten: Dana: freiwillige Spende für LehrerIn und für das Meditationszentrum München
URL:https://buddhahaus-muenchen.de/event/offene-meditation-am-mittwoch/2024-10-23/
LOCATION:Buddha-Haus München
CATEGORIES:Stille Meditation
ATTACH;FMTTYPE=image/jpeg:https://buddhahaus-muenchen.de/wp-content/uploads/2020/06/d75e6a59-f2ea-416b-afd2-095608f6f213.jpg
END:VEVENT
BEGIN:VEVENT
DTSTART;TZID=Europe/Berlin:20241023T190000
DTEND;TZID=Europe/Berlin:20241023T203000
DTSTAMP:20260422T032759
CREATED:20240531T091934Z
LAST-MODIFIED:20240621T210140Z
UID:38154-1729710000-1729715400@buddhahaus-muenchen.de
SUMMARY:ZOOMKURS - Romy Schlichting: Schritt für Schritt zu Glück und Wohlbefinden - Kurs 95
DESCRIPTION:Dieser Kurs basiert auf Prinzipen und Praktiken aus der buddhistischen Tradition und weist einen gangbaren Weg zum wahren Glück. Du kannst lernen\, inmitten aller Veränderungen\, die das Leben mit sich bringt\, Freude zu finden und damit zu leben. Er zeigt einen Weg auf\, Verantwortung zu übernehmen und eine positive Haltung zum Leben zu entwickeln\, die auf deine Umwelt ausstrahlt. \nDas Kursformat unterstützt ein „Dranbleiben“ und eine Ausrichtung auf das Wesentliche in den Wellen des Alltags. Der Kurs weist einen Weg für eine Entwicklung von mehr Resilienz\, Zufriedenheit und Wohlbefinden in deinem Leben. \nAlle 2 Wochen treffen wir uns 90 bis 120 Minuten auf zoom\, beginnen mit einer Meditation\, erhalten Impulse und tauschen uns aus. Wer mag\, kann ein Tandem mit jemand anderem bilden für Reflexionen zwischen den Kurssitzungen. In wöchentlichen Emails erhältst du Impulse für Kontemplation\, Meditation und den Austausch mit einem Tandempartner oder Tagebuch.  In diese Impulse fließen zusätzlich zu buddhistischen Grundlagen auch neurowissenschaftliche Erkenntnisse und Übungen der positiven Psychologie mit ein. \nDieser Halbjahreskurs orientiert sich am Programm des buddhistischen Lehrers James Barar\, „Awakening Joy: 10 Steps to Happiness“ für das ich von ihm autorisiert wurde. \n– den Geist für Freude empfänglich machen \n– Achtsamkeit – fürs Leben da sein \n– Dankbares Herz – freudiges Herz \n– in schweren Zeiten Freude finden \n– das Glück der Schuldlosigkeit \n– die Freude des Loslassens \n– sich selbst lieben lernen/ verzeihen \n– die Freude\, andere zu lieben \n– Mitgefühl\, der natürliche Ausdruck eines freudvollen Herzens \n– die Freude\, einfach präsent zu sein. \n  \nKursgebühr: 90 Euro \nDana: freiwillige Spende für die Lehrerin und das Buddha-Haus München \nDer Kurs findet nur online statt
URL:https://buddhahaus-muenchen.de/event/online-romy-schlichting-schritt-fuer-schritt-zu-glueck-und-wohlbefinden-kurs-95/2024-10-23/
LOCATION:Online-Kurs / Livestream
CATEGORIES:Meditationskurse unter der Woche,Online
ATTACH;FMTTYPE=image/jpeg:https://buddhahaus-muenchen.de/wp-content/uploads/2023/01/romy_neu__kachel.jpg
END:VEVENT
BEGIN:VEVENT
DTSTART;TZID=Europe/Berlin:20241023T190000
DTEND;TZID=Europe/Berlin:20241023T210000
DTSTAMP:20260422T032759
CREATED:20230915T120648Z
LAST-MODIFIED:20241014T112014Z
UID:34269-1729710000-1729717200@buddhahaus-muenchen.de
SUMMARY:Charlie Pils: Anapanasati - Achtsamkeit auf den Atem | Kurs 29
DESCRIPTION:„Wenn die Achtsamkeit auf den Atem entfaltet und geübt wird\, ist sie von großer Frucht und großem Nutzen. In der Tiefe des Erlebens vervollkommnet sie die vier Grundlagen der Achtsamkeit. Wenn die vier Grundlagen der Achtsamkeit entfaltet und geübt werden\, vervollkommnen sie die sieben Erleuchtungsglieder. \nWenn die sieben Erleuchtungsglieder entfaltet und geübt werden\, vervollkommnen sie wahres Wissen und Befreiung.“ Buddha. Und wie wird die Achtsamkeit auf den Atem entfaltet und geübt\, so dass sie von großer Frucht und großem Nutzen ist?“ \n  \n  \nKursgebühr: 90 € für 10 Abende\nDana für den Lehrer und das Buddha-Haus München
URL:https://buddhahaus-muenchen.de/event/charlie-pils-anapanasati-achtsamkeit-auf-den-atem-kurs-29/2024-10-23/
LOCATION:Buddha-Haus München
CATEGORIES:Meditationskurse unter der Woche,Online
ATTACH;FMTTYPE=image/jpeg:https://buddhahaus-muenchen.de/wp-content/uploads/2021/11/charlie_web.jpg
END:VEVENT
BEGIN:VEVENT
DTSTART;TZID=Europe/Berlin:20241024T080000
DTEND;TZID=Europe/Berlin:20241024T084500
DTSTAMP:20260422T032759
CREATED:20240401T104752Z
LAST-MODIFIED:20241128T210556Z
UID:37767-1729756800-1729759500@buddhahaus-muenchen.de
SUMMARY:Morgenmeditation täglich Online
DESCRIPTION:Wo auch immer ihr eure Morgen verbringt: wir laden euch zur Online-Morgenmeditation mit einer Hineinführung in die Stille Meditation via Zoom ein. Bitte nutze die Anmeldefunktion. Den Zugang zur Online-Meditation erhältst Du direkt im Anschluss per Email. \n\nAnleiter:\nMontag – Heinz Roiger\nDienstag – Alexander Weicker\nMittwoch – Angelika Reintzsch\nDonnerstag – Romy Schlichting\nFreitag – David Schoch \nAnmeldung: Bitte nutze die Anmeldung. Den Zugang zur Online Meditation bekommst du im Anschluss direkt per Email!\nKosten: Dana: freiwillige Spende für LehrerIn und für das Meditationszentrum München
URL:https://buddhahaus-muenchen.de/event/morgenmeditation-online-4/2024-10-24/
LOCATION:Buddha-Haus München
CATEGORIES:Online
ATTACH;FMTTYPE=image/png:https://buddhahaus-muenchen.de/wp-content/uploads/2024/10/Muenchen-Web-Kursseite3.png
END:VEVENT
BEGIN:VEVENT
DTSTART;TZID=Europe/Berlin:20241024T183000
DTEND;TZID=Europe/Berlin:20241024T210000
DTSTAMP:20260422T032759
CREATED:20230922T092945Z
LAST-MODIFIED:20240731T080715Z
UID:34971-1729794600-1729803600@buddhahaus-muenchen.de
SUMMARY:Ausgebucht / Warteliste - Regina Erbach: Stressreduktion durch Achtsamkeit (MBSR) | Kurs 30
DESCRIPTION:Stress\, Ängste und Bedrückungen verschiedenster Art scheinen manchmal unsere ständigen Begleiter zu sein. Wir sind jedoch nicht machtlos dagegen! \nIn diesem Kurs lernen wir\, mit Hilfe von Meditation\, Körperübungen und Erkenntnissen aus der Stressforschung wieder den Zugang zu uns selbst zu finden – zu der inneren Ruhe\, Kraft und Lebensfreude\, die in uns schon immer natürlich vorhanden sind. Der Kurs wird von den gesetzlichen Krankenkassen bezuschusst; melden Sie sich gerne für ein unverbindliches persönliches Vorgespräch unter regina.erbach@posteo.de. \nTag der Stille Samstag 30.11.24 \nKursgebühr: je 260 € (incl. Arbeitsbuch und Meditationsanleitungen auf CD/mp3)\nOrgagebühr: 50 €\nDana freie Spende für den Lehrer und für das Meditationszentrum München
URL:https://buddhahaus-muenchen.de/event/regina-erbach-stressreduktion-durch-achtsamkeit-mbsr-kurs-30/2024-10-24/
LOCATION:Buddha-Haus München
CATEGORIES:MBSR
ATTACH;FMTTYPE=image/jpeg:https://buddhahaus-muenchen.de/wp-content/uploads/2019/11/Regina-Erbach.jpg
END:VEVENT
BEGIN:VEVENT
DTSTART;TZID=Europe/Berlin:20241025T080000
DTEND;TZID=Europe/Berlin:20241025T084500
DTSTAMP:20260422T032759
CREATED:20240401T104752Z
LAST-MODIFIED:20241128T210556Z
UID:37768-1729843200-1729845900@buddhahaus-muenchen.de
SUMMARY:Morgenmeditation täglich Online
DESCRIPTION:Wo auch immer ihr eure Morgen verbringt: wir laden euch zur Online-Morgenmeditation mit einer Hineinführung in die Stille Meditation via Zoom ein. Bitte nutze die Anmeldefunktion. Den Zugang zur Online-Meditation erhältst Du direkt im Anschluss per Email. \n\nAnleiter:\nMontag – Heinz Roiger\nDienstag – Alexander Weicker\nMittwoch – Angelika Reintzsch\nDonnerstag – Romy Schlichting\nFreitag – David Schoch \nAnmeldung: Bitte nutze die Anmeldung. Den Zugang zur Online Meditation bekommst du im Anschluss direkt per Email!\nKosten: Dana: freiwillige Spende für LehrerIn und für das Meditationszentrum München
URL:https://buddhahaus-muenchen.de/event/morgenmeditation-online-4/2024-10-25/
LOCATION:Buddha-Haus München
CATEGORIES:Online
ATTACH;FMTTYPE=image/png:https://buddhahaus-muenchen.de/wp-content/uploads/2024/10/Muenchen-Web-Kursseite3.png
END:VEVENT
BEGIN:VEVENT
DTSTART;TZID=Europe/Berlin:20241025T190000
DTEND;TZID=Europe/Berlin:20241025T210000
DTSTAMP:20260422T032759
CREATED:20230827T105005Z
LAST-MODIFIED:20240912T063053Z
UID:38369-1729882800-1729890000@buddhahaus-muenchen.de
SUMMARY:Ayya Khema Abend: Freitagsmeditation mit Norbert / Alexander
DESCRIPTION:Gemeinsames Praktizieren von Anfängern und Fortgeschrittenen mit angeleiteten und stillen Einsichts- und Mitgefühlsmeditationen (Vipassana\, Metta)\,  Gehmeditation\, Videovorträgen von Ayya Khema sowie die Möglichkeit\, Fragen zur Lehre und zur eigenen Meditationspraxis zu stellen. \nDer Abend entfällt wenn ein öffentlicher Vortrag zum Wochenend-Kurs stattfindet. \nNorbert Wildgruber und Alexander Weicker leiten die Abende an. \n  \nKosten: Dana: freiwillige Spende für LehrerIn und für das Meditationszentrum München (Empfehlung 10-20 €)\nAnmeldung: Eine Anmeldung für diesen Abend ist nicht nötig \nAyya Khema Abend 2024 Besetzung \n 
URL:https://buddhahaus-muenchen.de/event/ayya-khema-abend-freitagsmeditation-mit-norbert-alexander-2/2024-10-25/
LOCATION:Buddha-Haus München
CATEGORIES:Offene Meditationsabende
ATTACH;FMTTYPE=image/png:https://buddhahaus-muenchen.de/wp-content/uploads/2021/11/2.png
END:VEVENT
BEGIN:VEVENT
DTSTART;TZID=Europe/Berlin:20241026T090000
DTEND;TZID=Europe/Berlin:20241026T160000
DTSTAMP:20260422T032759
CREATED:20230927T120957Z
LAST-MODIFIED:20241215T170412Z
UID:35017-1729933200-1729958400@buddhahaus-muenchen.de
SUMMARY:Offene Meditation – Stiller Geist\, Klarer Geist
DESCRIPTION:Stille Meditation dient im Fundament dem Erlernen der „Kunst des Reinen Gewahr-Seins“\, Im Erleben der Atembewegung (prana) kommt der denkende Geist zur Ruhe. Verdichtungen\, die den natürlichen Körper-Geistfluss behindern\, beginnen sich aufzulösen\, ein fließendes Lebensgefühl ist die Folge. Wird die Praxis des stillen Sitzens – Gehens – Sitzens über einen längeren Zeitraum aufrechterhalten entsteht Konzentration (samadhi). Das Erleben des „inneren Körpers“ (jhana) führt dich in die Tiefe deines Seins. Das ist beglückend \nEin Stiller Geist ist auch ein Klarer Geist. Dein „Weisheitsgeist“(Herz-Geist) SIEHT die universellen Lebensgesetze (dharma)\, Du erkennst die Ursachen und Wirkungen menschlicher Problematik und erkennst die Wege die zur Befreiung führen. Samatha – Vipassana ist der Weg in dein inneres Glück\, in ein inneres Frei-sein durch eigenes Erleben und Erkennen. \nSila: Tugendpraxis mitten im Alltag \nDie Praxis von Samatha – Vipassana  führt zur Praxis des Verständnisses und Mitgefühls für dich selbst und andere Mitmenschen mitten in deinem Alltag – immer JETZT. Die Grundlage dafür ist deine geistige Absicht der Begierdelosigkeit\, Hasslosigkeit\, Gewaltlosigkeit\, deiner Friedfertigkeit und Liebesfähigkeit. \nKosten: Dana
URL:https://buddhahaus-muenchen.de/event/offene-meditation-stiller-geist-klarer-geist/2024-10-26/
LOCATION:Buddha-Haus München
CATEGORIES:Offene Meditationsabende,Stille Meditation
ATTACH;FMTTYPE=image/jpeg:https://buddhahaus-muenchen.de/wp-content/uploads/2020/06/d75e6a59-f2ea-416b-afd2-095608f6f213.jpg
END:VEVENT
BEGIN:VEVENT
DTSTART;TZID=Europe/Berlin:20241027T150000
DTEND;TZID=Europe/Berlin:20241027T170000
DTSTAMP:20260422T032759
CREATED:20230915T085640Z
LAST-MODIFIED:20241015T131654Z
UID:35984-1730041200-1730048400@buddhahaus-muenchen.de
SUMMARY:Stille Meditation
DESCRIPTION:Stille Samadhipraxis zielt auf das Erleben der GEMÜTSRUHE. Das ist der durch intensive geistige Sammlung gewonnene\, gefestigte\, friedvolle Zustand des Geistes. Die Stille läutert Herz und Geist von den Trübungen und führt in 3 Stadien der Konzentration bis in das Erlebens der feinkörperlichen und unkörperlichen Vertiefungen Jhana. \n„Keine wertvollere Unterstützung auf deinem Weg kenne ich als das gemeinsame Sein in Stille in einer Sangha“ (Buddha) \nMeditationszeiten – Bitte pünktlich vor 15 Uhr kommen \n15:00 – 15:35 Sitzen\n15:35 – 15:45 Gehen\n15:45 – 16:20 Sitzen\n16:20 – 16:30 Gehen\n16:30 – 17:00 Sitzen\n17:00 –  Tee \n„Berührt die Stille Schönes in dir\, offenbart sie dessen Schönheit. Berührt sie etwas Schmerzvolles\, wandelt sie es um und heilt es“. \nLeitung: Buddha-Haus Sangha\nAnmeldung: Keine Anmeldung nötig. Einfach kommen.\nKosten: Dana: freie Herzensgabe
URL:https://buddhahaus-muenchen.de/event/meditation-fuer-alle-4/2024-10-27/
LOCATION:Buddha-Haus München
CATEGORIES:Offene Meditationsabende,Stille Meditation
ATTACH;FMTTYPE=image/jpeg:https://buddhahaus-muenchen.de/wp-content/uploads/2021/12/33F7CD20-233E-41F2-9905-BBB18AD45E59.jpeg
END:VEVENT
BEGIN:VEVENT
DTSTART;TZID=Europe/Berlin:20241027T180000
DTEND;TZID=Europe/Berlin:20241027T193000
DTSTAMP:20260422T032759
CREATED:20230915T094404Z
LAST-MODIFIED:20241014T112051Z
UID:34171-1730052000-1730057400@buddhahaus-muenchen.de
SUMMARY:Fariba Peykan: Frieden finden in einer lauten Welt | Kurs 46
DESCRIPTION:Wir leben in einer Zeit großer Veränderungen. Täglich erreichen uns neue Nachrichten von zwischenmenschlichen Konflikten und Naturkatastrophen. Wie können wir mit dieser Unsicherheit umgehen? In diesem Kurs schauen wir uns an\, wie wir durch die Meditation basierend auf den Lehren des Buddha immer wieder in unsere Präsenz finden können. Bei uns selbst angekommen können wir Ruhe und Frieden finden und damit hilfreich für uns selbst und andere sein. \n  \nKursgebühr: 90 € für 10 Abende\nDana für die Lehrerin und das Buddha-Haus München
URL:https://buddhahaus-muenchen.de/event/fariba-peykan-frieden-finden-in-einer-lauten-welt-kurs-46/2024-10-27/
LOCATION:Buddha-Haus München
CATEGORIES:Besonders geeignete Wochenendkurse,Meditationskurse unter der Woche
ATTACH;FMTTYPE=image/jpeg:https://buddhahaus-muenchen.de/wp-content/uploads/2023/08/Fariba-1-scaled.jpg
END:VEVENT
END:VCALENDAR