BEGIN:VCALENDAR
VERSION:2.0
PRODID:-//Buddha-Haus München - ECPv6.15.16.1//NONSGML v1.0//EN
CALSCALE:GREGORIAN
METHOD:PUBLISH
X-WR-CALNAME:Buddha-Haus München
X-ORIGINAL-URL:https://buddhahaus-muenchen.de
X-WR-CALDESC:Veranstaltungen für Buddha-Haus München
REFRESH-INTERVAL;VALUE=DURATION:PT1H
X-Robots-Tag:noindex
X-PUBLISHED-TTL:PT1H
BEGIN:VTIMEZONE
TZID:Europe/Berlin
BEGIN:DAYLIGHT
TZOFFSETFROM:+0100
TZOFFSETTO:+0200
TZNAME:CEST
DTSTART:20230326T010000
END:DAYLIGHT
BEGIN:STANDARD
TZOFFSETFROM:+0200
TZOFFSETTO:+0100
TZNAME:CET
DTSTART:20231029T010000
END:STANDARD
BEGIN:DAYLIGHT
TZOFFSETFROM:+0100
TZOFFSETTO:+0200
TZNAME:CEST
DTSTART:20240331T010000
END:DAYLIGHT
BEGIN:STANDARD
TZOFFSETFROM:+0200
TZOFFSETTO:+0100
TZNAME:CET
DTSTART:20241027T010000
END:STANDARD
BEGIN:DAYLIGHT
TZOFFSETFROM:+0100
TZOFFSETTO:+0200
TZNAME:CEST
DTSTART:20250330T010000
END:DAYLIGHT
BEGIN:STANDARD
TZOFFSETFROM:+0200
TZOFFSETTO:+0100
TZNAME:CET
DTSTART:20251026T010000
END:STANDARD
END:VTIMEZONE
BEGIN:VEVENT
DTSTART;TZID=Europe/Berlin:20241111T080000
DTEND;TZID=Europe/Berlin:20241111T084500
DTSTAMP:20260424T021318
CREATED:20240401T104752Z
LAST-MODIFIED:20241128T210602Z
UID:37779-1731312000-1731314700@buddhahaus-muenchen.de
SUMMARY:Morgenmeditation täglich Online
DESCRIPTION:Wo auch immer ihr eure Morgen verbringt: wir laden euch zur Online-Morgenmeditation mit einer Hineinführung in die Stille Meditation via Zoom ein. Bitte nutze die Anmeldefunktion. Den Zugang zur Online-Meditation erhältst Du direkt im Anschluss per Email. \n\nAnleiter:\nMontag – Heinz Roiger\nDienstag – Alexander Weicker\nMittwoch – Angelika Reintzsch\nDonnerstag – Romy Schlichting\nFreitag – David Schoch \nAnmeldung: Bitte nutze die Anmeldung. Den Zugang zur Online Meditation bekommst du im Anschluss direkt per Email!\nKosten: Dana: freiwillige Spende für LehrerIn und für das Meditationszentrum München
URL:https://buddhahaus-muenchen.de/event/morgenmeditation-online-4/2024-11-11/
LOCATION:Buddha-Haus München
CATEGORIES:Online
ATTACH;FMTTYPE=image/png:https://buddhahaus-muenchen.de/wp-content/uploads/2024/10/Muenchen-Web-Kursseite3.png
END:VEVENT
BEGIN:VEVENT
DTSTART;TZID=Europe/Berlin:20241111T190000
DTEND;TZID=Europe/Berlin:20241111T210000
DTSTAMP:20260424T021318
CREATED:20231204T161141Z
LAST-MODIFIED:20241105T164147Z
UID:35761-1731351600-1731358800@buddhahaus-muenchen.de
SUMMARY:Heinz Roiger: Vom Kopf zum Herz
DESCRIPTION:Die Abende laden ein zu authentischer Begegnung mit sich\, zu Freude an unserer Lebendigkeit\, zu Stille im einfachen da – sein\, zu Anregungen für Vertiefung oder Neuorientierung in unserem Leben. Zeit für innehalten\, alltagsnahe Rückbesinnung und Schaffen von Raum für die Ausrichtung auf das Wesentliche\, sowie intensive Begegnung mit sich selbst und Austausch mit anderen Menschen. \nEs wird die Möglichkeit zu Einzel- und Gruppengesprächen geben. \n7 Abende / Termine und Themen:\n1) 04.11. – Die Ebenen des Glücks – der stressfreie Weg\n2) 11.11. – Das Leben darf auch leicht sein\n3) 18.11. – Was macht es uns schwierig?\n4) 25.11. – Ruhe – durch Meditation\n5) 02.12. – Ruhe – durch Einsicht\n6) 09.12. – Emotionen heilen (Die emotionale Infektion)\n7) 16.12. – Vertrauen – Liebe – Licht – Hingabe \nKursgebühr: 70€\nDana: freiwillige Spende für LehrerIn und das Buddha-Haus München
URL:https://buddhahaus-muenchen.de/event/heinz-roiger-vom-kopf-zum-herz/2024-11-11/
LOCATION:Buddha-Haus München
CATEGORIES:Meditationskurse unter der Woche,Offene Meditationsabende
ATTACH;FMTTYPE=image/jpeg:https://buddhahaus-muenchen.de/wp-content/uploads/2021/11/heinz_web.jpg
END:VEVENT
BEGIN:VEVENT
DTSTART;TZID=Europe/Berlin:20241112T080000
DTEND;TZID=Europe/Berlin:20241112T084500
DTSTAMP:20260424T021318
CREATED:20240401T104752Z
LAST-MODIFIED:20241128T210602Z
UID:37780-1731398400-1731401100@buddhahaus-muenchen.de
SUMMARY:Morgenmeditation täglich Online
DESCRIPTION:Wo auch immer ihr eure Morgen verbringt: wir laden euch zur Online-Morgenmeditation mit einer Hineinführung in die Stille Meditation via Zoom ein. Bitte nutze die Anmeldefunktion. Den Zugang zur Online-Meditation erhältst Du direkt im Anschluss per Email. \n\nAnleiter:\nMontag – Heinz Roiger\nDienstag – Alexander Weicker\nMittwoch – Angelika Reintzsch\nDonnerstag – Romy Schlichting\nFreitag – David Schoch \nAnmeldung: Bitte nutze die Anmeldung. Den Zugang zur Online Meditation bekommst du im Anschluss direkt per Email!\nKosten: Dana: freiwillige Spende für LehrerIn und für das Meditationszentrum München
URL:https://buddhahaus-muenchen.de/event/morgenmeditation-online-4/2024-11-12/
LOCATION:Buddha-Haus München
CATEGORIES:Online
ATTACH;FMTTYPE=image/png:https://buddhahaus-muenchen.de/wp-content/uploads/2024/10/Muenchen-Web-Kursseite3.png
END:VEVENT
BEGIN:VEVENT
DTSTART;TZID=Europe/Berlin:20241112T190000
DTEND;TZID=Europe/Berlin:20241112T210000
DTSTAMP:20260424T021318
CREATED:20230915T092047Z
LAST-MODIFIED:20240902T114436Z
UID:34458-1731438000-1731445200@buddhahaus-muenchen.de
SUMMARY:Kalyāna-mitta Abend
DESCRIPTION:Vom Buddha wird betont\, wie wichtig eine Gemeinschaft\, eine spirituelle Freundin\, ein spiritueller Freund (Kalyāna-mitta) ist. So sagt er zu Ananda\, der findet\, dass edle Freundschaft die Hälfte des spirituellen Lebens ausmache: „Sage das nicht\, Ananda\, sage das nicht: ist es ja doch das ganze spirituelle Leben\, nämlich Freundschaft mit Guten\, Gemeinschaft mit Guten\, Vertrautsein mit Guten.“  \nDer Kalyāna-mitta Abend ist ein wöchentlich stattfindender offener Meditationsabend im Buddha-Haus München\, der ab 21. März 2023 dienstags neu beginnt. Die Idee zu diesem Angebot entstand aus dem Wunsch\, als Gruppe von Kalyāna-mittas einen Abend gemeinsam zu gestalten und abwechselnd zu leiten. \nEs ist ein Abend füreinander und miteinander: Wir kultivieren unter „spirituellen Freunden“ die Praxis der Meditation und den Austausch – zur gegenseitigen Ermutigung und Inspiration. \nSo ist hier jede*r willkommen\, der daran Interesse hat in seinem Lebensalltag Qualitäten wie Klarheit\, Mitgefühl und Gelassenheit in sich zu fördern. \nDas Wort „Kalyāna“ kann auf Deutsch übersetzt werden mit: liebenswert\, schön\, erhebend\, inspirierend\, ethisch.  \nEin Kalyāna-mitta ist also jemand\, der sich bemüht\, der sich kümmert\, der freigebig ist\, der auf das Schöne und Gute achtet\, und der sich z.B. fragt: Was ist heilsam\, was nicht? – und dafür nach Antworten in der buddhistischen Lehre sucht \nFragen zur Reflexion dienen der Wochenbegleitung im Alltag und können in der darauffolgenden Woche in den Austausch einfließen. An jedem 3. Dienstag beschäftigen wir uns mit Texten zu Buddhas Lehre. \nDie Gruppenabende werden begeitet von: Bettina Schaschke\, Romy Schlichting\, Alexander Weicker und anderen \n\nBettina: 3.9.-8.10.2024\nAlexander: 15.10.-5.11.2024\nRomy: 12.11.-17.12.2024\n\nAblauf des Abends: Achtsame Körperübungen – Hineinführung in die Meditation – Austausch über Buddhas Lehre  – Liebende Güte- oder Brahmavihāra-Meditation\n \nThemen Herbst/Winter 2024: Themen_Kalyana-mitta-Abend_Herbst_Winter 2024 \n  \nTeilnahme: Schnuppern ist jederzeit möglich\, einfach kommen\nKosten: Auf Spendenbasis (im Rahmen Deiner Möglichkeiten). Deine Spende für das Buddha-Haus München ist freiwillig . „Dana“ (Gebefreude) ist im Buddhismus Teil der spirituellen Praxis.
URL:https://buddhahaus-muenchen.de/event/kalyana-mitta-abend-3/2024-11-12/
LOCATION:Buddha-Haus München
CATEGORIES:Offene Meditationsabende
ATTACH;FMTTYPE=image/jpeg:https://buddhahaus-muenchen.de/wp-content/uploads/2023/01/Kalyana1-e1674116616663.jpg
END:VEVENT
BEGIN:VEVENT
DTSTART;TZID=Europe/Berlin:20241113T080000
DTEND;TZID=Europe/Berlin:20241113T084500
DTSTAMP:20260424T021318
CREATED:20240401T104752Z
LAST-MODIFIED:20241128T210603Z
UID:37781-1731484800-1731487500@buddhahaus-muenchen.de
SUMMARY:Morgenmeditation täglich Online
DESCRIPTION:Wo auch immer ihr eure Morgen verbringt: wir laden euch zur Online-Morgenmeditation mit einer Hineinführung in die Stille Meditation via Zoom ein. Bitte nutze die Anmeldefunktion. Den Zugang zur Online-Meditation erhältst Du direkt im Anschluss per Email. \n\nAnleiter:\nMontag – Heinz Roiger\nDienstag – Alexander Weicker\nMittwoch – Angelika Reintzsch\nDonnerstag – Romy Schlichting\nFreitag – David Schoch \nAnmeldung: Bitte nutze die Anmeldung. Den Zugang zur Online Meditation bekommst du im Anschluss direkt per Email!\nKosten: Dana: freiwillige Spende für LehrerIn und für das Meditationszentrum München
URL:https://buddhahaus-muenchen.de/event/morgenmeditation-online-4/2024-11-13/
LOCATION:Buddha-Haus München
CATEGORIES:Online
ATTACH;FMTTYPE=image/png:https://buddhahaus-muenchen.de/wp-content/uploads/2024/10/Muenchen-Web-Kursseite3.png
END:VEVENT
BEGIN:VEVENT
DTSTART;TZID=Europe/Berlin:20241113T100000
DTEND;TZID=Europe/Berlin:20241113T130000
DTSTAMP:20260424T021318
CREATED:20230915T082052Z
LAST-MODIFIED:20230915T082052Z
UID:34627-1731492000-1731502800@buddhahaus-muenchen.de
SUMMARY:Offene Meditation am Mittwoch
DESCRIPTION:Gemeinsam in die stille Meditation. Einfach sein – ohne Anleitung. \nAchtung: Nicht an Feiertagen! \nAnmeldung: Nicht nötig\nKosten: Dana: freiwillige Spende für LehrerIn und für das Meditationszentrum München
URL:https://buddhahaus-muenchen.de/event/offene-meditation-am-mittwoch/2024-11-13/
LOCATION:Buddha-Haus München
CATEGORIES:Stille Meditation
ATTACH;FMTTYPE=image/jpeg:https://buddhahaus-muenchen.de/wp-content/uploads/2020/06/d75e6a59-f2ea-416b-afd2-095608f6f213.jpg
END:VEVENT
BEGIN:VEVENT
DTSTART;TZID=Europe/Berlin:20241113T190000
DTEND;TZID=Europe/Berlin:20241113T210000
DTSTAMP:20260424T021318
CREATED:20230915T120648Z
LAST-MODIFIED:20241014T112015Z
UID:34272-1731524400-1731531600@buddhahaus-muenchen.de
SUMMARY:Charlie Pils: Anapanasati - Achtsamkeit auf den Atem | Kurs 29
DESCRIPTION:„Wenn die Achtsamkeit auf den Atem entfaltet und geübt wird\, ist sie von großer Frucht und großem Nutzen. In der Tiefe des Erlebens vervollkommnet sie die vier Grundlagen der Achtsamkeit. Wenn die vier Grundlagen der Achtsamkeit entfaltet und geübt werden\, vervollkommnen sie die sieben Erleuchtungsglieder. \nWenn die sieben Erleuchtungsglieder entfaltet und geübt werden\, vervollkommnen sie wahres Wissen und Befreiung.“ Buddha. Und wie wird die Achtsamkeit auf den Atem entfaltet und geübt\, so dass sie von großer Frucht und großem Nutzen ist?“ \n  \n  \nKursgebühr: 90 € für 10 Abende\nDana für den Lehrer und das Buddha-Haus München
URL:https://buddhahaus-muenchen.de/event/charlie-pils-anapanasati-achtsamkeit-auf-den-atem-kurs-29/2024-11-13/
LOCATION:Buddha-Haus München
CATEGORIES:Meditationskurse unter der Woche,Online
ATTACH;FMTTYPE=image/jpeg:https://buddhahaus-muenchen.de/wp-content/uploads/2021/11/charlie_web.jpg
END:VEVENT
BEGIN:VEVENT
DTSTART;TZID=Europe/Berlin:20241114T080000
DTEND;TZID=Europe/Berlin:20241114T084500
DTSTAMP:20260424T021318
CREATED:20240401T104752Z
LAST-MODIFIED:20241128T210604Z
UID:37782-1731571200-1731573900@buddhahaus-muenchen.de
SUMMARY:Morgenmeditation täglich Online
DESCRIPTION:Wo auch immer ihr eure Morgen verbringt: wir laden euch zur Online-Morgenmeditation mit einer Hineinführung in die Stille Meditation via Zoom ein. Bitte nutze die Anmeldefunktion. Den Zugang zur Online-Meditation erhältst Du direkt im Anschluss per Email. \n\nAnleiter:\nMontag – Heinz Roiger\nDienstag – Alexander Weicker\nMittwoch – Angelika Reintzsch\nDonnerstag – Romy Schlichting\nFreitag – David Schoch \nAnmeldung: Bitte nutze die Anmeldung. Den Zugang zur Online Meditation bekommst du im Anschluss direkt per Email!\nKosten: Dana: freiwillige Spende für LehrerIn und für das Meditationszentrum München
URL:https://buddhahaus-muenchen.de/event/morgenmeditation-online-4/2024-11-14/
LOCATION:Buddha-Haus München
CATEGORIES:Online
ATTACH;FMTTYPE=image/png:https://buddhahaus-muenchen.de/wp-content/uploads/2024/10/Muenchen-Web-Kursseite3.png
END:VEVENT
BEGIN:VEVENT
DTSTART;TZID=Europe/Berlin:20241114T183000
DTEND;TZID=Europe/Berlin:20241114T210000
DTSTAMP:20260424T021318
CREATED:20230922T092945Z
LAST-MODIFIED:20240731T080717Z
UID:34974-1731609000-1731618000@buddhahaus-muenchen.de
SUMMARY:Ausgebucht / Warteliste - Regina Erbach: Stressreduktion durch Achtsamkeit (MBSR) | Kurs 30
DESCRIPTION:Stress\, Ängste und Bedrückungen verschiedenster Art scheinen manchmal unsere ständigen Begleiter zu sein. Wir sind jedoch nicht machtlos dagegen! \nIn diesem Kurs lernen wir\, mit Hilfe von Meditation\, Körperübungen und Erkenntnissen aus der Stressforschung wieder den Zugang zu uns selbst zu finden – zu der inneren Ruhe\, Kraft und Lebensfreude\, die in uns schon immer natürlich vorhanden sind. Der Kurs wird von den gesetzlichen Krankenkassen bezuschusst; melden Sie sich gerne für ein unverbindliches persönliches Vorgespräch unter regina.erbach@posteo.de. \nTag der Stille Samstag 30.11.24 \nKursgebühr: je 260 € (incl. Arbeitsbuch und Meditationsanleitungen auf CD/mp3)\nOrgagebühr: 50 €\nDana freie Spende für den Lehrer und für das Meditationszentrum München
URL:https://buddhahaus-muenchen.de/event/regina-erbach-stressreduktion-durch-achtsamkeit-mbsr-kurs-30/2024-11-14/
LOCATION:Buddha-Haus München
CATEGORIES:MBSR
ATTACH;FMTTYPE=image/jpeg:https://buddhahaus-muenchen.de/wp-content/uploads/2019/11/Regina-Erbach.jpg
END:VEVENT
BEGIN:VEVENT
DTSTART;TZID=Europe/Berlin:20241115T080000
DTEND;TZID=Europe/Berlin:20241115T084500
DTSTAMP:20260424T021318
CREATED:20240401T104752Z
LAST-MODIFIED:20241128T210605Z
UID:37783-1731657600-1731660300@buddhahaus-muenchen.de
SUMMARY:Morgenmeditation täglich Online
DESCRIPTION:Wo auch immer ihr eure Morgen verbringt: wir laden euch zur Online-Morgenmeditation mit einer Hineinführung in die Stille Meditation via Zoom ein. Bitte nutze die Anmeldefunktion. Den Zugang zur Online-Meditation erhältst Du direkt im Anschluss per Email. \n\nAnleiter:\nMontag – Heinz Roiger\nDienstag – Alexander Weicker\nMittwoch – Angelika Reintzsch\nDonnerstag – Romy Schlichting\nFreitag – David Schoch \nAnmeldung: Bitte nutze die Anmeldung. Den Zugang zur Online Meditation bekommst du im Anschluss direkt per Email!\nKosten: Dana: freiwillige Spende für LehrerIn und für das Meditationszentrum München
URL:https://buddhahaus-muenchen.de/event/morgenmeditation-online-4/2024-11-15/
LOCATION:Buddha-Haus München
CATEGORIES:Online
ATTACH;FMTTYPE=image/png:https://buddhahaus-muenchen.de/wp-content/uploads/2024/10/Muenchen-Web-Kursseite3.png
END:VEVENT
BEGIN:VEVENT
DTSTART;TZID=Europe/Berlin:20241115T190000
DTEND;TZID=Europe/Berlin:20241115T210000
DTSTAMP:20260424T021318
CREATED:20230827T105005Z
LAST-MODIFIED:20240912T063056Z
UID:38372-1731697200-1731704400@buddhahaus-muenchen.de
SUMMARY:Ayya Khema Abend: Freitagsmeditation mit Norbert / Alexander
DESCRIPTION:Gemeinsames Praktizieren von Anfängern und Fortgeschrittenen mit angeleiteten und stillen Einsichts- und Mitgefühlsmeditationen (Vipassana\, Metta)\,  Gehmeditation\, Videovorträgen von Ayya Khema sowie die Möglichkeit\, Fragen zur Lehre und zur eigenen Meditationspraxis zu stellen. \nDer Abend entfällt wenn ein öffentlicher Vortrag zum Wochenend-Kurs stattfindet. \nNorbert Wildgruber und Alexander Weicker leiten die Abende an. \n  \nKosten: Dana: freiwillige Spende für LehrerIn und für das Meditationszentrum München (Empfehlung 10-20 €)\nAnmeldung: Eine Anmeldung für diesen Abend ist nicht nötig \nAyya Khema Abend 2024 Besetzung \n 
URL:https://buddhahaus-muenchen.de/event/ayya-khema-abend-freitagsmeditation-mit-norbert-alexander-2/2024-11-15/
LOCATION:Buddha-Haus München
CATEGORIES:Offene Meditationsabende
ATTACH;FMTTYPE=image/png:https://buddhahaus-muenchen.de/wp-content/uploads/2021/11/2.png
END:VEVENT
BEGIN:VEVENT
DTSTART;TZID=Europe/Berlin:20241116T093000
DTEND;TZID=Europe/Berlin:20241116T120000
DTSTAMP:20260424T021318
CREATED:20230915T084834Z
LAST-MODIFIED:20241115T220940Z
UID:36243-1731749400-1731758400@buddhahaus-muenchen.de
SUMMARY:Monika Grett: „Zeit für dich Selbst“ Yoga und Meditation
DESCRIPTION:„Zeit für dich SELBST“ Workshops mit Yoga und Meditation Asana – Karana – Pranayama – Mantra- Mudra- Entspannung- Meditation \nSamstag\, Hl. Dreikönig 06. Januar 2024 – Online\nBewusst das neue Jahr beginnen | „Ganesha“ öffnet Türen\, schenkt Glück\, Erfolg… \nSonntag\, 25. Februar 2024 – Online\nHatha und Kundalini Yoga & YIN „Reise durch alle Chakren“ \nSonntag\, 07. Juli 2024\nSommer – Genießen/Fülle | Element Erde: Aktivität\, Freude\, Leichtigkeit (Muladara/Manipura Chakra) \nSamstag\, 16. November 2024\nEinstimmung Winter –Zeit der Ruhe und Besinnung | Element Wasser: Einkehr\, Konzentration\, Meditation (Muladhara/ Svadisthana Chakra) „YIN-YANG Yoga“ \nKosten: 30 €\nOrgagebühr: 5 €\nDana: freiwillige Spende für LehrerIn und das Buddha-Haus München \n 
URL:https://buddhahaus-muenchen.de/event/monika-grett-zeit-fuer-dich-selbst-yoga-und-meditation-2024-07-07-2024-11-16/
LOCATION:Buddha-Haus München
CATEGORIES:Online,Yoga
ATTACH;FMTTYPE=image/jpeg:https://buddhahaus-muenchen.de/wp-content/uploads/2022/09/Monika_klein-6-scaled.jpg
END:VEVENT
BEGIN:VEVENT
DTSTART;TZID=Europe/Berlin:20241116T140000
DTEND;TZID=Europe/Berlin:20241116T160000
DTSTAMP:20260424T021318
CREATED:20241110T170206Z
LAST-MODIFIED:20241110T170753Z
UID:41595-1731765600-1731772800@buddhahaus-muenchen.de
SUMMARY:Isar-Herbstspaziergang
DESCRIPTION:Ein Isar-Herbstspaziergang\nzum gemeinsamen spazieren\, austauschen und kennenlernen\nTreffpunkt: U-Bahn Thalkirchen (vor der Zoobrücke)\nDatum: Samstag 16. November 2024\nUhrzeit: 14.00 Uhr\nKontakt bei Fragen: Katrin 0179 9747 211 oder Katrin.alt(at)t-online.de
URL:https://buddhahaus-muenchen.de/event/isar-herbstspaziergang/
LOCATION:Buddha-Haus München
ATTACH;FMTTYPE=image/png:https://buddhahaus-muenchen.de/wp-content/uploads/2023/10/MUeNCHEN-Webseite-Slider-48.png
END:VEVENT
BEGIN:VEVENT
DTSTART;TZID=Europe/Berlin:20241117T150000
DTEND;TZID=Europe/Berlin:20241117T170000
DTSTAMP:20260424T021318
CREATED:20230915T085640Z
LAST-MODIFIED:20241015T131654Z
UID:35987-1731855600-1731862800@buddhahaus-muenchen.de
SUMMARY:Stille Meditation
DESCRIPTION:Stille Samadhipraxis zielt auf das Erleben der GEMÜTSRUHE. Das ist der durch intensive geistige Sammlung gewonnene\, gefestigte\, friedvolle Zustand des Geistes. Die Stille läutert Herz und Geist von den Trübungen und führt in 3 Stadien der Konzentration bis in das Erlebens der feinkörperlichen und unkörperlichen Vertiefungen Jhana. \n„Keine wertvollere Unterstützung auf deinem Weg kenne ich als das gemeinsame Sein in Stille in einer Sangha“ (Buddha) \nMeditationszeiten – Bitte pünktlich vor 15 Uhr kommen \n15:00 – 15:35 Sitzen\n15:35 – 15:45 Gehen\n15:45 – 16:20 Sitzen\n16:20 – 16:30 Gehen\n16:30 – 17:00 Sitzen\n17:00 –  Tee \n„Berührt die Stille Schönes in dir\, offenbart sie dessen Schönheit. Berührt sie etwas Schmerzvolles\, wandelt sie es um und heilt es“. \nLeitung: Buddha-Haus Sangha\nAnmeldung: Keine Anmeldung nötig. Einfach kommen.\nKosten: Dana: freie Herzensgabe
URL:https://buddhahaus-muenchen.de/event/meditation-fuer-alle-4/2024-11-17/
LOCATION:Buddha-Haus München
CATEGORIES:Offene Meditationsabende,Stille Meditation
ATTACH;FMTTYPE=image/jpeg:https://buddhahaus-muenchen.de/wp-content/uploads/2021/12/33F7CD20-233E-41F2-9905-BBB18AD45E59.jpeg
END:VEVENT
BEGIN:VEVENT
DTSTART;TZID=Europe/Berlin:20241117T180000
DTEND;TZID=Europe/Berlin:20241117T193000
DTSTAMP:20260424T021318
CREATED:20230915T094404Z
LAST-MODIFIED:20241014T112052Z
UID:34174-1731866400-1731871800@buddhahaus-muenchen.de
SUMMARY:Fariba Peykan: Frieden finden in einer lauten Welt | Kurs 46
DESCRIPTION:Wir leben in einer Zeit großer Veränderungen. Täglich erreichen uns neue Nachrichten von zwischenmenschlichen Konflikten und Naturkatastrophen. Wie können wir mit dieser Unsicherheit umgehen? In diesem Kurs schauen wir uns an\, wie wir durch die Meditation basierend auf den Lehren des Buddha immer wieder in unsere Präsenz finden können. Bei uns selbst angekommen können wir Ruhe und Frieden finden und damit hilfreich für uns selbst und andere sein. \n  \nKursgebühr: 90 € für 10 Abende\nDana für die Lehrerin und das Buddha-Haus München
URL:https://buddhahaus-muenchen.de/event/fariba-peykan-frieden-finden-in-einer-lauten-welt-kurs-46/2024-11-17/
LOCATION:Buddha-Haus München
CATEGORIES:Besonders geeignete Wochenendkurse,Meditationskurse unter der Woche
ATTACH;FMTTYPE=image/jpeg:https://buddhahaus-muenchen.de/wp-content/uploads/2023/08/Fariba-1-scaled.jpg
END:VEVENT
END:VCALENDAR