BEGIN:VCALENDAR
VERSION:2.0
PRODID:-//Buddha-Haus München - ECPv6.15.16.1//NONSGML v1.0//EN
CALSCALE:GREGORIAN
METHOD:PUBLISH
X-WR-CALNAME:Buddha-Haus München
X-ORIGINAL-URL:https://buddhahaus-muenchen.de
X-WR-CALDESC:Veranstaltungen für Buddha-Haus München
REFRESH-INTERVAL;VALUE=DURATION:PT1H
X-Robots-Tag:noindex
X-PUBLISHED-TTL:PT1H
BEGIN:VTIMEZONE
TZID:Europe/Berlin
BEGIN:DAYLIGHT
TZOFFSETFROM:+0100
TZOFFSETTO:+0200
TZNAME:CEST
DTSTART:20240331T010000
END:DAYLIGHT
BEGIN:STANDARD
TZOFFSETFROM:+0200
TZOFFSETTO:+0100
TZNAME:CET
DTSTART:20241027T010000
END:STANDARD
BEGIN:DAYLIGHT
TZOFFSETFROM:+0100
TZOFFSETTO:+0200
TZNAME:CEST
DTSTART:20250330T010000
END:DAYLIGHT
BEGIN:STANDARD
TZOFFSETFROM:+0200
TZOFFSETTO:+0100
TZNAME:CET
DTSTART:20251026T010000
END:STANDARD
BEGIN:DAYLIGHT
TZOFFSETFROM:+0100
TZOFFSETTO:+0200
TZNAME:CEST
DTSTART:20260329T010000
END:DAYLIGHT
BEGIN:STANDARD
TZOFFSETFROM:+0200
TZOFFSETTO:+0100
TZNAME:CET
DTSTART:20261025T010000
END:STANDARD
END:VTIMEZONE
BEGIN:VEVENT
DTSTART;TZID=Europe/Berlin:20250310T080000
DTEND;TZID=Europe/Berlin:20250310T084500
DTSTAMP:20260424T052321
CREATED:20241014T102339Z
LAST-MODIFIED:20250723T064325Z
UID:40560-1741593600-1741596300@buddhahaus-muenchen.de
SUMMARY:Online Morgenmeditation
DESCRIPTION:Wo auch immer ihr eure Morgen verbringt: wir laden euch zur Online-Morgenmeditation mit einer Hineinführung in die Stille Meditation via Zoom ein. Bitte nutze die Anmeldefunktion. Den Zugang zur Online-Meditation erhältst Du direkt im Anschluss per Email. \n\nAnleiter:\nMontag – Heinz Roiger\nDienstag – Rita Paulus\nMittwoch – Angelika Reintzsch\nDonnerstag – Romy Schlichting\nFreitag – David Schoch \nAnmeldung: Bitte nutze die Anmeldung. Den Zugang zur Online Meditation bekommst du im Anschluss direkt per Email!\nKosten: Dana: freiwillige Spende für LehrerIn und für das Meditationszentrum München
URL:https://buddhahaus-muenchen.de/event/morgenmeditation-online-5/2025-03-10/
LOCATION:Buddha-Haus München
CATEGORIES:Online
ATTACH;FMTTYPE=image/png:https://buddhahaus-muenchen.de/wp-content/uploads/2024/10/Muenchen-Web-Kursseite3.png
END:VEVENT
BEGIN:VEVENT
DTSTART;TZID=Europe/Berlin:20250310T160000
DTEND;TZID=Europe/Berlin:20250310T170000
DTSTAMP:20260424T052321
CREATED:20240805T072732Z
LAST-MODIFIED:20241014T133900Z
UID:39221-1741622400-1741626000@buddhahaus-muenchen.de
SUMMARY:Dr. Olga Bulinova: Yoga
DESCRIPTION:Yoga wirkt ganzheitlich auf den Geist und den Körper\, auf das Gemüt und den Verstand. Sie erlernen verschiedene Techniken und Möglichkeiten für die Arbeit mit dem Körper und dem Geist\, die Yoga anbietet\, und bekommen Anleitungen für das selbständige Üben zu Hause. \nDer Kurs richtet sich an alle\, die ihren Körper besser kennenlernen und ihren Geist beruhigen möchten. Der Körper wird langsam aufgebaut und die Entspannung geübt. Bei Buchung von 12 Terminen wird der Kurs von den gesetzlichen Krankenkassen bezuschusst. \n  \nKursgebühr: 13 € pro Abend (ohne Anmeldung)\n10 € pro Abend bei Anmeldung für 12 Termine = gesamt 120\,- €  (KK-Zuschuss möglich)\nDana: freiwillige Spende für LehrerIn und für das Meditationszentrum München erbeten
URL:https://buddhahaus-muenchen.de/event/dr-olga-bulinova-yoga-4/2025-03-10/
LOCATION:Buddha-Haus München
CATEGORIES:Yoga
ATTACH;FMTTYPE=image/jpeg:https://buddhahaus-muenchen.de/wp-content/uploads/2022/12/Olga-1-scaled.jpg
END:VEVENT
BEGIN:VEVENT
DTSTART;TZID=Europe/Berlin:20250310T173000
DTEND;TZID=Europe/Berlin:20250310T183000
DTSTAMP:20260424T052321
CREATED:20240805T073249Z
LAST-MODIFIED:20240805T073249Z
UID:39299-1741627800-1741631400@buddhahaus-muenchen.de
SUMMARY:Dr. Olga Bulinova: Yoga
DESCRIPTION:Yoga wirkt ganzheitlich auf den Geist und den Körper\, auf das Gemüt und den Verstand. Sie erlernen verschiedene Techniken und Möglichkeiten für die Arbeit mit dem Körper und dem Geist\, die Yoga anbietet\, und bekommen Anleitungen für das selbständige Üben zu Hause. \nDer Kurs richtet sich an alle\, die ihren Körper besser kennenlernen und ihren Geist beruhigen möchten. Der Körper wird langsam aufgebaut und die Entspannung geübt. Bei Buchung von 12 Terminen wird der Kurs von den gesetzlichen Krankenkassen bezuschusst. \n  \nKursgebühr: 13 € pro Abend (ohne Anmeldung)\n10 € pro Abend bei Anmeldung für 12 Termine = gesamt 120\,- €  (KK-Zuschuss möglich)\nDana: freiwillige Spende für LehrerIn und für das Meditationszentrum München erbeten
URL:https://buddhahaus-muenchen.de/event/dr-olga-bulinova-yoga-5/2025-03-10/
LOCATION:Buddha-Haus München
CATEGORIES:Yoga
ATTACH;FMTTYPE=image/jpeg:https://buddhahaus-muenchen.de/wp-content/uploads/2022/12/Olga-1-scaled.jpg
END:VEVENT
BEGIN:VEVENT
DTSTART;TZID=Europe/Berlin:20250310T190000
DTEND;TZID=Europe/Berlin:20250310T210000
DTSTAMP:20260424T052321
CREATED:20241206T093939Z
LAST-MODIFIED:20250101T122230Z
UID:42097-1741633200-1741640400@buddhahaus-muenchen.de
SUMMARY:Heinz Roiger: Die Leichtigkeit des Seins
DESCRIPTION:Zeit für innehalten\, alltagsnahe Rückbesinnung und Schaffen von Raum für die Ausrichtung auf das Wesentliche\, sowie intensive Begegnung mit sich selbst und Austausch mit anderen Menschen. \nDie Abende laden ein:\n– zu authentischer Begegnung mit sich\n– zu Freude an unserer Lebendigkeit\n– zu Stille im einfachen da – sein\n– zu Anregungen für Vertiefung oder Neuorientierung in unserem Leben. \n10 Abende / Termine und Themen: \n1) 13.01. – Vipassana – das Potential Einsicht\n2) 20.01. – Samatha – das Potential Ruhe\n3) 27.01. – Leben hier und jetzt\n4) 03.02. – Die Freude am spirituellen Weg\n5) 10.02. – Vom Kopf zum Herz\n6) 17.02. – Vertrauen in sich selbst\n7) 24.02. – Klarheit und Wahrheit\n8) 03.03. – Es ist wie es ist\n9) 10.03.- Der Weg der Freundschaft\n10) 17.03. – Die Fallen des Weges im Alltag erkennen \nEs wird die Möglichkeit zu Einzel- und Gruppengesprächen geben. \n10 Abende \nKursgebühr: 100€\nDana: freiwillige Spende für LehrerIn und das Buddha-Haus München
URL:https://buddhahaus-muenchen.de/event/heinz-roiger-die-leichtigkeit-des-seins-4/2025-03-10/
LOCATION:Buddha-Haus München
CATEGORIES:Meditationskurse unter der Woche
ATTACH;FMTTYPE=image/jpeg:https://buddhahaus-muenchen.de/wp-content/uploads/2021/11/heinz_web.jpg
END:VEVENT
BEGIN:VEVENT
DTSTART;TZID=Europe/Berlin:20250311T080000
DTEND;TZID=Europe/Berlin:20250311T084500
DTSTAMP:20260424T052321
CREATED:20241014T102339Z
LAST-MODIFIED:20250723T064325Z
UID:40561-1741680000-1741682700@buddhahaus-muenchen.de
SUMMARY:Online Morgenmeditation
DESCRIPTION:Wo auch immer ihr eure Morgen verbringt: wir laden euch zur Online-Morgenmeditation mit einer Hineinführung in die Stille Meditation via Zoom ein. Bitte nutze die Anmeldefunktion. Den Zugang zur Online-Meditation erhältst Du direkt im Anschluss per Email. \n\nAnleiter:\nMontag – Heinz Roiger\nDienstag – Rita Paulus\nMittwoch – Angelika Reintzsch\nDonnerstag – Romy Schlichting\nFreitag – David Schoch \nAnmeldung: Bitte nutze die Anmeldung. Den Zugang zur Online Meditation bekommst du im Anschluss direkt per Email!\nKosten: Dana: freiwillige Spende für LehrerIn und für das Meditationszentrum München
URL:https://buddhahaus-muenchen.de/event/morgenmeditation-online-5/2025-03-11/
LOCATION:Buddha-Haus München
CATEGORIES:Online
ATTACH;FMTTYPE=image/png:https://buddhahaus-muenchen.de/wp-content/uploads/2024/10/Muenchen-Web-Kursseite3.png
END:VEVENT
BEGIN:VEVENT
DTSTART;TZID=Europe/Berlin:20250311T173000
DTEND;TZID=Europe/Berlin:20250311T183000
DTSTAMP:20260424T052321
CREATED:20241116T101258Z
LAST-MODIFIED:20241217T134633Z
UID:41824-1741714200-1741717800@buddhahaus-muenchen.de
SUMMARY:Ganzheitliches Yoga & Atem
DESCRIPTION:Hatha-Yoga (körperorientiertes Yoga) mit Asanas (Körperstellungen)\, Karanas (Bewegungsabläufen)\, Pranayama (Atemübungen)\, Tiefenentspannung und Meditation. \nYoga\, ein Weg zu Gesundheit\, Bewusstheit\, klarem Geist\, tiefer Entspannung\, Harmonie und innerem Frieden. \nWir bauen durch die Yogapraxis Stress ab auf allen Ebenen körperlich\,geistig und seelisch und befreien uns von inneren Blockaden\, lösen Stoffwechselschlacken (entgiften den Körper) und tanken Lebensenergie „Prana“ für alle Anforderungen des Lebens! \nLass dich ein auf die Erfahrung des Yoga! \n17:30 Uhr bis 18:30 Uhr\nHybrid\nKosten: 15 €\nDana: freiwillige Spende für Lehrerin und das Buddha-Haus München\n 
URL:https://buddhahaus-muenchen.de/event/ganzheitliches-yoga-atem/2025-03-11/
LOCATION:Buddha-Haus München
CATEGORIES:Online,Yoga
ATTACH;FMTTYPE=image/jpeg:https://buddhahaus-muenchen.de/wp-content/uploads/2022/09/Monika_klein-6-scaled.jpg
END:VEVENT
BEGIN:VEVENT
DTSTART;TZID=Europe/Berlin:20250311T190000
DTEND;TZID=Europe/Berlin:20250311T210000
DTSTAMP:20260424T052321
CREATED:20240730T101717Z
LAST-MODIFIED:20250827T124544Z
UID:39049-1741719600-1741726800@buddhahaus-muenchen.de
SUMMARY:Kalyāna-mitta Abend
DESCRIPTION:Der Kalyāna-mitta Abend ist als ein Abend füreinander und miteinander gedacht: Wir kultivieren unter „spirituellen Freunden“ die Praxis der Meditation und den Austausch – zur gegenseitigen Ermutigung und Inspiration. So ist hier jede*r willkommen\, der daran Interesse hat in seinem Lebensalltag Qualitäten wie Klarheit\, Mitgefühl und Gelassenheit in sich zu fördern. \nVom Buddha wird betont\, wie wichtig eine Gemeinschaft\, eine spirituelle Freundin\, ein spiritueller Freund (Kalyāna-mitta) ist. So sagt er zu Ananda\, der findet\, dass edle Freundschaft die Hälfte des spirituellen Lebens ausmache: „Sage das nicht\, Ananda\, sage das nicht: ist es ja doch das ganze spirituelle Leben\, nämlich Freundschaft mit Guten\, Gemeinschaft mit Guten\, Vertrautsein mit Guten.“ \nDas Wort „Kalyāna“ kann auf Deutsch übersetzt werden mit: liebenswert\, schön\, erhebend\, inspirierend\, ethisch. Ein Kalyāna-mitta ist also jemand\, der sich bemüht\, der sich kümmert\, der freigebig ist\, der auf das Schöne und Gute achtet\, und der sich z.B. fragt: Was ist heilsam\, was nicht? – und dafür nach Antworten in der buddhistischen Lehre sucht. An den Abenden stehen deshalb Basisthemen der Lehre des Buddha im Mittelpunkt. Sie werden über das Jahr verteilt in Themenblöcken behandelt. \nFragen zur Reflexion dienen der Wochenbegleitung im Alltag und können in der darauffolgenden Woche in den Austausch einfließen. \nDie Gruppenabende werden geleitet von: Romy Schlichting und Bettina Schaschke  \nAblauf des Abends: Achtsame Körperübungen – Hineinführung in die Meditation – Input und Austausch über Buddhas Lehre  – Liebende Güte- oder Brahmavihāra-Meditation \nTeilnahme: Schnuppern ist jederzeit möglich\, einfach kommen\nKosten: Auf Spendenbasis (im Rahmen Deiner Möglichkeiten). Deine Spende für das Buddha-Haus München ist freiwillig. „Dana“ (Großzügigkeit\, Gebefreude) ist im Buddhismus Teil der spirituellen Praxis. \nThema_Kalyana-mitta-Abende_Herbst 2025_corr(2)
URL:https://buddhahaus-muenchen.de/event/kalyana-mitta-abend-2/2025-03-11/
LOCATION:Buddha-Haus München
CATEGORIES:Meditationskurse unter der Woche,Offene Meditationsabende
ATTACH;FMTTYPE=image/jpeg:https://buddhahaus-muenchen.de/wp-content/uploads/2023/01/Kalyana1-e1674116616663.jpg
END:VEVENT
BEGIN:VEVENT
DTSTART;TZID=Europe/Berlin:20250312T080000
DTEND;TZID=Europe/Berlin:20250312T084500
DTSTAMP:20260424T052321
CREATED:20241014T102339Z
LAST-MODIFIED:20250723T064325Z
UID:40562-1741766400-1741769100@buddhahaus-muenchen.de
SUMMARY:Online Morgenmeditation
DESCRIPTION:Wo auch immer ihr eure Morgen verbringt: wir laden euch zur Online-Morgenmeditation mit einer Hineinführung in die Stille Meditation via Zoom ein. Bitte nutze die Anmeldefunktion. Den Zugang zur Online-Meditation erhältst Du direkt im Anschluss per Email. \n\nAnleiter:\nMontag – Heinz Roiger\nDienstag – Rita Paulus\nMittwoch – Angelika Reintzsch\nDonnerstag – Romy Schlichting\nFreitag – David Schoch \nAnmeldung: Bitte nutze die Anmeldung. Den Zugang zur Online Meditation bekommst du im Anschluss direkt per Email!\nKosten: Dana: freiwillige Spende für LehrerIn und für das Meditationszentrum München
URL:https://buddhahaus-muenchen.de/event/morgenmeditation-online-5/2025-03-12/
LOCATION:Buddha-Haus München
CATEGORIES:Online
ATTACH;FMTTYPE=image/png:https://buddhahaus-muenchen.de/wp-content/uploads/2024/10/Muenchen-Web-Kursseite3.png
END:VEVENT
BEGIN:VEVENT
DTSTART;TZID=Europe/Berlin:20250312T100000
DTEND;TZID=Europe/Berlin:20250312T130000
DTSTAMP:20260424T052321
CREATED:20240730T103322Z
LAST-MODIFIED:20240730T105305Z
UID:39099-1741773600-1741784400@buddhahaus-muenchen.de
SUMMARY:Offene Meditation am Mittwoch
DESCRIPTION:Gemeinsam in die stille Meditation. Einfach sein – ohne Anleitung. \nAchtung: Nicht an Feiertagen! \nAnmeldung: Nicht nötig\nKosten: Dana: freiwillige Spende für LehrerIn und für das Meditationszentrum München
URL:https://buddhahaus-muenchen.de/event/offene-meditation-am-mittwoch-5/2025-03-12/
LOCATION:Buddha-Haus München
CATEGORIES:Stille Meditation
ATTACH;FMTTYPE=image/jpeg:https://buddhahaus-muenchen.de/wp-content/uploads/2020/06/d75e6a59-f2ea-416b-afd2-095608f6f213.jpg
END:VEVENT
BEGIN:VEVENT
DTSTART;TZID=Europe/Berlin:20250312T190000
DTEND;TZID=Europe/Berlin:20250312T210000
DTSTAMP:20260424T052321
CREATED:20240929T163734Z
LAST-MODIFIED:20241014T140628Z
UID:40166-1741806000-1741813200@buddhahaus-muenchen.de
SUMMARY:Charlie Pils: Anatta - Wer bin ich? - Wege der Selbsterforschung | Kurs K-2
DESCRIPTION:Der Weg der Selbsterforschung beginnt\, wenn du bereit bist\, dich für all deine Konditionierungen\, Gedanken und Gefühle zu öffnen. Damit beginnst du auch\, dein wunderbares geistiges Potenzial zu entdecken. Du beginnst\, deine veränderlichen Bewusstseins-zustände und Gemütsverfassungen zusammen mit einer ständig sich verändernden Selbstwahrnehmung und Wirklichkeit bewusst zu erleben. \nIn der Tiefe der Meditation ändert sich dein Standpunkt\, dein Erleben und Verstehen. Du beginnst\, dein „wahres Wesen“\, deinen „Herz-Geist“ zu entdecken. Wenn du lernst\, still zu Sein\, wirst du in reinem Da-Sein von einer natürlichen Gegenwärtigkeit\, Klarheit und Liebe durchdrungen sein. \nSo bist im Weg in ein Aufwachen in DAS\, was du zeitlos immer warst\, bist und sein wirst. \nStille und geleitete Meditationen – Mantrachanting – Vermittlung der Lehren\, Meditation und Praxis im Leben. Satsang: Fragen und Antworten aus dem Herzen. \nKursgebühr: 90 € für 10 Abende\nDana für den Lehrer und das Buddha-Haus München
URL:https://buddhahaus-muenchen.de/event/charlie-pils-anatta-wer-bin-ich-wege-der-selbsterforschung-kurs-k-2/2025-03-12/
LOCATION:Buddha-Haus München
CATEGORIES:Meditationskurse unter der Woche,Online
ATTACH;FMTTYPE=image/jpeg:https://buddhahaus-muenchen.de/wp-content/uploads/2021/11/charlie_Kachel01.jpg
END:VEVENT
BEGIN:VEVENT
DTSTART;TZID=Europe/Berlin:20250313T080000
DTEND;TZID=Europe/Berlin:20250313T084500
DTSTAMP:20260424T052321
CREATED:20241014T102339Z
LAST-MODIFIED:20250723T064326Z
UID:40563-1741852800-1741855500@buddhahaus-muenchen.de
SUMMARY:Online Morgenmeditation
DESCRIPTION:Wo auch immer ihr eure Morgen verbringt: wir laden euch zur Online-Morgenmeditation mit einer Hineinführung in die Stille Meditation via Zoom ein. Bitte nutze die Anmeldefunktion. Den Zugang zur Online-Meditation erhältst Du direkt im Anschluss per Email. \n\nAnleiter:\nMontag – Heinz Roiger\nDienstag – Rita Paulus\nMittwoch – Angelika Reintzsch\nDonnerstag – Romy Schlichting\nFreitag – David Schoch \nAnmeldung: Bitte nutze die Anmeldung. Den Zugang zur Online Meditation bekommst du im Anschluss direkt per Email!\nKosten: Dana: freiwillige Spende für LehrerIn und für das Meditationszentrum München
URL:https://buddhahaus-muenchen.de/event/morgenmeditation-online-5/2025-03-13/
LOCATION:Buddha-Haus München
CATEGORIES:Online
ATTACH;FMTTYPE=image/png:https://buddhahaus-muenchen.de/wp-content/uploads/2024/10/Muenchen-Web-Kursseite3.png
END:VEVENT
BEGIN:VEVENT
DTSTART;TZID=Europe/Berlin:20250313T190000
DTEND;TZID=Europe/Berlin:20250313T210000
DTSTAMP:20260424T052321
CREATED:20241003T134352Z
LAST-MODIFIED:20250201T082011Z
UID:40319-1741892400-1741899600@buddhahaus-muenchen.de
SUMMARY:AUSGEBUCHT Regina Erbach: MBSR und mehr – Komm in deine Kraft | Kurs K-3
DESCRIPTION:5 Abende mit angeleiteten Meditationen und Körperübungen sowie Zeit für Austausch und Empfehlungen für die Praxis im Alltag.  \nDie Praxis der Achtsamkeit hilft uns dabei\, unsere inneren Kraftquellen zu erschließen und wieder „zum Sprudeln zu bringen“\, so dass sie uns in schwierigen Zeiten zur Verfügung stehen. \nMit Hilfe der „Vier Grundlagen der Achtsamkeit“ entwickeln wir ein tieferes Verständnis unseres Mensch-Seins und mehr Mitgefühl für uns selbst und andere. Daraus erwachsen innere Stärke\, innerer Frieden und Lebensfreude. Der Kurs orientiert sich an dem MBSR-Konzept nach Jon Kabat-Zinn und ist sowohl für Anfänger als auch zur Vertiefung der Achtsamkeitspraxis geeignet. \nKursgebühr: 70 € für 5 Abende\nDana für die Lehrerin und das Buddha-Haus München
URL:https://buddhahaus-muenchen.de/event/regina-erbach-mbsr-und-mehr-komm-in-deine-kraft-kurs-k-3/2025-03-13/
LOCATION:Buddha-Haus München
CATEGORIES:MBSR
ATTACH;FMTTYPE=image/jpeg:https://buddhahaus-muenchen.de/wp-content/uploads/2019/11/Regina-Erbach.jpg
END:VEVENT
BEGIN:VEVENT
DTSTART;TZID=Europe/Berlin:20250314T080000
DTEND;TZID=Europe/Berlin:20250314T084500
DTSTAMP:20260424T052321
CREATED:20241014T102339Z
LAST-MODIFIED:20250723T064326Z
UID:40564-1741939200-1741941900@buddhahaus-muenchen.de
SUMMARY:Online Morgenmeditation
DESCRIPTION:Wo auch immer ihr eure Morgen verbringt: wir laden euch zur Online-Morgenmeditation mit einer Hineinführung in die Stille Meditation via Zoom ein. Bitte nutze die Anmeldefunktion. Den Zugang zur Online-Meditation erhältst Du direkt im Anschluss per Email. \n\nAnleiter:\nMontag – Heinz Roiger\nDienstag – Rita Paulus\nMittwoch – Angelika Reintzsch\nDonnerstag – Romy Schlichting\nFreitag – David Schoch \nAnmeldung: Bitte nutze die Anmeldung. Den Zugang zur Online Meditation bekommst du im Anschluss direkt per Email!\nKosten: Dana: freiwillige Spende für LehrerIn und für das Meditationszentrum München
URL:https://buddhahaus-muenchen.de/event/morgenmeditation-online-5/2025-03-14/
LOCATION:Buddha-Haus München
CATEGORIES:Online
ATTACH;FMTTYPE=image/png:https://buddhahaus-muenchen.de/wp-content/uploads/2024/10/Muenchen-Web-Kursseite3.png
END:VEVENT
BEGIN:VEVENT
DTSTART;TZID=Europe/Berlin:20250314T190000
DTEND;TZID=Europe/Berlin:20250314T210000
DTSTAMP:20260424T052321
CREATED:20240730T101201Z
LAST-MODIFIED:20251202T064247Z
UID:39002-1741978800-1741986000@buddhahaus-muenchen.de
SUMMARY:Ayya Khema Abend: Freitagsmeditation mit Norbert / Alexander
DESCRIPTION:Gemeinsames Praktizieren von Anfängern und Fortgeschrittenen mit angeleiteten und stillen Einsichts- und Mitgefühlsmeditationen (Vipassana\, Metta)\,  Gehmeditation\, Videovorträgen von Ayya Khema sowie die Möglichkeit\, Fragen zur Lehre und zur eigenen Meditationspraxis zu stellen. \nBesetzung: \n05.12.25 Alexander\n12.12.25 Linda\n19.12.25 Norbert \nDer Abend entfällt wenn ein öffentlicher Vortrag zum Wochenend-Kurs stattfindet. \nNorbert Wildgruber und Alexander Weicker leiten die Abende an. \n  \nKosten: Dana: freiwillige Spende für LehrerIn und für das Meditationszentrum München (Empfehlung 10-20 €)\nAnmeldung: Eine Anmeldung für diesen Abend ist nicht nötig
URL:https://buddhahaus-muenchen.de/event/ayya-khema-abend-freitagsmeditation-mit-norbert-alexander-3/2025-03-14/
LOCATION:Buddha-Haus München
CATEGORIES:Offene Meditationsabende
ATTACH;FMTTYPE=image/png:https://buddhahaus-muenchen.de/wp-content/uploads/2021/11/2.png
END:VEVENT
BEGIN:VEVENT
DTSTART;TZID=Europe/Berlin:20250315T090000
DTEND;TZID=Europe/Berlin:20250316T130000
DTSTAMP:20260424T052321
CREATED:20240913T075315Z
LAST-MODIFIED:20240913T075315Z
UID:39987-1742029200-1742130000@buddhahaus-muenchen.de
SUMMARY:Ruth und Volkmar Weede: Satipatthana  – Die Essenz der buddhistischen Praxis | Kurs W - 5
DESCRIPTION:Der einzige und direkte Weg zur Befreiung von Herz und Geist ist Satipatthana\, das beständige Aufrechterhalten des bewussten Seins. Alle in Körper und Geist auftauchenden Phänomene werden wahrgenommen\, in ihrem So-Sein erkannt und losgelassen. Durch das systematische Üben der 4 Grundlagen der Achtsamkeit begeben wir uns auf den Inneren Pfad der Transformation\, der zur vollkommenen Freiheit führt.\nAn diesen 2 Praxistagen üben und vertiefen wir die buddhistische Ruhe- und Einsichtsmeditation (Samatha-Vipassana)\, unterstützt durch Vorträge\, Praxisanleitungen\, Pranayama und Mantra-Praxis sowie leichte Yogaübungen. \n  \nKursgebühr: 60€\nOrgagebühr: 30€\nDana: freiwillige Spende für LehrerIn und das Meditationszentrum \nDie Mittagspause kann im Schweigen im Stadtzentrum verbracht werden oder im Austausch außerhalb des Zentrums.
URL:https://buddhahaus-muenchen.de/event/ruth-und-volkmar-weede-satipatthana-die-essenz-der-buddhistischen-praxis-kurs-w-5/
LOCATION:Buddha-Haus München
CATEGORIES:Wochenendseminare
ATTACH;FMTTYPE=image/png:https://buddhahaus-muenchen.de/wp-content/uploads/2022/09/MUeNCHEN-Web-Bilder-4.png
END:VEVENT
END:VCALENDAR