BEGIN:VCALENDAR
VERSION:2.0
PRODID:-//Buddha-Haus München - ECPv6.15.16.1//NONSGML v1.0//EN
CALSCALE:GREGORIAN
METHOD:PUBLISH
X-WR-CALNAME:Buddha-Haus München
X-ORIGINAL-URL:https://buddhahaus-muenchen.de
X-WR-CALDESC:Veranstaltungen für Buddha-Haus München
REFRESH-INTERVAL;VALUE=DURATION:PT1H
X-Robots-Tag:noindex
X-PUBLISHED-TTL:PT1H
BEGIN:VTIMEZONE
TZID:Europe/Berlin
BEGIN:DAYLIGHT
TZOFFSETFROM:+0100
TZOFFSETTO:+0200
TZNAME:CEST
DTSTART:20240331T010000
END:DAYLIGHT
BEGIN:STANDARD
TZOFFSETFROM:+0200
TZOFFSETTO:+0100
TZNAME:CET
DTSTART:20241027T010000
END:STANDARD
BEGIN:DAYLIGHT
TZOFFSETFROM:+0100
TZOFFSETTO:+0200
TZNAME:CEST
DTSTART:20250330T010000
END:DAYLIGHT
BEGIN:STANDARD
TZOFFSETFROM:+0200
TZOFFSETTO:+0100
TZNAME:CET
DTSTART:20251026T010000
END:STANDARD
BEGIN:DAYLIGHT
TZOFFSETFROM:+0100
TZOFFSETTO:+0200
TZNAME:CEST
DTSTART:20260329T010000
END:DAYLIGHT
BEGIN:STANDARD
TZOFFSETFROM:+0200
TZOFFSETTO:+0100
TZNAME:CET
DTSTART:20261025T010000
END:STANDARD
END:VTIMEZONE
BEGIN:VEVENT
DTSTART;TZID=Europe/Berlin:20250714T080000
DTEND;TZID=Europe/Berlin:20250714T084500
DTSTAMP:20260422T010051
CREATED:20241014T102339Z
LAST-MODIFIED:20250723T064356Z
UID:40650-1752480000-1752482700@buddhahaus-muenchen.de
SUMMARY:Online Morgenmeditation
DESCRIPTION:Wo auch immer ihr eure Morgen verbringt: wir laden euch zur Online-Morgenmeditation mit einer Hineinführung in die Stille Meditation via Zoom ein. Bitte nutze die Anmeldefunktion. Den Zugang zur Online-Meditation erhältst Du direkt im Anschluss per Email. \n\nAnleiter:\nMontag – Heinz Roiger\nDienstag – Rita Paulus\nMittwoch – Angelika Reintzsch\nDonnerstag – Romy Schlichting\nFreitag – David Schoch \nAnmeldung: Bitte nutze die Anmeldung. Den Zugang zur Online Meditation bekommst du im Anschluss direkt per Email!\nKosten: Dana: freiwillige Spende für LehrerIn und für das Meditationszentrum München
URL:https://buddhahaus-muenchen.de/event/morgenmeditation-online-5/2025-07-14/
LOCATION:Buddha-Haus München
CATEGORIES:Online
ATTACH;FMTTYPE=image/png:https://buddhahaus-muenchen.de/wp-content/uploads/2024/10/Muenchen-Web-Kursseite3.png
END:VEVENT
BEGIN:VEVENT
DTSTART;TZID=Europe/Berlin:20250714T160000
DTEND;TZID=Europe/Berlin:20250714T170000
DTSTAMP:20260422T010051
CREATED:20240805T072732Z
LAST-MODIFIED:20241014T133925Z
UID:39236-1752508800-1752512400@buddhahaus-muenchen.de
SUMMARY:Dr. Olga Bulinova: Yoga
DESCRIPTION:Yoga wirkt ganzheitlich auf den Geist und den Körper\, auf das Gemüt und den Verstand. Sie erlernen verschiedene Techniken und Möglichkeiten für die Arbeit mit dem Körper und dem Geist\, die Yoga anbietet\, und bekommen Anleitungen für das selbständige Üben zu Hause. \nDer Kurs richtet sich an alle\, die ihren Körper besser kennenlernen und ihren Geist beruhigen möchten. Der Körper wird langsam aufgebaut und die Entspannung geübt. Bei Buchung von 12 Terminen wird der Kurs von den gesetzlichen Krankenkassen bezuschusst. \n  \nKursgebühr: 13 € pro Abend (ohne Anmeldung)\n10 € pro Abend bei Anmeldung für 12 Termine = gesamt 120\,- €  (KK-Zuschuss möglich)\nDana: freiwillige Spende für LehrerIn und für das Meditationszentrum München erbeten
URL:https://buddhahaus-muenchen.de/event/dr-olga-bulinova-yoga-4/2025-07-14/
LOCATION:Buddha-Haus München
CATEGORIES:Yoga
ATTACH;FMTTYPE=image/jpeg:https://buddhahaus-muenchen.de/wp-content/uploads/2022/12/Olga-1-scaled.jpg
END:VEVENT
BEGIN:VEVENT
DTSTART;TZID=Europe/Berlin:20250714T173000
DTEND;TZID=Europe/Berlin:20250714T183000
DTSTAMP:20260422T010051
CREATED:20240805T073249Z
LAST-MODIFIED:20240805T073249Z
UID:39313-1752514200-1752517800@buddhahaus-muenchen.de
SUMMARY:Dr. Olga Bulinova: Yoga
DESCRIPTION:Yoga wirkt ganzheitlich auf den Geist und den Körper\, auf das Gemüt und den Verstand. Sie erlernen verschiedene Techniken und Möglichkeiten für die Arbeit mit dem Körper und dem Geist\, die Yoga anbietet\, und bekommen Anleitungen für das selbständige Üben zu Hause. \nDer Kurs richtet sich an alle\, die ihren Körper besser kennenlernen und ihren Geist beruhigen möchten. Der Körper wird langsam aufgebaut und die Entspannung geübt. Bei Buchung von 12 Terminen wird der Kurs von den gesetzlichen Krankenkassen bezuschusst. \n  \nKursgebühr: 13 € pro Abend (ohne Anmeldung)\n10 € pro Abend bei Anmeldung für 12 Termine = gesamt 120\,- €  (KK-Zuschuss möglich)\nDana: freiwillige Spende für LehrerIn und für das Meditationszentrum München erbeten
URL:https://buddhahaus-muenchen.de/event/dr-olga-bulinova-yoga-5/2025-07-14/
LOCATION:Buddha-Haus München
CATEGORIES:Yoga
ATTACH;FMTTYPE=image/jpeg:https://buddhahaus-muenchen.de/wp-content/uploads/2022/12/Olga-1-scaled.jpg
END:VEVENT
BEGIN:VEVENT
DTSTART;TZID=Europe/Berlin:20250714T190000
DTEND;TZID=Europe/Berlin:20250714T203000
DTSTAMP:20260422T010051
CREATED:20250515T115929Z
LAST-MODIFIED:20250515T115929Z
UID:43659-1752519600-1752525000@buddhahaus-muenchen.de
SUMMARY:David Schoch: Yoga\, Mantra\, Meditation
DESCRIPTION:Der Zugang zur Meditation gelingt oft leichter\, wenn der Körper frei von Spannungen ist. Denn Stress\, emotionale Belastungen und alltägliche Gedanken spiegeln sich nicht nur im Geist\, sondern auch im Körper wider. Erfahrungen und Reaktionen hinterlassen Spuren – sie zeigen sich in Form von Verspannungen\, Unruhe oder Blockaden. \nUm den Körper zu lösen und einen Zustand von Ausgeglichenheit zu fördern\, beginnen wir mit sanften Yogaflows. Diese leichten\, achtsamen Bewegungen helfen\, Spannungen abzubauen\, die Atmung zu vertiefen und das Nervensystem zu beruhigen. Du kommst wieder in Kontakt mit deinem Körper – und beginnst\, dich in ihm wirklich wohlzufühlen.  \nDas anschließende gemeinsame Singen von Mantras unterstützt diesen Prozess. Das Singen hilft dabei\, sich vom Denken zu lösen und öffnet den Raum für stille\, klare Empfindungen. Hingabe und Vertrauen können sich entfalten. \nAus dieser Vorbereitung heraus wird stille und geleitete Meditation praktiziert. Der Körper ist entspannt\, der Geist gesammelt\, das Herz offen – gute Voraussetzungen\, um in die Stille zu finden und die Kraft der Meditation zu erfahren. Vorträge geben Impulse und Inspiration für deine Praxis im Alltag. \n  \nKursgebühr: 14 € pro Abend\nDana für den Lehrer und das Buddha-Haus München \n 
URL:https://buddhahaus-muenchen.de/event/david-schoch-yoga-mantra-meditation/2025-07-14/
LOCATION:Buddha-Haus München
CATEGORIES:Meditationskurse unter der Woche,Offene Meditationsabende,Yoga
ATTACH;FMTTYPE=image/jpeg:https://buddhahaus-muenchen.de/wp-content/uploads/2020/11/david-schoch-2020-scaled.jpg
END:VEVENT
BEGIN:VEVENT
DTSTART;TZID=Europe/Berlin:20250714T190000
DTEND;TZID=Europe/Berlin:20250714T210000
DTSTAMP:20260422T010051
CREATED:20250703T180746Z
LAST-MODIFIED:20250901T150942Z
UID:43860-1752519600-1752526800@buddhahaus-muenchen.de
SUMMARY:Heinz Roiger: Der Weg ist die Freiheit NUR ONLINE
DESCRIPTION:Zeit für innehalten\, alltagsnahe Rückbesinnung und Schaffen von Raum für die Ausrichtung auf das Wesentliche\, sowie intensive Begegnung mit sich selbst und Austausch mit anderen Menschen. \nDie Abende laden ein:\n– zu authentischer Begegnung mit sich\n– zu Freude an unserer Lebendigkeit\n– zu Stille im einfachen da – sein\n– zu Anregungen für Vertiefung oder Neuorientierung in unserem Leben. \n9 Abende / Termine und Themen: \n1) 07.07. Der Weg des Herzens\n2) 14.07. Die Kraft der Emotionen\n3) 21.07.Vorstellungen und Erwartungen\n4) 28.07. Die Kraft unseres Geistes\n5) 04.08. Das Potential der Ruhe\n6) 01.09. Das Potential des Erkennens\n7) 08.09. Alles was wir benötigen ist da\n8) 15.09. Der Umgang mit den Gedanken\n9) 22.09. Die Fallen und Verhinderungen \nEs wird die Möglichkeit zu Einzel- und Gruppengesprächen geben. \nDu erhältst den Zugang zum Zoom Meeting in einer separaten Email nach deiner Anmeldung. \n  \nKursgebühr: Je Abend 10\,- € / alle 9 Abende 80\,- €\nDana: freiwillige Spende für LehrerIn und das Buddha-Haus München
URL:https://buddhahaus-muenchen.de/event/heinz-roiger-der-weg-ist-die-freiheit-nur-online/2025-07-14/
LOCATION:Buddha-Haus München
CATEGORIES:Online
ATTACH;FMTTYPE=image/jpeg:https://buddhahaus-muenchen.de/wp-content/uploads/2021/11/heinz_web.jpg
END:VEVENT
BEGIN:VEVENT
DTSTART;TZID=Europe/Berlin:20250715T080000
DTEND;TZID=Europe/Berlin:20250715T084500
DTSTAMP:20260422T010051
CREATED:20241014T102339Z
LAST-MODIFIED:20250723T064356Z
UID:40651-1752566400-1752569100@buddhahaus-muenchen.de
SUMMARY:Online Morgenmeditation
DESCRIPTION:Wo auch immer ihr eure Morgen verbringt: wir laden euch zur Online-Morgenmeditation mit einer Hineinführung in die Stille Meditation via Zoom ein. Bitte nutze die Anmeldefunktion. Den Zugang zur Online-Meditation erhältst Du direkt im Anschluss per Email. \n\nAnleiter:\nMontag – Heinz Roiger\nDienstag – Rita Paulus\nMittwoch – Angelika Reintzsch\nDonnerstag – Romy Schlichting\nFreitag – David Schoch \nAnmeldung: Bitte nutze die Anmeldung. Den Zugang zur Online Meditation bekommst du im Anschluss direkt per Email!\nKosten: Dana: freiwillige Spende für LehrerIn und für das Meditationszentrum München
URL:https://buddhahaus-muenchen.de/event/morgenmeditation-online-5/2025-07-15/
LOCATION:Buddha-Haus München
CATEGORIES:Online
ATTACH;FMTTYPE=image/png:https://buddhahaus-muenchen.de/wp-content/uploads/2024/10/Muenchen-Web-Kursseite3.png
END:VEVENT
BEGIN:VEVENT
DTSTART;TZID=Europe/Berlin:20250715T173000
DTEND;TZID=Europe/Berlin:20250715T183000
DTSTAMP:20260422T010051
CREATED:20241116T101258Z
LAST-MODIFIED:20241217T134644Z
UID:41855-1752600600-1752604200@buddhahaus-muenchen.de
SUMMARY:Ganzheitliches Yoga & Atem
DESCRIPTION:Hatha-Yoga (körperorientiertes Yoga) mit Asanas (Körperstellungen)\, Karanas (Bewegungsabläufen)\, Pranayama (Atemübungen)\, Tiefenentspannung und Meditation. \nYoga\, ein Weg zu Gesundheit\, Bewusstheit\, klarem Geist\, tiefer Entspannung\, Harmonie und innerem Frieden. \nWir bauen durch die Yogapraxis Stress ab auf allen Ebenen körperlich\,geistig und seelisch und befreien uns von inneren Blockaden\, lösen Stoffwechselschlacken (entgiften den Körper) und tanken Lebensenergie „Prana“ für alle Anforderungen des Lebens! \nLass dich ein auf die Erfahrung des Yoga! \n17:30 Uhr bis 18:30 Uhr\nHybrid\nKosten: 15 €\nDana: freiwillige Spende für Lehrerin und das Buddha-Haus München\n 
URL:https://buddhahaus-muenchen.de/event/ganzheitliches-yoga-atem/2025-07-15/
LOCATION:Buddha-Haus München
CATEGORIES:Online,Yoga
ATTACH;FMTTYPE=image/jpeg:https://buddhahaus-muenchen.de/wp-content/uploads/2022/09/Monika_klein-6-scaled.jpg
END:VEVENT
BEGIN:VEVENT
DTSTART;TZID=Europe/Berlin:20250715T190000
DTEND;TZID=Europe/Berlin:20250715T210000
DTSTAMP:20260422T010051
CREATED:20240730T101717Z
LAST-MODIFIED:20250827T124601Z
UID:39069-1752606000-1752613200@buddhahaus-muenchen.de
SUMMARY:Kalyāna-mitta Abend
DESCRIPTION:Der Kalyāna-mitta Abend ist als ein Abend füreinander und miteinander gedacht: Wir kultivieren unter „spirituellen Freunden“ die Praxis der Meditation und den Austausch – zur gegenseitigen Ermutigung und Inspiration. So ist hier jede*r willkommen\, der daran Interesse hat in seinem Lebensalltag Qualitäten wie Klarheit\, Mitgefühl und Gelassenheit in sich zu fördern. \nVom Buddha wird betont\, wie wichtig eine Gemeinschaft\, eine spirituelle Freundin\, ein spiritueller Freund (Kalyāna-mitta) ist. So sagt er zu Ananda\, der findet\, dass edle Freundschaft die Hälfte des spirituellen Lebens ausmache: „Sage das nicht\, Ananda\, sage das nicht: ist es ja doch das ganze spirituelle Leben\, nämlich Freundschaft mit Guten\, Gemeinschaft mit Guten\, Vertrautsein mit Guten.“ \nDas Wort „Kalyāna“ kann auf Deutsch übersetzt werden mit: liebenswert\, schön\, erhebend\, inspirierend\, ethisch. Ein Kalyāna-mitta ist also jemand\, der sich bemüht\, der sich kümmert\, der freigebig ist\, der auf das Schöne und Gute achtet\, und der sich z.B. fragt: Was ist heilsam\, was nicht? – und dafür nach Antworten in der buddhistischen Lehre sucht. An den Abenden stehen deshalb Basisthemen der Lehre des Buddha im Mittelpunkt. Sie werden über das Jahr verteilt in Themenblöcken behandelt. \nFragen zur Reflexion dienen der Wochenbegleitung im Alltag und können in der darauffolgenden Woche in den Austausch einfließen. \nDie Gruppenabende werden geleitet von: Romy Schlichting und Bettina Schaschke  \nAblauf des Abends: Achtsame Körperübungen – Hineinführung in die Meditation – Input und Austausch über Buddhas Lehre  – Liebende Güte- oder Brahmavihāra-Meditation \nTeilnahme: Schnuppern ist jederzeit möglich\, einfach kommen\nKosten: Auf Spendenbasis (im Rahmen Deiner Möglichkeiten). Deine Spende für das Buddha-Haus München ist freiwillig. „Dana“ (Großzügigkeit\, Gebefreude) ist im Buddhismus Teil der spirituellen Praxis. \nThema_Kalyana-mitta-Abende_Herbst 2025_corr(2)
URL:https://buddhahaus-muenchen.de/event/kalyana-mitta-abend-2/2025-07-15/
LOCATION:Buddha-Haus München
CATEGORIES:Meditationskurse unter der Woche,Offene Meditationsabende
ATTACH;FMTTYPE=image/jpeg:https://buddhahaus-muenchen.de/wp-content/uploads/2023/01/Kalyana1-e1674116616663.jpg
END:VEVENT
BEGIN:VEVENT
DTSTART;TZID=Europe/Berlin:20250716T080000
DTEND;TZID=Europe/Berlin:20250716T084500
DTSTAMP:20260422T010051
CREATED:20241014T102339Z
LAST-MODIFIED:20250723T064356Z
UID:40652-1752652800-1752655500@buddhahaus-muenchen.de
SUMMARY:Online Morgenmeditation
DESCRIPTION:Wo auch immer ihr eure Morgen verbringt: wir laden euch zur Online-Morgenmeditation mit einer Hineinführung in die Stille Meditation via Zoom ein. Bitte nutze die Anmeldefunktion. Den Zugang zur Online-Meditation erhältst Du direkt im Anschluss per Email. \n\nAnleiter:\nMontag – Heinz Roiger\nDienstag – Rita Paulus\nMittwoch – Angelika Reintzsch\nDonnerstag – Romy Schlichting\nFreitag – David Schoch \nAnmeldung: Bitte nutze die Anmeldung. Den Zugang zur Online Meditation bekommst du im Anschluss direkt per Email!\nKosten: Dana: freiwillige Spende für LehrerIn und für das Meditationszentrum München
URL:https://buddhahaus-muenchen.de/event/morgenmeditation-online-5/2025-07-16/
LOCATION:Buddha-Haus München
CATEGORIES:Online
ATTACH;FMTTYPE=image/png:https://buddhahaus-muenchen.de/wp-content/uploads/2024/10/Muenchen-Web-Kursseite3.png
END:VEVENT
BEGIN:VEVENT
DTSTART;TZID=Europe/Berlin:20250716T100000
DTEND;TZID=Europe/Berlin:20250716T130000
DTSTAMP:20260422T010051
CREATED:20240730T103322Z
LAST-MODIFIED:20240730T105318Z
UID:39118-1752660000-1752670800@buddhahaus-muenchen.de
SUMMARY:Offene Meditation am Mittwoch
DESCRIPTION:Gemeinsam in die stille Meditation. Einfach sein – ohne Anleitung. \nAchtung: Nicht an Feiertagen! \nAnmeldung: Nicht nötig\nKosten: Dana: freiwillige Spende für LehrerIn und für das Meditationszentrum München
URL:https://buddhahaus-muenchen.de/event/offene-meditation-am-mittwoch-5/2025-07-16/
LOCATION:Buddha-Haus München
CATEGORIES:Stille Meditation
ATTACH;FMTTYPE=image/jpeg:https://buddhahaus-muenchen.de/wp-content/uploads/2020/06/d75e6a59-f2ea-416b-afd2-095608f6f213.jpg
END:VEVENT
BEGIN:VEVENT
DTSTART;TZID=Europe/Berlin:20250716T190000
DTEND;TZID=Europe/Berlin:20250716T210000
DTSTAMP:20260422T010051
CREATED:20241003T135020Z
LAST-MODIFIED:20250513T200110Z
UID:40333-1752692400-1752699600@buddhahaus-muenchen.de
SUMMARY:Angelika Reintzsch: Frieden finden - im Weg des Herzens | Kurs K-4
DESCRIPTION:Frieden finden – im Weg des Herzens. Hast du bereits zu dir selbst gefunden? Kannst du inneren Frieden auch bewahren? Kannst du in den Herausforderungen des Lebens\, bei dir selbst bleiben – im Weg des Herzens? Kannst du Frieden schließen mit dir selbst\, mit all deinen Unzulänglichkeiten\, Ablehnungen\, Erwartungen\, Wünschen und Ängsten? Kannst du deine Fähigkeiten anerkennen und wertschätzen\, um im Licht der Wahrhaftigkeit auch andere so zu lieben\, wie sie sind? \nNur so werden Anerkennung und Wertschätzung sowie Verständnis und Mitgefühl im Herzen anwachsen\, in uns selbst\, für uns selbst und das Leben. Unser stilles Sein im Herzen wird uns mehr und mehr in den Frieden\, die Liebe und Weisheit des Herzens führen. So werden wir ein Licht für uns selbst und andere sein können – im Weg des Herzens. \nWir wollen in diesem Kurs die meditativen inneren und äußeren Wege praktizieren und besprechen\, die uns verdeutlichen werden\, dass wahrer Frieden im eigenen Herzen gefunden werden kann. \n\nGeleitete und stille Meditationen – leichte Körper- und Atemübungen – Mantrachanting\nMeditation und Lehre / Praxis im Alltag\nAustausch in der Sangha in edler Freundschaft: Fragen und Antworten aus dem Herzen\n\nKursgebühr: 90 € für 10 Abende\nDana für die Lehrerin und das Buddha-Haus München
URL:https://buddhahaus-muenchen.de/event/angelika-reintzsch-frieden-finden-im-weg-des-herzens-kurs-k-4/2025-07-16/
LOCATION:Buddha-Haus München
CATEGORIES:Meditationskurse unter der Woche
ATTACH;FMTTYPE=image/jpeg:https://buddhahaus-muenchen.de/wp-content/uploads/2020/02/Angelika7742FotoBettina-Lindenberg_-e1664128574188.jpg
END:VEVENT
BEGIN:VEVENT
DTSTART;TZID=Europe/Berlin:20250717T080000
DTEND;TZID=Europe/Berlin:20250717T084500
DTSTAMP:20260422T010051
CREATED:20241014T102339Z
LAST-MODIFIED:20250723T064357Z
UID:40653-1752739200-1752741900@buddhahaus-muenchen.de
SUMMARY:Online Morgenmeditation
DESCRIPTION:Wo auch immer ihr eure Morgen verbringt: wir laden euch zur Online-Morgenmeditation mit einer Hineinführung in die Stille Meditation via Zoom ein. Bitte nutze die Anmeldefunktion. Den Zugang zur Online-Meditation erhältst Du direkt im Anschluss per Email. \n\nAnleiter:\nMontag – Heinz Roiger\nDienstag – Rita Paulus\nMittwoch – Angelika Reintzsch\nDonnerstag – Romy Schlichting\nFreitag – David Schoch \nAnmeldung: Bitte nutze die Anmeldung. Den Zugang zur Online Meditation bekommst du im Anschluss direkt per Email!\nKosten: Dana: freiwillige Spende für LehrerIn und für das Meditationszentrum München
URL:https://buddhahaus-muenchen.de/event/morgenmeditation-online-5/2025-07-17/
LOCATION:Buddha-Haus München
CATEGORIES:Online
ATTACH;FMTTYPE=image/png:https://buddhahaus-muenchen.de/wp-content/uploads/2024/10/Muenchen-Web-Kursseite3.png
END:VEVENT
BEGIN:VEVENT
DTSTART;TZID=Europe/Berlin:20250717T190000
DTEND;TZID=Europe/Berlin:20250717T210000
DTSTAMP:20260422T010051
CREATED:20250417T131306Z
LAST-MODIFIED:20250515T130700Z
UID:43462-1752778800-1752786000@buddhahaus-muenchen.de
SUMMARY:Erhard Dengl: Die Harmonie der Stille
DESCRIPTION:Verklingen Lärm\, Geräusche und Töne\, bleibt die Stille. Sie ist immer da\, aus ihr entspringt das Sein.\nWenn man sich der Stille überlässt\, kann man die ihr innewohnende Harmonie und einen tiefen Frieden fühlen\, mit anderen Worten: diese Harmonie sein.\nDas klingt leichter als es ist: Sich zu überlassen heißt loszulassen.\nIn diesem Kurs wollen wir versuchen mitten in der Stadt zusammen der Stille Raum zu geben. Durch Meditationspraxis\, Mantra und Dhamma. Buddha hat uns durch seine tiefe Einsicht in die Natur (des Menschen) eine Lehre weitergegeben\, die uns hilft die Hindernisse auf dem Weg zum Loslassen zu sehen\, zu erkennen und sie aufzulösen.\n\nKursgebühr: keine\nDana freie Spende für den Lehrer und das Meditationszentrum München
URL:https://buddhahaus-muenchen.de/event/erhard-dengl-die-harmonie-der-stille/2025-07-17/
LOCATION:Buddha-Haus München
CATEGORIES:Meditationskurse unter der Woche,Offene Meditationsabende
ATTACH;FMTTYPE=image/jpeg:https://buddhahaus-muenchen.de/wp-content/uploads/2024/09/WhatsApp-Image-2024-09-03-at-16.39.31.jpeg
END:VEVENT
BEGIN:VEVENT
DTSTART;TZID=Europe/Berlin:20250718T080000
DTEND;TZID=Europe/Berlin:20250718T084500
DTSTAMP:20260422T010051
CREATED:20241014T102339Z
LAST-MODIFIED:20250723T064357Z
UID:40654-1752825600-1752828300@buddhahaus-muenchen.de
SUMMARY:Online Morgenmeditation
DESCRIPTION:Wo auch immer ihr eure Morgen verbringt: wir laden euch zur Online-Morgenmeditation mit einer Hineinführung in die Stille Meditation via Zoom ein. Bitte nutze die Anmeldefunktion. Den Zugang zur Online-Meditation erhältst Du direkt im Anschluss per Email. \n\nAnleiter:\nMontag – Heinz Roiger\nDienstag – Rita Paulus\nMittwoch – Angelika Reintzsch\nDonnerstag – Romy Schlichting\nFreitag – David Schoch \nAnmeldung: Bitte nutze die Anmeldung. Den Zugang zur Online Meditation bekommst du im Anschluss direkt per Email!\nKosten: Dana: freiwillige Spende für LehrerIn und für das Meditationszentrum München
URL:https://buddhahaus-muenchen.de/event/morgenmeditation-online-5/2025-07-18/
LOCATION:Buddha-Haus München
CATEGORIES:Online
ATTACH;FMTTYPE=image/png:https://buddhahaus-muenchen.de/wp-content/uploads/2024/10/Muenchen-Web-Kursseite3.png
END:VEVENT
BEGIN:VEVENT
DTSTART;TZID=Europe/Berlin:20250718T150000
DTEND;TZID=Europe/Berlin:20250718T180000
DTSTAMP:20260422T010051
CREATED:20241111T125304Z
LAST-MODIFIED:20250304T073959Z
UID:41650-1752850800-1752861600@buddhahaus-muenchen.de
SUMMARY:Romy Schlichting: Jahreskurs - Mit dem Fluss des Lebens: Heilsame Praktiken für Veränderung und Akzeptanz – Kurs K-8
DESCRIPTION:Als Menschen nehmen wir alle teil am ewigen Tanz von Vergnügen und Schmerz\, Gewinn und Verlust\, Lob und Tadel\, Geburt und Tod. \nDas\, was ist\, können wir nur zu einem kleinen Teil beeinflussen. Wie wir damit umgehen\, das liegt in unserer Hand. \nBuddhas Lehrreden geben uns Orientierung und Anleitung zu einer Geistesentwicklung\, die uns geschickt und heilsam mit dem Auf und Ab des Lebens umgehen lässt –  zum Wohlergehen von uns selbst und anderen. \nIn diesem Kurs geht es darum\, auf der Basis von Buddhas Lehre inmitten aller Veränderungen\, die das Leben mit sich bringt\, Freude\, Vertrauen\, Wohlwollen und andere positive Geisteshaltungen zu entwickeln und zu stärken. \nWir lernen eine weise Sicht auf das Leben kennen\, die uns darin unterstützt\, uns aus Verwicklungen zu lösen und in einen harmonischen Tanz mit dem\, was ist\, zu kommen. \nDas Kursformat unterstützt ein „Dranbleiben“ und eine Ausrichtung auf das Wesentliche im Auf und Ab des Lebens. \nAußerdem bietet der Jahreskurs die Chance\, über einen langen Zeitraum persönlich von einer erfahrenen Lehrerin begleitet zu werden\, eine kontinuierliche buddhistische Praxis im Alltag aufzubauen und unterstützende Weggemeinschaften zu bilden. \nWir treffen uns in monatlichen Abständen über den Zeitraum eines Jahres. \nFür die Zeit zwischen den monatlichen Treffen erhältst du Unterlagen und Audios\, die dich in deiner Alltagspraxis unterstützen und – wenn du möchtest – einen Austauschpartner („buddy“) aus der Gruppe. \nTermine: \nFreitags jeweils von 15 – 18 Uhr an folgenden Daten \n28.2./7.3./4.4./23.5./20.6./18.7./26.9./17.10./14.11./12.12.2025 \nDie Teilnehmerzahl ist begrenzt. \nKursgebühr: 240 Euro incl. Audioanleitung und Kursmaterialien (Ermäßigung nach Absprache) \nOrgagebühr Buddha-Haus München: 60 Euro
URL:https://buddhahaus-muenchen.de/event/romy-schlichting-jahreskurs-mit-dem-fluss-des-lebens-heilsame-praktiken-fuer-veraenderung-und-akzeptanz-kurs-k-8/2025-07-18/
LOCATION:Buddha-Haus München
CATEGORIES:Meditationskurse unter der Woche
ATTACH;FMTTYPE=image/jpeg:https://buddhahaus-muenchen.de/wp-content/uploads/2023/01/romy_neu_hoch.jpg
END:VEVENT
BEGIN:VEVENT
DTSTART;TZID=Europe/Berlin:20250718T190000
DTEND;TZID=Europe/Berlin:20250718T210000
DTSTAMP:20260422T010051
CREATED:20240730T101201Z
LAST-MODIFIED:20251202T064306Z
UID:39017-1752865200-1752872400@buddhahaus-muenchen.de
SUMMARY:Ayya Khema Abend: Freitagsmeditation mit Norbert / Alexander
DESCRIPTION:Gemeinsames Praktizieren von Anfängern und Fortgeschrittenen mit angeleiteten und stillen Einsichts- und Mitgefühlsmeditationen (Vipassana\, Metta)\,  Gehmeditation\, Videovorträgen von Ayya Khema sowie die Möglichkeit\, Fragen zur Lehre und zur eigenen Meditationspraxis zu stellen. \nBesetzung: \n05.12.25 Alexander\n12.12.25 Linda\n19.12.25 Norbert \nDer Abend entfällt wenn ein öffentlicher Vortrag zum Wochenend-Kurs stattfindet. \nNorbert Wildgruber und Alexander Weicker leiten die Abende an. \n  \nKosten: Dana: freiwillige Spende für LehrerIn und für das Meditationszentrum München (Empfehlung 10-20 €)\nAnmeldung: Eine Anmeldung für diesen Abend ist nicht nötig
URL:https://buddhahaus-muenchen.de/event/ayya-khema-abend-freitagsmeditation-mit-norbert-alexander-3/2025-07-18/
LOCATION:Buddha-Haus München
CATEGORIES:Offene Meditationsabende
ATTACH;FMTTYPE=image/png:https://buddhahaus-muenchen.de/wp-content/uploads/2021/11/2.png
END:VEVENT
BEGIN:VEVENT
DTSTART;TZID=Europe/Berlin:20250719T093000
DTEND;TZID=Europe/Berlin:20250719T120000
DTSTAMP:20260422T010051
CREATED:20241003T104658Z
LAST-MODIFIED:20250709T062134Z
UID:40287-1752917400-1752926400@buddhahaus-muenchen.de
SUMMARY:Monika Grett: „Zeit für dich Selbst“ Yoga und Meditation
DESCRIPTION:„Zeit für dich SELBST“ Workshops mit Yoga und Meditation Asana – Karana – Pranayama – Mantra- Mudra- Entspannung- Meditation \n19.07.2025 Sonntag \nYIN Yoga\, langes Verweilen in den Asanas\, „Einfach Sein“ \nKursgebühr: 35 € (30\,00 € + 5\,00 € Orgagebühr)\nDana für die Lehrerin und das Buddha-Haus München
URL:https://buddhahaus-muenchen.de/event/monika-grett-zeit-fuer-dich-selbst-yoga-und-meditation-10/
LOCATION:Buddha-Haus München
CATEGORIES:Online,Yoga
ATTACH;FMTTYPE=image/jpeg:https://buddhahaus-muenchen.de/wp-content/uploads/2022/09/Monika_klein-6-scaled.jpg
END:VEVENT
END:VCALENDAR