BEGIN:VCALENDAR
VERSION:2.0
PRODID:-//Buddha-Haus München - ECPv6.15.16.1//NONSGML v1.0//EN
CALSCALE:GREGORIAN
METHOD:PUBLISH
X-WR-CALNAME:Buddha-Haus München
X-ORIGINAL-URL:https://buddhahaus-muenchen.de
X-WR-CALDESC:Veranstaltungen für Buddha-Haus München
REFRESH-INTERVAL;VALUE=DURATION:PT1H
X-Robots-Tag:noindex
X-PUBLISHED-TTL:PT1H
BEGIN:VTIMEZONE
TZID:Europe/Berlin
BEGIN:DAYLIGHT
TZOFFSETFROM:+0100
TZOFFSETTO:+0200
TZNAME:CEST
DTSTART:20240331T010000
END:DAYLIGHT
BEGIN:STANDARD
TZOFFSETFROM:+0200
TZOFFSETTO:+0100
TZNAME:CET
DTSTART:20241027T010000
END:STANDARD
BEGIN:DAYLIGHT
TZOFFSETFROM:+0100
TZOFFSETTO:+0200
TZNAME:CEST
DTSTART:20250330T010000
END:DAYLIGHT
BEGIN:STANDARD
TZOFFSETFROM:+0200
TZOFFSETTO:+0100
TZNAME:CET
DTSTART:20251026T010000
END:STANDARD
BEGIN:DAYLIGHT
TZOFFSETFROM:+0100
TZOFFSETTO:+0200
TZNAME:CEST
DTSTART:20260329T010000
END:DAYLIGHT
BEGIN:STANDARD
TZOFFSETFROM:+0200
TZOFFSETTO:+0100
TZNAME:CET
DTSTART:20261025T010000
END:STANDARD
END:VTIMEZONE
BEGIN:VEVENT
DTSTART;TZID=Europe/Berlin:20250922T080000
DTEND;TZID=Europe/Berlin:20250922T084500
DTSTAMP:20260421T184230
CREATED:20241014T103244Z
LAST-MODIFIED:20251108T193844Z
UID:40830-1758528000-1758530700@buddhahaus-muenchen.de
SUMMARY:Online Morgenmeditation
DESCRIPTION:Wo auch immer ihr eure Morgen verbringt: wir laden euch zur Online-Morgenmeditation mit einer Hineinführung in die Stille Meditation via Zoom ein. Bitte nutze die Anmeldefunktion. Den Zugang zur Online-Meditation erhältst Du direkt im Anschluss per Email. \n\nAnleiter:\nMontag – Heinz Roiger\nDienstag – Rita Paulus\nMittwoch – Romy Schlichting\nDonnerstag – Romy Schlichting\nFreitag – Romy Schlichting \nAnmeldung: Bitte nutze die Anmeldung. Den Zugang zur Online Meditation bekommst du im Anschluss direkt per Email!\nKosten: Dana: freiwillige Spende für LehrerIn und für das Meditationszentrum München
URL:https://buddhahaus-muenchen.de/event/online-morgenmeditation/2025-09-22/
LOCATION:Buddha-Haus München
CATEGORIES:Online
ATTACH;FMTTYPE=image/png:https://buddhahaus-muenchen.de/wp-content/uploads/2024/10/Muenchen-Web-Kursseite3.png
END:VEVENT
BEGIN:VEVENT
DTSTART;TZID=Europe/Berlin:20250922T160000
DTEND;TZID=Europe/Berlin:20250922T170000
DTSTAMP:20260421T184230
CREATED:20240805T072732Z
LAST-MODIFIED:20241014T133927Z
UID:39240-1758556800-1758560400@buddhahaus-muenchen.de
SUMMARY:Dr. Olga Bulinova: Yoga
DESCRIPTION:Yoga wirkt ganzheitlich auf den Geist und den Körper\, auf das Gemüt und den Verstand. Sie erlernen verschiedene Techniken und Möglichkeiten für die Arbeit mit dem Körper und dem Geist\, die Yoga anbietet\, und bekommen Anleitungen für das selbständige Üben zu Hause. \nDer Kurs richtet sich an alle\, die ihren Körper besser kennenlernen und ihren Geist beruhigen möchten. Der Körper wird langsam aufgebaut und die Entspannung geübt. Bei Buchung von 12 Terminen wird der Kurs von den gesetzlichen Krankenkassen bezuschusst. \n  \nKursgebühr: 13 € pro Abend (ohne Anmeldung)\n10 € pro Abend bei Anmeldung für 12 Termine = gesamt 120\,- €  (KK-Zuschuss möglich)\nDana: freiwillige Spende für LehrerIn und für das Meditationszentrum München erbeten
URL:https://buddhahaus-muenchen.de/event/dr-olga-bulinova-yoga-4/2025-09-22/
LOCATION:Buddha-Haus München
CATEGORIES:Yoga
ATTACH;FMTTYPE=image/jpeg:https://buddhahaus-muenchen.de/wp-content/uploads/2022/12/Olga-1-scaled.jpg
END:VEVENT
BEGIN:VEVENT
DTSTART;TZID=Europe/Berlin:20250922T173000
DTEND;TZID=Europe/Berlin:20250922T183000
DTSTAMP:20260421T184230
CREATED:20240805T073249Z
LAST-MODIFIED:20240805T073249Z
UID:39317-1758562200-1758565800@buddhahaus-muenchen.de
SUMMARY:Dr. Olga Bulinova: Yoga
DESCRIPTION:Yoga wirkt ganzheitlich auf den Geist und den Körper\, auf das Gemüt und den Verstand. Sie erlernen verschiedene Techniken und Möglichkeiten für die Arbeit mit dem Körper und dem Geist\, die Yoga anbietet\, und bekommen Anleitungen für das selbständige Üben zu Hause. \nDer Kurs richtet sich an alle\, die ihren Körper besser kennenlernen und ihren Geist beruhigen möchten. Der Körper wird langsam aufgebaut und die Entspannung geübt. Bei Buchung von 12 Terminen wird der Kurs von den gesetzlichen Krankenkassen bezuschusst. \n  \nKursgebühr: 13 € pro Abend (ohne Anmeldung)\n10 € pro Abend bei Anmeldung für 12 Termine = gesamt 120\,- €  (KK-Zuschuss möglich)\nDana: freiwillige Spende für LehrerIn und für das Meditationszentrum München erbeten
URL:https://buddhahaus-muenchen.de/event/dr-olga-bulinova-yoga-5/2025-09-22/
LOCATION:Buddha-Haus München
CATEGORIES:Yoga
ATTACH;FMTTYPE=image/jpeg:https://buddhahaus-muenchen.de/wp-content/uploads/2022/12/Olga-1-scaled.jpg
END:VEVENT
BEGIN:VEVENT
DTSTART;TZID=Europe/Berlin:20250922T190000
DTEND;TZID=Europe/Berlin:20250922T210000
DTSTAMP:20260421T184230
CREATED:20241128T071945Z
LAST-MODIFIED:20250902T185601Z
UID:41935-1758567600-1758574800@buddhahaus-muenchen.de
SUMMARY:Roland Nyanabodhi: 8 Quellen für ein Leben ohne Angst | Kurs K-9
DESCRIPTION:In Zeiten von großen Unsicherheiten und Veränderungen sind Kräfte\, die uns erden und Vertrauen geben\, besonders wichtig zu entfalten. Wir werden so nicht nur unseren Alltag besser meistern können\, sondern auch einen wichtigen Beitrag für die kollektive Entwicklung der Menschen leisten. Themen wie Karma\, Vergänglichkeit und Tod\, Umgang mit schwierigen Emotionen\, Verbindung mit der Natur\, Kraftquellen\, Vertrauen und Weisheit uvm. werden uns auf unserem Weg begleiten. \nKursgebühr: 80 € für 8 Abende\nDana für den Lehrer und das Buddha-Haus München
URL:https://buddhahaus-muenchen.de/event/roland-nyanabodhi-8-quellen-fuer-ein-leben-ohne-angst-kurs-k-9/2025-09-22/
LOCATION:Buddha-Haus München
CATEGORIES:Meditationskurse unter der Woche
ATTACH;FMTTYPE=image/jpeg:https://buddhahaus-muenchen.de/wp-content/uploads/2021/11/roland1_web.jpg
END:VEVENT
BEGIN:VEVENT
DTSTART;TZID=Europe/Berlin:20250922T190000
DTEND;TZID=Europe/Berlin:20250922T210000
DTSTAMP:20260421T184230
CREATED:20250703T180746Z
LAST-MODIFIED:20250901T150945Z
UID:43867-1758567600-1758574800@buddhahaus-muenchen.de
SUMMARY:Heinz Roiger: Der Weg ist die Freiheit NUR ONLINE
DESCRIPTION:Zeit für innehalten\, alltagsnahe Rückbesinnung und Schaffen von Raum für die Ausrichtung auf das Wesentliche\, sowie intensive Begegnung mit sich selbst und Austausch mit anderen Menschen. \nDie Abende laden ein:\n– zu authentischer Begegnung mit sich\n– zu Freude an unserer Lebendigkeit\n– zu Stille im einfachen da – sein\n– zu Anregungen für Vertiefung oder Neuorientierung in unserem Leben. \n9 Abende / Termine und Themen: \n1) 07.07. Der Weg des Herzens\n2) 14.07. Die Kraft der Emotionen\n3) 21.07.Vorstellungen und Erwartungen\n4) 28.07. Die Kraft unseres Geistes\n5) 04.08. Das Potential der Ruhe\n6) 01.09. Das Potential des Erkennens\n7) 08.09. Alles was wir benötigen ist da\n8) 15.09. Der Umgang mit den Gedanken\n9) 22.09. Die Fallen und Verhinderungen \nEs wird die Möglichkeit zu Einzel- und Gruppengesprächen geben. \nDu erhältst den Zugang zum Zoom Meeting in einer separaten Email nach deiner Anmeldung. \n  \nKursgebühr: Je Abend 10\,- € / alle 9 Abende 80\,- €\nDana: freiwillige Spende für LehrerIn und das Buddha-Haus München
URL:https://buddhahaus-muenchen.de/event/heinz-roiger-der-weg-ist-die-freiheit-nur-online/2025-09-22/
LOCATION:Buddha-Haus München
CATEGORIES:Online
ATTACH;FMTTYPE=image/jpeg:https://buddhahaus-muenchen.de/wp-content/uploads/2021/11/heinz_web.jpg
END:VEVENT
BEGIN:VEVENT
DTSTART;TZID=Europe/Berlin:20250923T080000
DTEND;TZID=Europe/Berlin:20250923T084500
DTSTAMP:20260421T184230
CREATED:20241014T103244Z
LAST-MODIFIED:20251108T193845Z
UID:40831-1758614400-1758617100@buddhahaus-muenchen.de
SUMMARY:Online Morgenmeditation
DESCRIPTION:Wo auch immer ihr eure Morgen verbringt: wir laden euch zur Online-Morgenmeditation mit einer Hineinführung in die Stille Meditation via Zoom ein. Bitte nutze die Anmeldefunktion. Den Zugang zur Online-Meditation erhältst Du direkt im Anschluss per Email. \n\nAnleiter:\nMontag – Heinz Roiger\nDienstag – Rita Paulus\nMittwoch – Romy Schlichting\nDonnerstag – Romy Schlichting\nFreitag – Romy Schlichting \nAnmeldung: Bitte nutze die Anmeldung. Den Zugang zur Online Meditation bekommst du im Anschluss direkt per Email!\nKosten: Dana: freiwillige Spende für LehrerIn und für das Meditationszentrum München
URL:https://buddhahaus-muenchen.de/event/online-morgenmeditation/2025-09-23/
LOCATION:Buddha-Haus München
CATEGORIES:Online
ATTACH;FMTTYPE=image/png:https://buddhahaus-muenchen.de/wp-content/uploads/2024/10/Muenchen-Web-Kursseite3.png
END:VEVENT
BEGIN:VEVENT
DTSTART;TZID=Europe/Berlin:20250923T173000
DTEND;TZID=Europe/Berlin:20250923T183000
DTSTAMP:20260421T184230
CREATED:20241116T101258Z
LAST-MODIFIED:20241217T134650Z
UID:41865-1758648600-1758652200@buddhahaus-muenchen.de
SUMMARY:Ganzheitliches Yoga & Atem
DESCRIPTION:Hatha-Yoga (körperorientiertes Yoga) mit Asanas (Körperstellungen)\, Karanas (Bewegungsabläufen)\, Pranayama (Atemübungen)\, Tiefenentspannung und Meditation. \nYoga\, ein Weg zu Gesundheit\, Bewusstheit\, klarem Geist\, tiefer Entspannung\, Harmonie und innerem Frieden. \nWir bauen durch die Yogapraxis Stress ab auf allen Ebenen körperlich\,geistig und seelisch und befreien uns von inneren Blockaden\, lösen Stoffwechselschlacken (entgiften den Körper) und tanken Lebensenergie „Prana“ für alle Anforderungen des Lebens! \nLass dich ein auf die Erfahrung des Yoga! \n17:30 Uhr bis 18:30 Uhr\nHybrid\nKosten: 15 €\nDana: freiwillige Spende für Lehrerin und das Buddha-Haus München\n 
URL:https://buddhahaus-muenchen.de/event/ganzheitliches-yoga-atem/2025-09-23/
LOCATION:Buddha-Haus München
CATEGORIES:Online,Yoga
ATTACH;FMTTYPE=image/jpeg:https://buddhahaus-muenchen.de/wp-content/uploads/2022/09/Monika_klein-6-scaled.jpg
END:VEVENT
BEGIN:VEVENT
DTSTART;TZID=Europe/Berlin:20250923T190000
DTEND;TZID=Europe/Berlin:20250923T210000
DTSTAMP:20260421T184230
CREATED:20240730T101717Z
LAST-MODIFIED:20250827T124603Z
UID:39075-1758654000-1758661200@buddhahaus-muenchen.de
SUMMARY:Kalyāna-mitta Abend
DESCRIPTION:Der Kalyāna-mitta Abend ist als ein Abend füreinander und miteinander gedacht: Wir kultivieren unter „spirituellen Freunden“ die Praxis der Meditation und den Austausch – zur gegenseitigen Ermutigung und Inspiration. So ist hier jede*r willkommen\, der daran Interesse hat in seinem Lebensalltag Qualitäten wie Klarheit\, Mitgefühl und Gelassenheit in sich zu fördern. \nVom Buddha wird betont\, wie wichtig eine Gemeinschaft\, eine spirituelle Freundin\, ein spiritueller Freund (Kalyāna-mitta) ist. So sagt er zu Ananda\, der findet\, dass edle Freundschaft die Hälfte des spirituellen Lebens ausmache: „Sage das nicht\, Ananda\, sage das nicht: ist es ja doch das ganze spirituelle Leben\, nämlich Freundschaft mit Guten\, Gemeinschaft mit Guten\, Vertrautsein mit Guten.“ \nDas Wort „Kalyāna“ kann auf Deutsch übersetzt werden mit: liebenswert\, schön\, erhebend\, inspirierend\, ethisch. Ein Kalyāna-mitta ist also jemand\, der sich bemüht\, der sich kümmert\, der freigebig ist\, der auf das Schöne und Gute achtet\, und der sich z.B. fragt: Was ist heilsam\, was nicht? – und dafür nach Antworten in der buddhistischen Lehre sucht. An den Abenden stehen deshalb Basisthemen der Lehre des Buddha im Mittelpunkt. Sie werden über das Jahr verteilt in Themenblöcken behandelt. \nFragen zur Reflexion dienen der Wochenbegleitung im Alltag und können in der darauffolgenden Woche in den Austausch einfließen. \nDie Gruppenabende werden geleitet von: Romy Schlichting und Bettina Schaschke  \nAblauf des Abends: Achtsame Körperübungen – Hineinführung in die Meditation – Input und Austausch über Buddhas Lehre  – Liebende Güte- oder Brahmavihāra-Meditation \nTeilnahme: Schnuppern ist jederzeit möglich\, einfach kommen\nKosten: Auf Spendenbasis (im Rahmen Deiner Möglichkeiten). Deine Spende für das Buddha-Haus München ist freiwillig. „Dana“ (Großzügigkeit\, Gebefreude) ist im Buddhismus Teil der spirituellen Praxis. \nThema_Kalyana-mitta-Abende_Herbst 2025_corr(2)
URL:https://buddhahaus-muenchen.de/event/kalyana-mitta-abend-2/2025-09-23/
LOCATION:Buddha-Haus München
CATEGORIES:Meditationskurse unter der Woche,Offene Meditationsabende
ATTACH;FMTTYPE=image/jpeg:https://buddhahaus-muenchen.de/wp-content/uploads/2023/01/Kalyana1-e1674116616663.jpg
END:VEVENT
BEGIN:VEVENT
DTSTART;TZID=Europe/Berlin:20250924T080000
DTEND;TZID=Europe/Berlin:20250924T084500
DTSTAMP:20260421T184230
CREATED:20241014T103244Z
LAST-MODIFIED:20251108T193845Z
UID:45370-1758700800-1758703500@buddhahaus-muenchen.de
SUMMARY:Online Morgenmeditation
DESCRIPTION:Wo auch immer ihr eure Morgen verbringt: wir laden euch zur Online-Morgenmeditation mit einer Hineinführung in die Stille Meditation via Zoom ein. Bitte nutze die Anmeldefunktion. Den Zugang zur Online-Meditation erhältst Du direkt im Anschluss per Email. \n\nAnleiter:\nMontag – Heinz Roiger\nDienstag – Rita Paulus\nMittwoch – Romy Schlichting\nDonnerstag – Romy Schlichting\nFreitag – Romy Schlichting \nAnmeldung: Bitte nutze die Anmeldung. Den Zugang zur Online Meditation bekommst du im Anschluss direkt per Email!\nKosten: Dana: freiwillige Spende für LehrerIn und für das Meditationszentrum München
URL:https://buddhahaus-muenchen.de/event/online-morgenmeditation/2025-09-24/
LOCATION:Buddha-Haus München
CATEGORIES:Online
ATTACH;FMTTYPE=image/png:https://buddhahaus-muenchen.de/wp-content/uploads/2024/10/Muenchen-Web-Kursseite3.png
END:VEVENT
BEGIN:VEVENT
DTSTART;TZID=Europe/Berlin:20250924T100000
DTEND;TZID=Europe/Berlin:20250924T130000
DTSTAMP:20260421T184230
CREATED:20240730T103322Z
LAST-MODIFIED:20240730T105323Z
UID:39128-1758708000-1758718800@buddhahaus-muenchen.de
SUMMARY:Offene Meditation am Mittwoch
DESCRIPTION:Gemeinsam in die stille Meditation. Einfach sein – ohne Anleitung. \nAchtung: Nicht an Feiertagen! \nAnmeldung: Nicht nötig\nKosten: Dana: freiwillige Spende für LehrerIn und für das Meditationszentrum München
URL:https://buddhahaus-muenchen.de/event/offene-meditation-am-mittwoch-5/2025-09-24/
LOCATION:Buddha-Haus München
CATEGORIES:Stille Meditation
ATTACH;FMTTYPE=image/jpeg:https://buddhahaus-muenchen.de/wp-content/uploads/2020/06/d75e6a59-f2ea-416b-afd2-095608f6f213.jpg
END:VEVENT
BEGIN:VEVENT
DTSTART;TZID=Europe/Berlin:20250924T190000
DTEND;TZID=Europe/Berlin:20250924T210000
DTSTAMP:20260421T184230
CREATED:20240929T164350Z
LAST-MODIFIED:20251008T121724Z
UID:40180-1758740400-1758747600@buddhahaus-muenchen.de
SUMMARY:Charlie Pils: Vipassana - Einsicht in die Natur des Lebens | Kurs K-5
DESCRIPTION:Vipassanameditation „Klares Sehen“ zielt auf ein durchdringendes Erkennen der Bedeutung der 3 universellen Wesensmerkmale des Lebens für die Verwirklichung inneren Friedens. Klares Sehen braucht eine meditative Geistesstille\, losgelöst vom Zerrspiegel der Geistes- und Herzenstrübungen. Eine transzendentale Sicht braucht eine Loslösung vom Filter deiner religiösen Glaubensvorstellungen\, deiner persönlichen Philosophie und Psychologie. \nVipassanameditation zielt auf die Verwirklichung von Liebe\, Lebensfreude\, Empathie und heiterer Gelassenheit im Einklang mit der Realität der Vergänglichkeit und den Unwägbarkeiten des Lebens. \nStille und geleitete Meditationen – Mantrachanting – Vermittlung der Lehren\, Meditation und Praxis im Leben. Satsang: Fragen und Antworten aus dem Herzen \nKursgebühr: 90 € für 10 Abende\nDana für den Lehrer und das Buddha-Haus München
URL:https://buddhahaus-muenchen.de/event/charlie-pils-vipassana-einsicht-in-die-natur-des-lebens-kurs-k-5/2025-09-24/
LOCATION:Buddha-Haus München
CATEGORIES:Meditationskurse unter der Woche,Online
ATTACH;FMTTYPE=image/jpeg:https://buddhahaus-muenchen.de/wp-content/uploads/2021/11/charlie_Kachel01.jpg
END:VEVENT
BEGIN:VEVENT
DTSTART;TZID=Europe/Berlin:20250925T080000
DTEND;TZID=Europe/Berlin:20250925T084500
DTSTAMP:20260421T184230
CREATED:20241014T103244Z
LAST-MODIFIED:20251108T193846Z
UID:40833-1758787200-1758789900@buddhahaus-muenchen.de
SUMMARY:Online Morgenmeditation
DESCRIPTION:Wo auch immer ihr eure Morgen verbringt: wir laden euch zur Online-Morgenmeditation mit einer Hineinführung in die Stille Meditation via Zoom ein. Bitte nutze die Anmeldefunktion. Den Zugang zur Online-Meditation erhältst Du direkt im Anschluss per Email. \n\nAnleiter:\nMontag – Heinz Roiger\nDienstag – Rita Paulus\nMittwoch – Romy Schlichting\nDonnerstag – Romy Schlichting\nFreitag – Romy Schlichting \nAnmeldung: Bitte nutze die Anmeldung. Den Zugang zur Online Meditation bekommst du im Anschluss direkt per Email!\nKosten: Dana: freiwillige Spende für LehrerIn und für das Meditationszentrum München
URL:https://buddhahaus-muenchen.de/event/online-morgenmeditation/2025-09-25/
LOCATION:Buddha-Haus München
CATEGORIES:Online
ATTACH;FMTTYPE=image/png:https://buddhahaus-muenchen.de/wp-content/uploads/2024/10/Muenchen-Web-Kursseite3.png
END:VEVENT
BEGIN:VEVENT
DTSTART;TZID=Europe/Berlin:20250926T080000
DTEND;TZID=Europe/Berlin:20250926T084500
DTSTAMP:20260421T184230
CREATED:20241014T103244Z
LAST-MODIFIED:20251108T193846Z
UID:45371-1758873600-1758876300@buddhahaus-muenchen.de
SUMMARY:Online Morgenmeditation
DESCRIPTION:Wo auch immer ihr eure Morgen verbringt: wir laden euch zur Online-Morgenmeditation mit einer Hineinführung in die Stille Meditation via Zoom ein. Bitte nutze die Anmeldefunktion. Den Zugang zur Online-Meditation erhältst Du direkt im Anschluss per Email. \n\nAnleiter:\nMontag – Heinz Roiger\nDienstag – Rita Paulus\nMittwoch – Romy Schlichting\nDonnerstag – Romy Schlichting\nFreitag – Romy Schlichting \nAnmeldung: Bitte nutze die Anmeldung. Den Zugang zur Online Meditation bekommst du im Anschluss direkt per Email!\nKosten: Dana: freiwillige Spende für LehrerIn und für das Meditationszentrum München
URL:https://buddhahaus-muenchen.de/event/online-morgenmeditation/2025-09-26/
LOCATION:Buddha-Haus München
CATEGORIES:Online
ATTACH;FMTTYPE=image/png:https://buddhahaus-muenchen.de/wp-content/uploads/2024/10/Muenchen-Web-Kursseite3.png
END:VEVENT
BEGIN:VEVENT
DTSTART;TZID=Europe/Berlin:20250926T150000
DTEND;TZID=Europe/Berlin:20250926T180000
DTSTAMP:20260421T184230
CREATED:20241111T125304Z
LAST-MODIFIED:20250304T074000Z
UID:41670-1758898800-1758909600@buddhahaus-muenchen.de
SUMMARY:Romy Schlichting: Jahreskurs - Mit dem Fluss des Lebens: Heilsame Praktiken für Veränderung und Akzeptanz – Kurs K-8
DESCRIPTION:Als Menschen nehmen wir alle teil am ewigen Tanz von Vergnügen und Schmerz\, Gewinn und Verlust\, Lob und Tadel\, Geburt und Tod. \nDas\, was ist\, können wir nur zu einem kleinen Teil beeinflussen. Wie wir damit umgehen\, das liegt in unserer Hand. \nBuddhas Lehrreden geben uns Orientierung und Anleitung zu einer Geistesentwicklung\, die uns geschickt und heilsam mit dem Auf und Ab des Lebens umgehen lässt –  zum Wohlergehen von uns selbst und anderen. \nIn diesem Kurs geht es darum\, auf der Basis von Buddhas Lehre inmitten aller Veränderungen\, die das Leben mit sich bringt\, Freude\, Vertrauen\, Wohlwollen und andere positive Geisteshaltungen zu entwickeln und zu stärken. \nWir lernen eine weise Sicht auf das Leben kennen\, die uns darin unterstützt\, uns aus Verwicklungen zu lösen und in einen harmonischen Tanz mit dem\, was ist\, zu kommen. \nDas Kursformat unterstützt ein „Dranbleiben“ und eine Ausrichtung auf das Wesentliche im Auf und Ab des Lebens. \nAußerdem bietet der Jahreskurs die Chance\, über einen langen Zeitraum persönlich von einer erfahrenen Lehrerin begleitet zu werden\, eine kontinuierliche buddhistische Praxis im Alltag aufzubauen und unterstützende Weggemeinschaften zu bilden. \nWir treffen uns in monatlichen Abständen über den Zeitraum eines Jahres. \nFür die Zeit zwischen den monatlichen Treffen erhältst du Unterlagen und Audios\, die dich in deiner Alltagspraxis unterstützen und – wenn du möchtest – einen Austauschpartner („buddy“) aus der Gruppe. \nTermine: \nFreitags jeweils von 15 – 18 Uhr an folgenden Daten \n28.2./7.3./4.4./23.5./20.6./18.7./26.9./17.10./14.11./12.12.2025 \nDie Teilnehmerzahl ist begrenzt. \nKursgebühr: 240 Euro incl. Audioanleitung und Kursmaterialien (Ermäßigung nach Absprache) \nOrgagebühr Buddha-Haus München: 60 Euro
URL:https://buddhahaus-muenchen.de/event/romy-schlichting-jahreskurs-mit-dem-fluss-des-lebens-heilsame-praktiken-fuer-veraenderung-und-akzeptanz-kurs-k-8/2025-09-26/
LOCATION:Buddha-Haus München
CATEGORIES:Meditationskurse unter der Woche
ATTACH;FMTTYPE=image/jpeg:https://buddhahaus-muenchen.de/wp-content/uploads/2023/01/romy_neu_hoch.jpg
END:VEVENT
BEGIN:VEVENT
DTSTART;TZID=Europe/Berlin:20250926T190000
DTEND;TZID=Europe/Berlin:20250926T210000
DTSTAMP:20260421T184230
CREATED:20240730T101201Z
LAST-MODIFIED:20251202T064306Z
UID:39026-1758913200-1758920400@buddhahaus-muenchen.de
SUMMARY:Ayya Khema Abend: Freitagsmeditation mit Norbert / Alexander
DESCRIPTION:Gemeinsames Praktizieren von Anfängern und Fortgeschrittenen mit angeleiteten und stillen Einsichts- und Mitgefühlsmeditationen (Vipassana\, Metta)\,  Gehmeditation\, Videovorträgen von Ayya Khema sowie die Möglichkeit\, Fragen zur Lehre und zur eigenen Meditationspraxis zu stellen. \nBesetzung: \n05.12.25 Alexander\n12.12.25 Linda\n19.12.25 Norbert \nDer Abend entfällt wenn ein öffentlicher Vortrag zum Wochenend-Kurs stattfindet. \nNorbert Wildgruber und Alexander Weicker leiten die Abende an. \n  \nKosten: Dana: freiwillige Spende für LehrerIn und für das Meditationszentrum München (Empfehlung 10-20 €)\nAnmeldung: Eine Anmeldung für diesen Abend ist nicht nötig
URL:https://buddhahaus-muenchen.de/event/ayya-khema-abend-freitagsmeditation-mit-norbert-alexander-3/2025-09-26/
LOCATION:Buddha-Haus München
CATEGORIES:Offene Meditationsabende
ATTACH;FMTTYPE=image/png:https://buddhahaus-muenchen.de/wp-content/uploads/2021/11/2.png
END:VEVENT
BEGIN:VEVENT
DTSTART;TZID=Europe/Berlin:20250927T090000
DTEND;TZID=Europe/Berlin:20250928T130000
DTSTAMP:20260421T184230
CREATED:20240927T102748Z
LAST-MODIFIED:20241014T130634Z
UID:40158-1758963600-1759064400@buddhahaus-muenchen.de
SUMMARY:Charlie Pils: Samvega - Aufbruch  in ein neues Bewusstsein | Kurs W - 16
DESCRIPTION:„Aufwachen“\, „Befreiung“ „Verwirklichung“ sind Worte der Sehnsucht nach Vollkommenheit\, dem Durst nach Wahrheit\, dem Wunsch nach einem lebenswerten Leben ohne Lebensängste. \nMit dem Erwecken und Entfalten einer rechten Geisteshaltung betrittst du die meditativen Wege in die Reinheit deines Seins\, aus der sich eine gewaltlose innere und äußere Welt des Friedens gestalten möchte. Geh deinen Weg in eine neue Welt\, erkenne deine Bestimmung und lebe im Einklang mit den Lebensgesetzen in einer sinnhaften Welt voller Lebensfreude\, Liebe und Mitgefühl. \nEin Wochenende\, das Mut machen soll für das Durchschreiten der transformativen Reinigungsprozesse im Weg der Geistesentfaltung auf dem Kissen und mitten im Leben   – immer Jetzt. \nStille und geleitete Meditationen – Mantrachanting – Vermittlung der Lehren\, Meditation und Praxis im Leben. Satsang: Fragen und Antworten aus dem Herzen. \n  \nKursgebühr: 70 €\nOrgagebühr: 30 €\nDana für den Lehrer und das Buddha-Haus München
URL:https://buddhahaus-muenchen.de/event/charlie-pils-samvega-aufbruch-in-ein-neues-bewusstsein-kurs-w-16/
LOCATION:Buddha-Haus München
CATEGORIES:Besonders geeignete Wochenendkurse,Online,Wochenendseminare
ATTACH;FMTTYPE=image/jpeg:https://buddhahaus-muenchen.de/wp-content/uploads/2021/11/charlie_Kachel01.jpg
END:VEVENT
END:VCALENDAR